BEGIN:VCALENDAR
VERSION:2.0
PRODID:-//QuickScores.com//BQ Dynamic iCal Creator//EN
METHOD:PUBLISH
X-WR-CALNAME:Altman/Altman - Fmg Thursday Spring Rec Lg. - Completed Leagues 2023/24
X-WR-CALDESC:QuickScores game calendar
X-PUBLISHED-TTL:PT24H
REFRESH-INTERVAL;VALUE=DURATION:PT24H
CALSCALE:GREGORIAN
BEGIN:VTIMEZONE
TZID:America/Chicago
X-LIC-LOCATION:America/Chicago
BEGIN:DAYLIGHT
TZNAME:CDT
TZOFFSETFROM:-0600
TZOFFSETTO:-0500
DTSTART:19700308T020000
RRULE:FREQ=YEARLY;BYMONTH=3;BYDAY=2SU
END:DAYLIGHT
BEGIN:STANDARD
TZNAME:CST
TZOFFSETFROM:-0500
TZOFFSETTO:-0600
DTSTART:19701101T020000
RRULE:FREQ=YEARLY;BYMONTH=11;BYDAY=1SU
END:STANDARD
END:VTIMEZONE
BEGIN:VEVENT
UID:pupc-62527366-20240404T200000@quickscores.com
DTSTAMP:20260422T022500Z
DTSTART;TZID=America/Chicago:20240404T200000
DURATION:PT0H40M0S
SUMMARY:Rush/Rush vs. Altman/Altman
DESCRIPTION:Fmg Thursday Spring Rec Lg. - Paddle Up Pickleball Club
LOCATION:FMG Court 5
CATEGORIES:QuickScores, Pickleball Game
TRANSP:OPAQUE
BEGIN:VALARM
TRIGGER:-PT2H
ACTION:DISPLAY
DESCRIPTION:Rush/Rush vs. Altman/Altman
END:VALARM
END:VEVENT
BEGIN:VEVENT
UID:pupc-62527367-20240404T204000@quickscores.com
DTSTAMP:20260422T022500Z
DTSTART;TZID=America/Chicago:20240404T204000
DURATION:PT0H40M0S
SUMMARY:Litzelfelner/Litzelfelner vs. Altman/Altman
DESCRIPTION:Fmg Thursday Spring Rec Lg. - Paddle Up Pickleball Club
LOCATION:FMG Court 6
CATEGORIES:QuickScores, Pickleball Game
TRANSP:OPAQUE
BEGIN:VALARM
TRIGGER:-PT2H
ACTION:DISPLAY
DESCRIPTION:Litzelfelner/Litzelfelner vs. Altman/Altman
END:VALARM
END:VEVENT
BEGIN:VEVENT
UID:pupc-62527395-20240411T192000@quickscores.com
DTSTAMP:20260422T022500Z
DTSTART;TZID=America/Chicago:20240411T192000
DURATION:PT0H40M0S
SUMMARY:Deeken/Thornhill vs. Altman/Altman
DESCRIPTION:Fmg Thursday Spring Rec Lg. - Paddle Up Pickleball Club
LOCATION:FMG Court 5
CATEGORIES:QuickScores, Pickleball Game
TRANSP:OPAQUE
BEGIN:VALARM
TRIGGER:-PT2H
ACTION:DISPLAY
DESCRIPTION:Deeken/Thornhill vs. Altman/Altman
END:VALARM
END:VEVENT
BEGIN:VEVENT
UID:pupc-62527396-20240411T200000@quickscores.com
DTSTAMP:20260422T022500Z
DTSTART;TZID=America/Chicago:20240411T200000
DURATION:PT0H40M0S
SUMMARY:Altman/Altman vs. Chronister/Chronister
DESCRIPTION:Fmg Thursday Spring Rec Lg. - Paddle Up Pickleball Club
LOCATION:FMG Court 5
CATEGORIES:QuickScores, Pickleball Game
TRANSP:OPAQUE
BEGIN:VALARM
TRIGGER:-PT2H
ACTION:DISPLAY
DESCRIPTION:Altman/Altman vs. Chronister/Chronister
END:VALARM
END:VEVENT
BEGIN:VEVENT
UID:pupc-62527438-20240425T200000@quickscores.com
DTSTAMP:20260422T022500Z
DTSTART;TZID=America/Chicago:20240425T200000
DURATION:PT0H40M0S
SUMMARY:Hall/Kissel vs. Altman/Altman
DESCRIPTION:Fmg Thursday Spring Rec Lg. - Paddle Up Pickleball Club
LOCATION:FMG Court 3
CATEGORIES:QuickScores, Pickleball Game
TRANSP:OPAQUE
BEGIN:VALARM
TRIGGER:-PT2H
ACTION:DISPLAY
DESCRIPTION:Hall/Kissel vs. Altman/Altman
END:VALARM
END:VEVENT
BEGIN:VEVENT
UID:pupc-62527439-20240425T204000@quickscores.com
DTSTAMP:20260422T022500Z
DTSTART;TZID=America/Chicago:20240425T204000
DURATION:PT0H40M0S
SUMMARY:Altman/Altman vs. Taylor/Taylor
DESCRIPTION:Fmg Thursday Spring Rec Lg. - Paddle Up Pickleball Club
LOCATION:FMG Court 3
CATEGORIES:QuickScores, Pickleball Game
TRANSP:OPAQUE
BEGIN:VALARM
TRIGGER:-PT2H
ACTION:DISPLAY
DESCRIPTION:Altman/Altman vs. Taylor/Taylor
END:VALARM
END:VEVENT
BEGIN:VEVENT
UID:pupc-63224840-20240502T192000@quickscores.com
DTSTAMP:20260422T022500Z
DTSTART;TZID=America/Chicago:20240502T192000
DURATION:PT0H40M0S
SUMMARY:Altman/Altman vs. Langston/Luber
DESCRIPTION:Fmg Thursday Spring Rec Lg. - Paddle Up Pickleball Club
LOCATION:FMG Court 4
CATEGORIES:QuickScores, Pickleball Game
TRANSP:OPAQUE
BEGIN:VALARM
TRIGGER:-PT2H
ACTION:DISPLAY
DESCRIPTION:Altman/Altman vs. Langston/Luber
END:VALARM
END:VEVENT
BEGIN:VEVENT
UID:pupc-62527412-20240509T184000@quickscores.com
DTSTAMP:20260422T022500Z
DTSTART;TZID=America/Chicago:20240509T184000
DURATION:PT0H40M0S
SUMMARY:Patterson/Schreck vs. Altman/Altman
DESCRIPTION:Fmg Thursday Spring Rec Lg. - Paddle Up Pickleball Club
LOCATION:FMG Court 4
CATEGORIES:QuickScores, Pickleball Game
TRANSP:OPAQUE
BEGIN:VALARM
TRIGGER:-PT2H
ACTION:DISPLAY
DESCRIPTION:Patterson/Schreck vs. Altman/Altman
END:VALARM
END:VEVENT
BEGIN:VEVENT
UID:pupc-62527415-20240509T192000@quickscores.com
DTSTAMP:20260422T022500Z
DTSTART;TZID=America/Chicago:20240509T192000
DURATION:PT0H40M0S
SUMMARY:Marston/Kalkbrenner vs. Altman/Altman
DESCRIPTION:Fmg Thursday Spring Rec Lg. - Paddle Up Pickleball Club
LOCATION:FMG Court 5
CATEGORIES:QuickScores, Pickleball Game
TRANSP:OPAQUE
BEGIN:VALARM
TRIGGER:-PT2H
ACTION:DISPLAY
DESCRIPTION:Marston/Kalkbrenner vs. Altman/Altman
END:VALARM
END:VEVENT
BEGIN:VEVENT
UID:pupc-62527448-20240516T192000@quickscores.com
DTSTAMP:20260422T022500Z
DTSTART;TZID=America/Chicago:20240516T192000
DURATION:PT0H40M0S
SUMMARY:Altman/Altman vs. Langston/Luber
DESCRIPTION:Fmg Thursday Spring Rec Lg. - Paddle Up Pickleball Club
LOCATION:FMG Court 4
CATEGORIES:QuickScores, Pickleball Game
TRANSP:OPAQUE
BEGIN:VALARM
TRIGGER:-PT2H
ACTION:DISPLAY
DESCRIPTION:Altman/Altman vs. Langston/Luber
END:VALARM
END:VEVENT
BEGIN:VEVENT
UID:pupc-62527447-20240516T204000@quickscores.com
DTSTAMP:20260422T022500Z
DTSTART;TZID=America/Chicago:20240516T204000
DURATION:PT0H40M0S
SUMMARY:Kempker/Kempker vs. Altman/Altman
DESCRIPTION:Fmg Thursday Spring Rec Lg. - Paddle Up Pickleball Club
LOCATION:FMG Court 4
CATEGORIES:QuickScores, Pickleball Game
TRANSP:OPAQUE
BEGIN:VALARM
TRIGGER:-PT2H
ACTION:DISPLAY
DESCRIPTION:Kempker/Kempker vs. Altman/Altman
END:VALARM
END:VEVENT
BEGIN:VEVENT
UID:pupc-63463646-20240523T180000@quickscores.com
DTSTAMP:20260422T022500Z
DTSTART;TZID=America/Chicago:20240523T180000
DURATION:PT0H30M0S
SUMMARY:[5] Taylor/Taylor vs. [12] Altman/Altman
DESCRIPTION:Fmg Thursday Spring Rec Lg. - Paddle Up Pickleball Club
LOCATION:FMG Court 1
CATEGORIES:QuickScores, Pickleball Game
TRANSP:OPAQUE
BEGIN:VALARM
TRIGGER:-PT2H
ACTION:DISPLAY
DESCRIPTION:[5] Taylor/Taylor vs. [12] Altman/Altman
END:VALARM
END:VEVENT
END:VCALENDAR
