BEGIN:VCALENDAR
VERSION:2.0
PRODID:-//QuickScores.com//BQ Dynamic iCal Creator//EN
METHOD:PUBLISH
X-WR-CALNAME:Bennett/Jantho - Forest Park Monday Spring Competitive Lg. 24 - Completed Leagues 2023/24
X-WR-CALDESC:QuickScores game calendar
X-PUBLISHED-TTL:PT24H
REFRESH-INTERVAL;VALUE=DURATION:PT24H
CALSCALE:GREGORIAN
BEGIN:VTIMEZONE
TZID:America/Chicago
X-LIC-LOCATION:America/Chicago
BEGIN:DAYLIGHT
TZNAME:CDT
TZOFFSETFROM:-0600
TZOFFSETTO:-0500
DTSTART:19700308T020000
RRULE:FREQ=YEARLY;BYMONTH=3;BYDAY=2SU
END:DAYLIGHT
BEGIN:STANDARD
TZNAME:CST
TZOFFSETFROM:-0500
TZOFFSETTO:-0600
DTSTART:19701101T020000
RRULE:FREQ=YEARLY;BYMONTH=11;BYDAY=1SU
END:STANDARD
END:VTIMEZONE
BEGIN:VEVENT
UID:pupc-62437681-20240408T180000@quickscores.com
DTSTAMP:20260424T192800Z
DTSTART;TZID=America/Chicago:20240408T180000
DURATION:PT0H40M0S
SUMMARY:Erickson/Mundle vs. Bennett/Jantho
DESCRIPTION:Forest Park Monday Spring Competitive Lg. 24 - Paddle Up Pickleball Club
LOCATION:DDTC Court 21
CATEGORIES:QuickScores, Pickleball Game
TRANSP:OPAQUE
BEGIN:VALARM
TRIGGER:-PT2H
ACTION:DISPLAY
DESCRIPTION:Erickson/Mundle vs. Bennett/Jantho
END:VALARM
END:VEVENT
BEGIN:VEVENT
UID:pupc-62437682-20240408T192000@quickscores.com
DTSTAMP:20260424T192800Z
DTSTART;TZID=America/Chicago:20240408T192000
DURATION:PT0H40M0S
SUMMARY:Bennett/Jantho vs. Davis/Gillen
DESCRIPTION:Forest Park Monday Spring Competitive Lg. 24 - Paddle Up Pickleball Club
LOCATION:DDTC Court 13N
CATEGORIES:QuickScores, Pickleball Game
TRANSP:OPAQUE
BEGIN:VALARM
TRIGGER:-PT2H
ACTION:DISPLAY
DESCRIPTION:Bennett/Jantho vs. Davis/Gillen
END:VALARM
END:VEVENT
BEGIN:VEVENT
UID:pupc-62437687-20240415T184000@quickscores.com
DTSTAMP:20260424T192800Z
DTSTART;TZID=America/Chicago:20240415T184000
DURATION:PT0H40M0S
SUMMARY:Goble/Wagner vs. Bennett/Jantho
DESCRIPTION:Forest Park Monday Spring Competitive Lg. 24 - Paddle Up Pickleball Club
LOCATION:DDTC Court 21
CATEGORIES:QuickScores, Pickleball Game
TRANSP:OPAQUE
BEGIN:VALARM
TRIGGER:-PT2H
ACTION:DISPLAY
DESCRIPTION:Goble/Wagner vs. Bennett/Jantho
END:VALARM
END:VEVENT
BEGIN:VEVENT
UID:pupc-62437686-20240415T192000@quickscores.com
DTSTAMP:20260424T192800Z
DTSTART;TZID=America/Chicago:20240415T192000
DURATION:PT0H40M0S
SUMMARY:Bennett/Jantho vs. Zeman/Zeman
DESCRIPTION:Forest Park Monday Spring Competitive Lg. 24 - Paddle Up Pickleball Club
LOCATION:DDTC Court 21
CATEGORIES:QuickScores, Pickleball Game
TRANSP:OPAQUE
BEGIN:VALARM
TRIGGER:-PT2H
ACTION:DISPLAY
DESCRIPTION:Bennett/Jantho vs. Zeman/Zeman
END:VALARM
END:VEVENT
BEGIN:VEVENT
UID:pupc-62437697-20240422T184000@quickscores.com
DTSTAMP:20260424T192800Z
DTSTART;TZID=America/Chicago:20240422T184000
DURATION:PT0H40M0S
SUMMARY:Baker/Olsen vs. Bennett/Jantho
DESCRIPTION:Forest Park Monday Spring Competitive Lg. 24 - Paddle Up Pickleball Club
LOCATION:DDTC Court 21
CATEGORIES:QuickScores, Pickleball Game
TRANSP:OPAQUE
BEGIN:VALARM
TRIGGER:-PT2H
ACTION:DISPLAY
DESCRIPTION:Baker/Olsen vs. Bennett/Jantho
END:VALARM
END:VEVENT
BEGIN:VEVENT
UID:pupc-62437696-20240422T192000@quickscores.com
DTSTAMP:20260424T192800Z
DTSTART;TZID=America/Chicago:20240422T192000
DURATION:PT0H40M0S
SUMMARY:Davis/Gillen vs. Bennett/Jantho
DESCRIPTION:Forest Park Monday Spring Competitive Lg. 24 - Paddle Up Pickleball Club
LOCATION:DDTC Court 21
CATEGORIES:QuickScores, Pickleball Game
TRANSP:OPAQUE
BEGIN:VALARM
TRIGGER:-PT2H
ACTION:DISPLAY
DESCRIPTION:Davis/Gillen vs. Bennett/Jantho
END:VALARM
END:VEVENT
BEGIN:VEVENT
UID:pupc-62437700-20240429T200000@quickscores.com
DTSTAMP:20260424T192800Z
DTSTART;TZID=America/Chicago:20240429T200000
DURATION:PT0H40M0S
SUMMARY:Zeman/Zeman vs. Bennett/Jantho
DESCRIPTION:Forest Park Monday Spring Competitive Lg. 24 - Paddle Up Pickleball Club
LOCATION:DDTC Court 13N
CATEGORIES:QuickScores, Pickleball Game
TRANSP:OPAQUE
BEGIN:VALARM
TRIGGER:-PT2H
ACTION:DISPLAY
DESCRIPTION:Zeman/Zeman vs. Bennett/Jantho
END:VALARM
END:VEVENT
BEGIN:VEVENT
UID:pupc-62437701-20240429T204000@quickscores.com
DTSTAMP:20260424T192800Z
DTSTART;TZID=America/Chicago:20240429T204000
DURATION:PT0H40M0S
SUMMARY:Bennett/Jantho vs. Goble/Wagner
DESCRIPTION:Forest Park Monday Spring Competitive Lg. 24 - Paddle Up Pickleball Club
LOCATION:DDTC Court 21
CATEGORIES:QuickScores, Pickleball Game
TRANSP:OPAQUE
BEGIN:VALARM
TRIGGER:-PT2H
ACTION:DISPLAY
DESCRIPTION:Bennett/Jantho vs. Goble/Wagner
END:VALARM
END:VEVENT
BEGIN:VEVENT
UID:pupc-62437676-20240506T192000@quickscores.com
DTSTAMP:20260424T192800Z
DTSTART;TZID=America/Chicago:20240506T192000
DURATION:PT0H40M0S
SUMMARY:Baker/Olsen vs. Bennett/Jantho
DESCRIPTION:Forest Park Monday Spring Competitive Lg. 24 - Paddle Up Pickleball Club
LOCATION:DDTC Court 13N
CATEGORIES:QuickScores, Pickleball Game
TRANSP:OPAQUE
BEGIN:VALARM
TRIGGER:-PT2H
ACTION:DISPLAY
DESCRIPTION:Baker/Olsen vs. Bennett/Jantho
END:VALARM
END:VEVENT
BEGIN:VEVENT
UID:pupc-62437670-20240506T200000@quickscores.com
DTSTAMP:20260424T192800Z
DTSTART;TZID=America/Chicago:20240506T200000
DURATION:PT0H40M0S
SUMMARY:Bennett/Jantho vs. Harris/Hannigan
DESCRIPTION:Forest Park Monday Spring Competitive Lg. 24 - Paddle Up Pickleball Club
LOCATION:DDTC Court 13N
CATEGORIES:QuickScores, Pickleball Game
TRANSP:OPAQUE
BEGIN:VALARM
TRIGGER:-PT2H
ACTION:DISPLAY
DESCRIPTION:Bennett/Jantho vs. Harris/Hannigan
END:VALARM
END:VEVENT
BEGIN:VEVENT
UID:pupc-63291540-20240603T190000@quickscores.com
DTSTAMP:20260424T192800Z
DTSTART;TZID=America/Chicago:20240603T190000
DURATION:PT0H30M0S
SUMMARY:[1] Bennett/Jantho vs. [8] Zeman/Zeman
DESCRIPTION:Forest Park Monday Spring Competitive Lg. 24 - Paddle Up Pickleball Club
LOCATION:DDTC Court 13S
CATEGORIES:QuickScores, Pickleball Game
TRANSP:OPAQUE
BEGIN:VALARM
TRIGGER:-PT2H
ACTION:DISPLAY
DESCRIPTION:[1] Bennett/Jantho vs. [8] Zeman/Zeman
END:VALARM
END:VEVENT
BEGIN:VEVENT
UID:pupc-63291544-20240603T200000@quickscores.com
DTSTAMP:20260424T192800Z
DTSTART;TZID=America/Chicago:20240603T200000
DURATION:PT0H30M0S
SUMMARY:[1] Bennett/Jantho vs. [5] Baker/Olsen
DESCRIPTION:Forest Park Monday Spring Competitive Lg. 24 - Paddle Up Pickleball Club
LOCATION:DDTC Court 19
CATEGORIES:QuickScores, Pickleball Game
TRANSP:OPAQUE
BEGIN:VALARM
TRIGGER:-PT2H
ACTION:DISPLAY
DESCRIPTION:[1] Bennett/Jantho vs. [5] Baker/Olsen
END:VALARM
END:VEVENT
BEGIN:VEVENT
UID:pupc-63291546-20240603T203000@quickscores.com
DTSTAMP:20260424T192800Z
DTSTART;TZID=America/Chicago:20240603T203000
DURATION:PT0H30M0S
SUMMARY:[1] Bennett/Jantho vs. [3] Davis/Gillen
DESCRIPTION:Forest Park Monday Spring Competitive Lg. 24 - Paddle Up Pickleball Club
LOCATION:DDTC Court 19
CATEGORIES:QuickScores, Pickleball Game
TRANSP:OPAQUE
BEGIN:VALARM
TRIGGER:-PT2H
ACTION:DISPLAY
DESCRIPTION:[1] Bennett/Jantho vs. [3] Davis/Gillen
END:VALARM
END:VEVENT
END:VCALENDAR
