BEGIN:VCALENDAR
VERSION:2.0
PRODID:-//QuickScores.com//BQ Dynamic iCal Creator//EN
METHOD:PUBLISH
X-WR-CALNAME:Harris/Hannigan - Forest Park Monday Spring Competitive Lg. 24 - Completed Leagues 2023/24
X-WR-CALDESC:QuickScores game calendar
X-PUBLISHED-TTL:PT24H
REFRESH-INTERVAL;VALUE=DURATION:PT24H
CALSCALE:GREGORIAN
BEGIN:VTIMEZONE
TZID:America/Chicago
X-LIC-LOCATION:America/Chicago
BEGIN:DAYLIGHT
TZNAME:CDT
TZOFFSETFROM:-0600
TZOFFSETTO:-0500
DTSTART:19700308T020000
RRULE:FREQ=YEARLY;BYMONTH=3;BYDAY=2SU
END:DAYLIGHT
BEGIN:STANDARD
TZNAME:CST
TZOFFSETFROM:-0500
TZOFFSETTO:-0600
DTSTART:19701101T020000
RRULE:FREQ=YEARLY;BYMONTH=11;BYDAY=1SU
END:STANDARD
END:VTIMEZONE
BEGIN:VEVENT
UID:pupc-62437679-20240408T192000@quickscores.com
DTSTAMP:20260425T081100Z
DTSTART;TZID=America/Chicago:20240408T192000
DURATION:PT0H40M0S
SUMMARY:Harris/Hannigan vs. Zeman/Zeman
DESCRIPTION:Forest Park Monday Spring Competitive Lg. 24 - Paddle Up Pickleball Club
LOCATION:DDTC Court 21
CATEGORIES:QuickScores, Pickleball Game
TRANSP:OPAQUE
BEGIN:VALARM
TRIGGER:-PT2H
ACTION:DISPLAY
DESCRIPTION:Harris/Hannigan vs. Zeman/Zeman
END:VALARM
END:VEVENT
BEGIN:VEVENT
UID:pupc-62437678-20240408T200000@quickscores.com
DTSTAMP:20260425T081100Z
DTSTART;TZID=America/Chicago:20240408T200000
DURATION:PT0H40M0S
SUMMARY:Goble/Wagner vs. Harris/Hannigan
DESCRIPTION:Forest Park Monday Spring Competitive Lg. 24 - Paddle Up Pickleball Club
LOCATION:DDTC Court 21
CATEGORIES:QuickScores, Pickleball Game
TRANSP:OPAQUE
BEGIN:VALARM
TRIGGER:-PT2H
ACTION:DISPLAY
DESCRIPTION:Goble/Wagner vs. Harris/Hannigan
END:VALARM
END:VEVENT
BEGIN:VEVENT
UID:pupc-62437690-20240415T200000@quickscores.com
DTSTAMP:20260425T081100Z
DTSTART;TZID=America/Chicago:20240415T200000
DURATION:PT0H40M0S
SUMMARY:Harris/Hannigan vs. Baker/Olsen
DESCRIPTION:Forest Park Monday Spring Competitive Lg. 24 - Paddle Up Pickleball Club
LOCATION:DDTC Court 13N
CATEGORIES:QuickScores, Pickleball Game
TRANSP:OPAQUE
BEGIN:VALARM
TRIGGER:-PT2H
ACTION:DISPLAY
DESCRIPTION:Harris/Hannigan vs. Baker/Olsen
END:VALARM
END:VEVENT
BEGIN:VEVENT
UID:pupc-62437684-20240415T204000@quickscores.com
DTSTAMP:20260425T081100Z
DTSTART;TZID=America/Chicago:20240415T204000
DURATION:PT0H40M0S
SUMMARY:Harris/Hannigan vs. Davis/Gillen
DESCRIPTION:Forest Park Monday Spring Competitive Lg. 24 - Paddle Up Pickleball Club
LOCATION:DDTC Court 21
CATEGORIES:QuickScores, Pickleball Game
TRANSP:OPAQUE
BEGIN:VALARM
TRIGGER:-PT2H
ACTION:DISPLAY
DESCRIPTION:Harris/Hannigan vs. Davis/Gillen
END:VALARM
END:VEVENT
BEGIN:VEVENT
UID:pupc-62437695-20240422T200000@quickscores.com
DTSTAMP:20260425T081100Z
DTSTART;TZID=America/Chicago:20240422T200000
DURATION:PT0H40M0S
SUMMARY:Harris/Hannigan vs. Erickson/Mundle
DESCRIPTION:Forest Park Monday Spring Competitive Lg. 24 - Paddle Up Pickleball Club
LOCATION:DDTC Court 21
CATEGORIES:QuickScores, Pickleball Game
TRANSP:OPAQUE
BEGIN:VALARM
TRIGGER:-PT2H
ACTION:DISPLAY
DESCRIPTION:Harris/Hannigan vs. Erickson/Mundle
END:VALARM
END:VEVENT
BEGIN:VEVENT
UID:pupc-62878771-20240422T204000@quickscores.com
DTSTAMP:20260425T081100Z
DTSTART;TZID=America/Chicago:20240422T204000
DURATION:PT0H40M0S
SUMMARY:Harris/Hannigan vs. Eisenhart/Eisenhart2
DESCRIPTION:Forest Park Monday Spring Competitive Lg. 24 - Paddle Up Pickleball Club
LOCATION:DDTC Court 12N
CATEGORIES:QuickScores, Pickleball Game
TRANSP:OPAQUE
BEGIN:VALARM
TRIGGER:-PT2H
ACTION:DISPLAY
DESCRIPTION:Harris/Hannigan vs. Eisenhart/Eisenhart2
END:VALARM
END:VEVENT
BEGIN:VEVENT
UID:pupc-62437698-20240429T180000@quickscores.com
DTSTAMP:20260425T081100Z
DTSTART;TZID=America/Chicago:20240429T180000
DURATION:PT0H40M0S
SUMMARY:Davis/Gillen vs. Harris/Hannigan
DESCRIPTION:Forest Park Monday Spring Competitive Lg. 24 - Paddle Up Pickleball Club
LOCATION:DDTC Court 21
CATEGORIES:QuickScores, Pickleball Game
TRANSP:OPAQUE
BEGIN:VALARM
TRIGGER:-PT2H
ACTION:DISPLAY
DESCRIPTION:Davis/Gillen vs. Harris/Hannigan
END:VALARM
END:VEVENT
BEGIN:VEVENT
UID:pupc-62437704-20240429T184000@quickscores.com
DTSTAMP:20260425T081100Z
DTSTART;TZID=America/Chicago:20240429T184000
DURATION:PT0H40M0S
SUMMARY:Baker/Olsen vs. Harris/Hannigan
DESCRIPTION:Forest Park Monday Spring Competitive Lg. 24 - Paddle Up Pickleball Club
LOCATION:DDTC Court 21
CATEGORIES:QuickScores, Pickleball Game
TRANSP:OPAQUE
BEGIN:VALARM
TRIGGER:-PT2H
ACTION:DISPLAY
DESCRIPTION:Baker/Olsen vs. Harris/Hannigan
END:VALARM
END:VEVENT
BEGIN:VEVENT
UID:pupc-62437670-20240506T200000@quickscores.com
DTSTAMP:20260425T081100Z
DTSTART;TZID=America/Chicago:20240506T200000
DURATION:PT0H40M0S
SUMMARY:Bennett/Jantho vs. Harris/Hannigan
DESCRIPTION:Forest Park Monday Spring Competitive Lg. 24 - Paddle Up Pickleball Club
LOCATION:DDTC Court 13N
CATEGORIES:QuickScores, Pickleball Game
TRANSP:OPAQUE
BEGIN:VALARM
TRIGGER:-PT2H
ACTION:DISPLAY
DESCRIPTION:Bennett/Jantho vs. Harris/Hannigan
END:VALARM
END:VEVENT
BEGIN:VEVENT
UID:pupc-62437671-20240506T204000@quickscores.com
DTSTAMP:20260425T081100Z
DTSTART;TZID=America/Chicago:20240506T204000
DURATION:PT0H40M0S
SUMMARY:Harris/Hannigan vs. Erickson/Mundle
DESCRIPTION:Forest Park Monday Spring Competitive Lg. 24 - Paddle Up Pickleball Club
LOCATION:DDTC Court 21
CATEGORIES:QuickScores, Pickleball Game
TRANSP:OPAQUE
BEGIN:VALARM
TRIGGER:-PT2H
ACTION:DISPLAY
DESCRIPTION:Harris/Hannigan vs. Erickson/Mundle
END:VALARM
END:VEVENT
BEGIN:VEVENT
UID:pupc-63291543-20240603T193000@quickscores.com
DTSTAMP:20260425T081100Z
DTSTART;TZID=America/Chicago:20240603T193000
DURATION:PT0H30M0S
SUMMARY:[3] Davis/Gillen vs. [6] Harris/Hannigan
DESCRIPTION:Forest Park Monday Spring Competitive Lg. 24 - Paddle Up Pickleball Club
LOCATION:DDTC Court 13N
CATEGORIES:QuickScores, Pickleball Game
TRANSP:OPAQUE
BEGIN:VALARM
TRIGGER:-PT2H
ACTION:DISPLAY
DESCRIPTION:[3] Davis/Gillen vs. [6] Harris/Hannigan
END:VALARM
END:VEVENT
END:VCALENDAR
