BEGIN:VCALENDAR
VERSION:2.0
PRODID:-//QuickScores.com//BQ Dynamic iCal Creator//EN
METHOD:PUBLISH
X-WR-CALNAME:Miller/Miller - Fmg Monday Spring Rec Lg. 2024 - Completed Leagues 2023/24
X-WR-CALDESC:QuickScores game calendar
X-PUBLISHED-TTL:PT24H
REFRESH-INTERVAL;VALUE=DURATION:PT24H
CALSCALE:GREGORIAN
BEGIN:VTIMEZONE
TZID:America/Chicago
X-LIC-LOCATION:America/Chicago
BEGIN:DAYLIGHT
TZNAME:CDT
TZOFFSETFROM:-0600
TZOFFSETTO:-0500
DTSTART:19700308T020000
RRULE:FREQ=YEARLY;BYMONTH=3;BYDAY=2SU
END:DAYLIGHT
BEGIN:STANDARD
TZNAME:CST
TZOFFSETFROM:-0500
TZOFFSETTO:-0600
DTSTART:19701101T020000
RRULE:FREQ=YEARLY;BYMONTH=11;BYDAY=1SU
END:STANDARD
END:VTIMEZONE
BEGIN:VEVENT
UID:pupc-62432051-20240408T192000@quickscores.com
DTSTAMP:20260421T103400Z
DTSTART;TZID=America/Chicago:20240408T192000
DURATION:PT0H40M0S
SUMMARY:Friese/Yates vs. Miller/Miller
DESCRIPTION:Fmg Monday Spring Rec Lg. 2024 - Paddle Up Pickleball Club
LOCATION:Court 3
CATEGORIES:QuickScores, Pickleball Game
TRANSP:OPAQUE
BEGIN:VALARM
TRIGGER:-PT2H
ACTION:DISPLAY
DESCRIPTION:Friese/Yates vs. Miller/Miller
END:VALARM
END:VEVENT
BEGIN:VEVENT
UID:pupc-62432052-20240408T200000@quickscores.com
DTSTAMP:20260421T103400Z
DTSTART;TZID=America/Chicago:20240408T200000
DURATION:PT0H40M0S
SUMMARY:Smith/Smith vs. Miller/Miller
DESCRIPTION:Fmg Monday Spring Rec Lg. 2024 - Paddle Up Pickleball Club
LOCATION:Court 3
CATEGORIES:QuickScores, Pickleball Game
TRANSP:OPAQUE
BEGIN:VALARM
TRIGGER:-PT2H
ACTION:DISPLAY
DESCRIPTION:Smith/Smith vs. Miller/Miller
END:VALARM
END:VEVENT
BEGIN:VEVENT
UID:pupc-62432076-20240415T192000@quickscores.com
DTSTAMP:20260421T103400Z
DTSTART;TZID=America/Chicago:20240415T192000
DURATION:PT0H40M0S
SUMMARY:Miller/Miller vs. Donovan/Gerleman
DESCRIPTION:Fmg Monday Spring Rec Lg. 2024 - Paddle Up Pickleball Club
LOCATION:Court 3
CATEGORIES:QuickScores, Pickleball Game
TRANSP:OPAQUE
BEGIN:VALARM
TRIGGER:-PT2H
ACTION:DISPLAY
DESCRIPTION:Miller/Miller vs. Donovan/Gerleman
END:VALARM
END:VEVENT
BEGIN:VEVENT
UID:pupc-62432077-20240415T200000@quickscores.com
DTSTAMP:20260421T103400Z
DTSTART;TZID=America/Chicago:20240415T200000
DURATION:PT0H40M0S
SUMMARY:Miller/Miller vs. Ellebrecht/Brewer
DESCRIPTION:Fmg Monday Spring Rec Lg. 2024 - Paddle Up Pickleball Club
LOCATION:Court 4
CATEGORIES:QuickScores, Pickleball Game
TRANSP:OPAQUE
BEGIN:VALARM
TRIGGER:-PT2H
ACTION:DISPLAY
DESCRIPTION:Miller/Miller vs. Ellebrecht/Brewer
END:VALARM
END:VEVENT
BEGIN:VEVENT
UID:pupc-62432082-20240422T180000@quickscores.com
DTSTAMP:20260421T103400Z
DTSTART;TZID=America/Chicago:20240422T180000
DURATION:PT0H40M0S
SUMMARY:Jezik/Gorman vs. Miller/Miller
DESCRIPTION:Fmg Monday Spring Rec Lg. 2024 - Paddle Up Pickleball Club
LOCATION:Court 2
CATEGORIES:QuickScores, Pickleball Game
TRANSP:OPAQUE
BEGIN:VALARM
TRIGGER:-PT2H
ACTION:DISPLAY
DESCRIPTION:Jezik/Gorman vs. Miller/Miller
END:VALARM
END:VEVENT
BEGIN:VEVENT
UID:pupc-62432080-20240422T192000@quickscores.com
DTSTAMP:20260421T103400Z
DTSTART;TZID=America/Chicago:20240422T192000
DURATION:PT0H40M0S
SUMMARY:Miller/Miller vs. Mueller/Mueller
DESCRIPTION:Fmg Monday Spring Rec Lg. 2024 - Paddle Up Pickleball Club
LOCATION:Court 6
CATEGORIES:QuickScores, Pickleball Game
TRANSP:OPAQUE
BEGIN:VALARM
TRIGGER:-PT2H
ACTION:DISPLAY
DESCRIPTION:Miller/Miller vs. Mueller/Mueller
END:VALARM
END:VEVENT
BEGIN:VEVENT
UID:pupc-62432108-20240429T180000@quickscores.com
DTSTAMP:20260421T103400Z
DTSTART;TZID=America/Chicago:20240429T180000
DURATION:PT0H40M0S
SUMMARY:Miller/Miller vs. Casserly/Heritage
DESCRIPTION:Fmg Monday Spring Rec Lg. 2024 - Paddle Up Pickleball Club
LOCATION:Court 4
CATEGORIES:QuickScores, Pickleball Game
TRANSP:OPAQUE
BEGIN:VALARM
TRIGGER:-PT2H
ACTION:DISPLAY
DESCRIPTION:Miller/Miller vs. Casserly/Heritage
END:VALARM
END:VEVENT
BEGIN:VEVENT
UID:pupc-62432096-20240429T184000@quickscores.com
DTSTAMP:20260421T103400Z
DTSTART;TZID=America/Chicago:20240429T184000
DURATION:PT0H40M0S
SUMMARY:Stuesse/Stuesse vs. Miller/Miller
DESCRIPTION:Fmg Monday Spring Rec Lg. 2024 - Paddle Up Pickleball Club
LOCATION:Court 6
CATEGORIES:QuickScores, Pickleball Game
TRANSP:OPAQUE
BEGIN:VALARM
TRIGGER:-PT2H
ACTION:DISPLAY
DESCRIPTION:Stuesse/Stuesse vs. Miller/Miller
END:VALARM
END:VEVENT
BEGIN:VEVENT
UID:pupc-62432037-20240506T180000@quickscores.com
DTSTAMP:20260421T103400Z
DTSTART;TZID=America/Chicago:20240506T180000
DURATION:PT0H40M0S
SUMMARY:Miller/Miller vs. Nestor/Nestor
DESCRIPTION:Fmg Monday Spring Rec Lg. 2024 - Paddle Up Pickleball Club
LOCATION:Court 3
CATEGORIES:QuickScores, Pickleball Game
TRANSP:OPAQUE
BEGIN:VALARM
TRIGGER:-PT2H
ACTION:DISPLAY
DESCRIPTION:Miller/Miller vs. Nestor/Nestor
END:VALARM
END:VEVENT
BEGIN:VEVENT
UID:pupc-62432038-20240506T184000@quickscores.com
DTSTAMP:20260421T103400Z
DTSTART;TZID=America/Chicago:20240506T184000
DURATION:PT0H40M0S
SUMMARY:Miller/Miller vs. Penton/Allen
DESCRIPTION:Fmg Monday Spring Rec Lg. 2024 - Paddle Up Pickleball Club
LOCATION:Court 4
CATEGORIES:QuickScores, Pickleball Game
TRANSP:OPAQUE
BEGIN:VALARM
TRIGGER:-PT2H
ACTION:DISPLAY
DESCRIPTION:Miller/Miller vs. Penton/Allen
END:VALARM
END:VEVENT
BEGIN:VEVENT
UID:pupc-63293695-20240520T183500@quickscores.com
DTSTAMP:20260421T103400Z
DTSTART;TZID=America/Chicago:20240520T183500
DURATION:PT0H35M0S
SUMMARY:[6] Tegeler/Tegeler vs. [11] Miller/Miller
DESCRIPTION:Fmg Monday Spring Rec Lg. 2024 - Paddle Up Pickleball Club
LOCATION:Court 6
CATEGORIES:QuickScores, Pickleball Game
TRANSP:OPAQUE
BEGIN:VALARM
TRIGGER:-PT2H
ACTION:DISPLAY
DESCRIPTION:[6] Tegeler/Tegeler vs. [11] Miller/Miller
END:VALARM
END:VEVENT
END:VCALENDAR
