BEGIN:VCALENDAR
VERSION:2.0
PRODID:-//QuickScores.com//BQ Dynamic iCal Creator//EN
METHOD:PUBLISH
X-WR-CALNAME:Thomas/Thomas - Fmg Monday Spring Rec Lg. 2024 - Completed Leagues 2023/24
X-WR-CALDESC:QuickScores game calendar
X-PUBLISHED-TTL:PT24H
REFRESH-INTERVAL;VALUE=DURATION:PT24H
CALSCALE:GREGORIAN
BEGIN:VTIMEZONE
TZID:America/Chicago
X-LIC-LOCATION:America/Chicago
BEGIN:DAYLIGHT
TZNAME:CDT
TZOFFSETFROM:-0600
TZOFFSETTO:-0500
DTSTART:19700308T020000
RRULE:FREQ=YEARLY;BYMONTH=3;BYDAY=2SU
END:DAYLIGHT
BEGIN:STANDARD
TZNAME:CST
TZOFFSETFROM:-0500
TZOFFSETTO:-0600
DTSTART:19701101T020000
RRULE:FREQ=YEARLY;BYMONTH=11;BYDAY=1SU
END:STANDARD
END:VTIMEZONE
BEGIN:VEVENT
UID:pupc-62432054-20240408T180000@quickscores.com
DTSTAMP:20260424T174700Z
DTSTART;TZID=America/Chicago:20240408T180000
DURATION:PT0H40M0S
SUMMARY:Thomas/Thomas vs. Casserly/Heritage
DESCRIPTION:Fmg Monday Spring Rec Lg. 2024 - Paddle Up Pickleball Club
LOCATION:Court 3
CATEGORIES:QuickScores, Pickleball Game
TRANSP:OPAQUE
BEGIN:VALARM
TRIGGER:-PT2H
ACTION:DISPLAY
DESCRIPTION:Thomas/Thomas vs. Casserly/Heritage
END:VALARM
END:VEVENT
BEGIN:VEVENT
UID:pupc-62432063-20240408T184000@quickscores.com
DTSTAMP:20260424T174700Z
DTSTART;TZID=America/Chicago:20240408T184000
DURATION:PT0H40M0S
SUMMARY:Jezik/Gorman vs. Thomas/Thomas
DESCRIPTION:Fmg Monday Spring Rec Lg. 2024 - Paddle Up Pickleball Club
LOCATION:Court 3
CATEGORIES:QuickScores, Pickleball Game
TRANSP:OPAQUE
BEGIN:VALARM
TRIGGER:-PT2H
ACTION:DISPLAY
DESCRIPTION:Jezik/Gorman vs. Thomas/Thomas
END:VALARM
END:VEVENT
BEGIN:VEVENT
UID:pupc-62432072-20240415T184000@quickscores.com
DTSTAMP:20260424T174700Z
DTSTART;TZID=America/Chicago:20240415T184000
DURATION:PT0H40M0S
SUMMARY:Thomas/Thomas vs. Casserly/Heritage
DESCRIPTION:Fmg Monday Spring Rec Lg. 2024 - Paddle Up Pickleball Club
LOCATION:Court 6
CATEGORIES:QuickScores, Pickleball Game
TRANSP:OPAQUE
BEGIN:VALARM
TRIGGER:-PT2H
ACTION:DISPLAY
DESCRIPTION:Thomas/Thomas vs. Casserly/Heritage
END:VALARM
END:VEVENT
BEGIN:VEVENT
UID:pupc-62432070-20240415T192000@quickscores.com
DTSTAMP:20260424T174700Z
DTSTART;TZID=America/Chicago:20240415T192000
DURATION:PT0H40M0S
SUMMARY:Thomas/Thomas vs. Friese/Yates
DESCRIPTION:Fmg Monday Spring Rec Lg. 2024 - Paddle Up Pickleball Club
LOCATION:Court 6
CATEGORIES:QuickScores, Pickleball Game
TRANSP:OPAQUE
BEGIN:VALARM
TRIGGER:-PT2H
ACTION:DISPLAY
DESCRIPTION:Thomas/Thomas vs. Friese/Yates
END:VALARM
END:VEVENT
BEGIN:VEVENT
UID:pupc-62432084-20240422T192000@quickscores.com
DTSTAMP:20260424T174700Z
DTSTART;TZID=America/Chicago:20240422T192000
DURATION:PT0H40M0S
SUMMARY:Smith/Smith vs. Thomas/Thomas
DESCRIPTION:Fmg Monday Spring Rec Lg. 2024 - Paddle Up Pickleball Club
LOCATION:Court 3
CATEGORIES:QuickScores, Pickleball Game
TRANSP:OPAQUE
BEGIN:VALARM
TRIGGER:-PT2H
ACTION:DISPLAY
DESCRIPTION:Smith/Smith vs. Thomas/Thomas
END:VALARM
END:VEVENT
BEGIN:VEVENT
UID:pupc-62432083-20240422T200000@quickscores.com
DTSTAMP:20260424T174700Z
DTSTART;TZID=America/Chicago:20240422T200000
DURATION:PT0H40M0S
SUMMARY:Thomas/Thomas vs. Nestor/Nestor
DESCRIPTION:Fmg Monday Spring Rec Lg. 2024 - Paddle Up Pickleball Club
LOCATION:Court 2
CATEGORIES:QuickScores, Pickleball Game
TRANSP:OPAQUE
BEGIN:VALARM
TRIGGER:-PT2H
ACTION:DISPLAY
DESCRIPTION:Thomas/Thomas vs. Nestor/Nestor
END:VALARM
END:VEVENT
BEGIN:VEVENT
UID:pupc-62432103-20240429T192000@quickscores.com
DTSTAMP:20260424T174700Z
DTSTART;TZID=America/Chicago:20240429T192000
DURATION:PT0H40M0S
SUMMARY:Thomas/Thomas vs. Jezik/Gorman
DESCRIPTION:Fmg Monday Spring Rec Lg. 2024 - Paddle Up Pickleball Club
LOCATION:Court 5
CATEGORIES:QuickScores, Pickleball Game
TRANSP:OPAQUE
BEGIN:VALARM
TRIGGER:-PT2H
ACTION:DISPLAY
DESCRIPTION:Thomas/Thomas vs. Jezik/Gorman
END:VALARM
END:VEVENT
BEGIN:VEVENT
UID:pupc-62432102-20240429T200000@quickscores.com
DTSTAMP:20260424T174700Z
DTSTART;TZID=America/Chicago:20240429T200000
DURATION:PT0H40M0S
SUMMARY:Faron/Faron vs. Thomas/Thomas
DESCRIPTION:Fmg Monday Spring Rec Lg. 2024 - Paddle Up Pickleball Club
LOCATION:Court 5
CATEGORIES:QuickScores, Pickleball Game
TRANSP:OPAQUE
BEGIN:VALARM
TRIGGER:-PT2H
ACTION:DISPLAY
DESCRIPTION:Faron/Faron vs. Thomas/Thomas
END:VALARM
END:VEVENT
BEGIN:VEVENT
UID:pupc-62432036-20240506T184000@quickscores.com
DTSTAMP:20260424T174700Z
DTSTART;TZID=America/Chicago:20240506T184000
DURATION:PT0H40M0S
SUMMARY:Nestor/Nestor vs. Thomas/Thomas
DESCRIPTION:Fmg Monday Spring Rec Lg. 2024 - Paddle Up Pickleball Club
LOCATION:Court 3
CATEGORIES:QuickScores, Pickleball Game
TRANSP:OPAQUE
BEGIN:VALARM
TRIGGER:-PT2H
ACTION:DISPLAY
DESCRIPTION:Nestor/Nestor vs. Thomas/Thomas
END:VALARM
END:VEVENT
BEGIN:VEVENT
UID:pupc-62432035-20240506T200000@quickscores.com
DTSTAMP:20260424T174700Z
DTSTART;TZID=America/Chicago:20240506T200000
DURATION:PT0H40M0S
SUMMARY:Ellebrecht/Brewer vs. Thomas/Thomas
DESCRIPTION:Fmg Monday Spring Rec Lg. 2024 - Paddle Up Pickleball Club
LOCATION:Court 3
CATEGORIES:QuickScores, Pickleball Game
TRANSP:OPAQUE
BEGIN:VALARM
TRIGGER:-PT2H
ACTION:DISPLAY
DESCRIPTION:Ellebrecht/Brewer vs. Thomas/Thomas
END:VALARM
END:VEVENT
BEGIN:VEVENT
UID:pupc-63293693-20240520T183500@quickscores.com
DTSTAMP:20260424T174700Z
DTSTART;TZID=America/Chicago:20240520T183500
DURATION:PT0H35M0S
SUMMARY:[7] Thomas/Thomas vs. [10] Friese/Yates
DESCRIPTION:Fmg Monday Spring Rec Lg. 2024 - Paddle Up Pickleball Club
LOCATION:Court 4
CATEGORIES:QuickScores, Pickleball Game
TRANSP:OPAQUE
BEGIN:VALARM
TRIGGER:-PT2H
ACTION:DISPLAY
DESCRIPTION:[7] Thomas/Thomas vs. [10] Friese/Yates
END:VALARM
END:VEVENT
END:VCALENDAR
