BEGIN:VCALENDAR
VERSION:2.0
PRODID:-//QuickScores.com//BQ Dynamic iCal Creator//EN
METHOD:PUBLISH
X-WR-CALNAME:Faron/Faron - Fmg Monday Spring Rec Lg. 2024 - Completed Leagues 2023/24
X-WR-CALDESC:QuickScores game calendar
X-PUBLISHED-TTL:PT24H
REFRESH-INTERVAL;VALUE=DURATION:PT24H
CALSCALE:GREGORIAN
BEGIN:VTIMEZONE
TZID:America/Chicago
X-LIC-LOCATION:America/Chicago
BEGIN:DAYLIGHT
TZNAME:CDT
TZOFFSETFROM:-0600
TZOFFSETTO:-0500
DTSTART:19700308T020000
RRULE:FREQ=YEARLY;BYMONTH=3;BYDAY=2SU
END:DAYLIGHT
BEGIN:STANDARD
TZNAME:CST
TZOFFSETFROM:-0500
TZOFFSETTO:-0600
DTSTART:19701101T020000
RRULE:FREQ=YEARLY;BYMONTH=11;BYDAY=1SU
END:STANDARD
END:VTIMEZONE
BEGIN:VEVENT
UID:pupc-62432057-20240408T192000@quickscores.com
DTSTAMP:20260423T055000Z
DTSTART;TZID=America/Chicago:20240408T192000
DURATION:PT0H40M0S
SUMMARY:Faron/Faron vs. Nestor/Nestor
DESCRIPTION:Fmg Monday Spring Rec Lg. 2024 - Paddle Up Pickleball Club
LOCATION:Court 5
CATEGORIES:QuickScores, Pickleball Game
TRANSP:OPAQUE
BEGIN:VALARM
TRIGGER:-PT2H
ACTION:DISPLAY
DESCRIPTION:Faron/Faron vs. Nestor/Nestor
END:VALARM
END:VEVENT
BEGIN:VEVENT
UID:pupc-62432056-20240408T200000@quickscores.com
DTSTAMP:20260423T055000Z
DTSTART;TZID=America/Chicago:20240408T200000
DURATION:PT0H40M0S
SUMMARY:Ellebrecht/Brewer vs. Faron/Faron
DESCRIPTION:Fmg Monday Spring Rec Lg. 2024 - Paddle Up Pickleball Club
LOCATION:Court 5
CATEGORIES:QuickScores, Pickleball Game
TRANSP:OPAQUE
BEGIN:VALARM
TRIGGER:-PT2H
ACTION:DISPLAY
DESCRIPTION:Ellebrecht/Brewer vs. Faron/Faron
END:VALARM
END:VEVENT
BEGIN:VEVENT
UID:pupc-62432069-20240415T180000@quickscores.com
DTSTAMP:20260423T055000Z
DTSTART;TZID=America/Chicago:20240415T180000
DURATION:PT0H40M0S
SUMMARY:Faron/Faron vs. Smith/Smith
DESCRIPTION:Fmg Monday Spring Rec Lg. 2024 - Paddle Up Pickleball Club
LOCATION:Court 4
CATEGORIES:QuickScores, Pickleball Game
TRANSP:OPAQUE
BEGIN:VALARM
TRIGGER:-PT2H
ACTION:DISPLAY
DESCRIPTION:Faron/Faron vs. Smith/Smith
END:VALARM
END:VEVENT
BEGIN:VEVENT
UID:pupc-62432068-20240415T184000@quickscores.com
DTSTAMP:20260423T055000Z
DTSTART;TZID=America/Chicago:20240415T184000
DURATION:PT0H40M0S
SUMMARY:Jezik/Gorman vs. Faron/Faron
DESCRIPTION:Fmg Monday Spring Rec Lg. 2024 - Paddle Up Pickleball Club
LOCATION:Court 5
CATEGORIES:QuickScores, Pickleball Game
TRANSP:OPAQUE
BEGIN:VALARM
TRIGGER:-PT2H
ACTION:DISPLAY
DESCRIPTION:Jezik/Gorman vs. Faron/Faron
END:VALARM
END:VEVENT
BEGIN:VEVENT
UID:pupc-62432087-20240422T180000@quickscores.com
DTSTAMP:20260423T055000Z
DTSTART;TZID=America/Chicago:20240422T180000
DURATION:PT0H40M0S
SUMMARY:Faron/Faron vs. Donovan/Gerleman
DESCRIPTION:Fmg Monday Spring Rec Lg. 2024 - Paddle Up Pickleball Club
LOCATION:Court 3
CATEGORIES:QuickScores, Pickleball Game
TRANSP:OPAQUE
BEGIN:VALARM
TRIGGER:-PT2H
ACTION:DISPLAY
DESCRIPTION:Faron/Faron vs. Donovan/Gerleman
END:VALARM
END:VEVENT
BEGIN:VEVENT
UID:pupc-62432086-20240422T184000@quickscores.com
DTSTAMP:20260423T055000Z
DTSTART;TZID=America/Chicago:20240422T184000
DURATION:PT0H40M0S
SUMMARY:Stuesse/Stuesse vs. Faron/Faron
DESCRIPTION:Fmg Monday Spring Rec Lg. 2024 - Paddle Up Pickleball Club
LOCATION:Court 3
CATEGORIES:QuickScores, Pickleball Game
TRANSP:OPAQUE
BEGIN:VALARM
TRIGGER:-PT2H
ACTION:DISPLAY
DESCRIPTION:Stuesse/Stuesse vs. Faron/Faron
END:VALARM
END:VEVENT
BEGIN:VEVENT
UID:pupc-62432101-20240429T184000@quickscores.com
DTSTAMP:20260423T055000Z
DTSTART;TZID=America/Chicago:20240429T184000
DURATION:PT0H40M0S
SUMMARY:Beerman/Burke vs. Faron/Faron
DESCRIPTION:Fmg Monday Spring Rec Lg. 2024 - Paddle Up Pickleball Club
LOCATION:Court 5
CATEGORIES:QuickScores, Pickleball Game
TRANSP:OPAQUE
BEGIN:VALARM
TRIGGER:-PT2H
ACTION:DISPLAY
DESCRIPTION:Beerman/Burke vs. Faron/Faron
END:VALARM
END:VEVENT
BEGIN:VEVENT
UID:pupc-62432102-20240429T200000@quickscores.com
DTSTAMP:20260423T055000Z
DTSTART;TZID=America/Chicago:20240429T200000
DURATION:PT0H40M0S
SUMMARY:Faron/Faron vs. Thomas/Thomas
DESCRIPTION:Fmg Monday Spring Rec Lg. 2024 - Paddle Up Pickleball Club
LOCATION:Court 5
CATEGORIES:QuickScores, Pickleball Game
TRANSP:OPAQUE
BEGIN:VALARM
TRIGGER:-PT2H
ACTION:DISPLAY
DESCRIPTION:Faron/Faron vs. Thomas/Thomas
END:VALARM
END:VEVENT
BEGIN:VEVENT
UID:pupc-62432039-20240506T180000@quickscores.com
DTSTAMP:20260423T055000Z
DTSTART;TZID=America/Chicago:20240506T180000
DURATION:PT0H40M0S
SUMMARY:Penton/Allen vs. Faron/Faron
DESCRIPTION:Fmg Monday Spring Rec Lg. 2024 - Paddle Up Pickleball Club
LOCATION:Court 4
CATEGORIES:QuickScores, Pickleball Game
TRANSP:OPAQUE
BEGIN:VALARM
TRIGGER:-PT2H
ACTION:DISPLAY
DESCRIPTION:Penton/Allen vs. Faron/Faron
END:VALARM
END:VEVENT
BEGIN:VEVENT
UID:pupc-62432040-20240506T184000@quickscores.com
DTSTAMP:20260423T055000Z
DTSTART;TZID=America/Chicago:20240506T184000
DURATION:PT0H40M0S
SUMMARY:Faron/Faron vs. Friese/Yates
DESCRIPTION:Fmg Monday Spring Rec Lg. 2024 - Paddle Up Pickleball Club
LOCATION:Court 5
CATEGORIES:QuickScores, Pickleball Game
TRANSP:OPAQUE
BEGIN:VALARM
TRIGGER:-PT2H
ACTION:DISPLAY
DESCRIPTION:Faron/Faron vs. Friese/Yates
END:VALARM
END:VEVENT
BEGIN:VEVENT
UID:pupc-63293696-20240520T183500@quickscores.com
DTSTAMP:20260423T055000Z
DTSTART;TZID=America/Chicago:20240520T183500
DURATION:PT0H35M0S
SUMMARY:[1] Faron/Faron vs. Winner of Game 1
DESCRIPTION:Fmg Monday Spring Rec Lg. 2024 - Paddle Up Pickleball Club
LOCATION:Court 3
CATEGORIES:QuickScores, Pickleball Game
TRANSP:OPAQUE
BEGIN:VALARM
TRIGGER:-PT2H
ACTION:DISPLAY
DESCRIPTION:[1] Faron/Faron vs. Winner of Game 1
END:VALARM
END:VEVENT
END:VCALENDAR
