BEGIN:VCALENDAR
VERSION:2.0
PRODID:-//QuickScores.com//BQ Dynamic iCal Creator//EN
METHOD:PUBLISH
X-WR-CALNAME:Casserly/Heritage - Fmg Monday Spring Rec Lg. 2024 - Completed Leagues 2023/24
X-WR-CALDESC:QuickScores game calendar
X-PUBLISHED-TTL:PT24H
REFRESH-INTERVAL;VALUE=DURATION:PT24H
CALSCALE:GREGORIAN
BEGIN:VTIMEZONE
TZID:America/Chicago
X-LIC-LOCATION:America/Chicago
BEGIN:DAYLIGHT
TZNAME:CDT
TZOFFSETFROM:-0600
TZOFFSETTO:-0500
DTSTART:19700308T020000
RRULE:FREQ=YEARLY;BYMONTH=3;BYDAY=2SU
END:DAYLIGHT
BEGIN:STANDARD
TZNAME:CST
TZOFFSETFROM:-0500
TZOFFSETTO:-0600
DTSTART:19701101T020000
RRULE:FREQ=YEARLY;BYMONTH=11;BYDAY=1SU
END:STANDARD
END:VTIMEZONE
BEGIN:VEVENT
UID:pupc-62432054-20240408T180000@quickscores.com
DTSTAMP:20260421T164300Z
DTSTART;TZID=America/Chicago:20240408T180000
DURATION:PT0H40M0S
SUMMARY:Thomas/Thomas vs. Casserly/Heritage
DESCRIPTION:Fmg Monday Spring Rec Lg. 2024 - Paddle Up Pickleball Club
LOCATION:Court 3
CATEGORIES:QuickScores, Pickleball Game
TRANSP:OPAQUE
BEGIN:VALARM
TRIGGER:-PT2H
ACTION:DISPLAY
DESCRIPTION:Thomas/Thomas vs. Casserly/Heritage
END:VALARM
END:VEVENT
BEGIN:VEVENT
UID:pupc-62432055-20240408T184000@quickscores.com
DTSTAMP:20260421T164300Z
DTSTART;TZID=America/Chicago:20240408T184000
DURATION:PT0H40M0S
SUMMARY:Smith/Smith vs. Casserly/Heritage
DESCRIPTION:Fmg Monday Spring Rec Lg. 2024 - Paddle Up Pickleball Club
LOCATION:Court 5
CATEGORIES:QuickScores, Pickleball Game
TRANSP:OPAQUE
BEGIN:VALARM
TRIGGER:-PT2H
ACTION:DISPLAY
DESCRIPTION:Smith/Smith vs. Casserly/Heritage
END:VALARM
END:VEVENT
BEGIN:VEVENT
UID:pupc-62432072-20240415T184000@quickscores.com
DTSTAMP:20260421T164300Z
DTSTART;TZID=America/Chicago:20240415T184000
DURATION:PT0H40M0S
SUMMARY:Thomas/Thomas vs. Casserly/Heritage
DESCRIPTION:Fmg Monday Spring Rec Lg. 2024 - Paddle Up Pickleball Club
LOCATION:Court 6
CATEGORIES:QuickScores, Pickleball Game
TRANSP:OPAQUE
BEGIN:VALARM
TRIGGER:-PT2H
ACTION:DISPLAY
DESCRIPTION:Thomas/Thomas vs. Casserly/Heritage
END:VALARM
END:VEVENT
BEGIN:VEVENT
UID:pupc-62432071-20240415T200000@quickscores.com
DTSTAMP:20260421T164300Z
DTSTART;TZID=America/Chicago:20240415T200000
DURATION:PT0H40M0S
SUMMARY:Casserly/Heritage vs. Friese/Yates
DESCRIPTION:Fmg Monday Spring Rec Lg. 2024 - Paddle Up Pickleball Club
LOCATION:Court 2
CATEGORIES:QuickScores, Pickleball Game
TRANSP:OPAQUE
BEGIN:VALARM
TRIGGER:-PT2H
ACTION:DISPLAY
DESCRIPTION:Casserly/Heritage vs. Friese/Yates
END:VALARM
END:VEVENT
BEGIN:VEVENT
UID:pupc-62432093-20240422T192000@quickscores.com
DTSTAMP:20260421T164300Z
DTSTART;TZID=America/Chicago:20240422T192000
DURATION:PT0H40M0S
SUMMARY:Casserly/Heritage vs. Penton/Allen
DESCRIPTION:Fmg Monday Spring Rec Lg. 2024 - Paddle Up Pickleball Club
LOCATION:Court 4
CATEGORIES:QuickScores, Pickleball Game
TRANSP:OPAQUE
BEGIN:VALARM
TRIGGER:-PT2H
ACTION:DISPLAY
DESCRIPTION:Casserly/Heritage vs. Penton/Allen
END:VALARM
END:VEVENT
BEGIN:VEVENT
UID:pupc-62432079-20240422T200000@quickscores.com
DTSTAMP:20260421T164300Z
DTSTART;TZID=America/Chicago:20240422T200000
DURATION:PT0H40M0S
SUMMARY:Mueller/Mueller vs. Casserly/Heritage
DESCRIPTION:Fmg Monday Spring Rec Lg. 2024 - Paddle Up Pickleball Club
LOCATION:Court 4
CATEGORIES:QuickScores, Pickleball Game
TRANSP:OPAQUE
BEGIN:VALARM
TRIGGER:-PT2H
ACTION:DISPLAY
DESCRIPTION:Mueller/Mueller vs. Casserly/Heritage
END:VALARM
END:VEVENT
BEGIN:VEVENT
UID:pupc-62432108-20240429T180000@quickscores.com
DTSTAMP:20260421T164300Z
DTSTART;TZID=America/Chicago:20240429T180000
DURATION:PT0H40M0S
SUMMARY:Miller/Miller vs. Casserly/Heritage
DESCRIPTION:Fmg Monday Spring Rec Lg. 2024 - Paddle Up Pickleball Club
LOCATION:Court 4
CATEGORIES:QuickScores, Pickleball Game
TRANSP:OPAQUE
BEGIN:VALARM
TRIGGER:-PT2H
ACTION:DISPLAY
DESCRIPTION:Miller/Miller vs. Casserly/Heritage
END:VALARM
END:VEVENT
BEGIN:VEVENT
UID:pupc-62432107-20240429T184000@quickscores.com
DTSTAMP:20260421T164300Z
DTSTART;TZID=America/Chicago:20240429T184000
DURATION:PT0H40M0S
SUMMARY:Casserly/Heritage vs. Tegeler/Tegeler
DESCRIPTION:Fmg Monday Spring Rec Lg. 2024 - Paddle Up Pickleball Club
LOCATION:Court 4
CATEGORIES:QuickScores, Pickleball Game
TRANSP:OPAQUE
BEGIN:VALARM
TRIGGER:-PT2H
ACTION:DISPLAY
DESCRIPTION:Casserly/Heritage vs. Tegeler/Tegeler
END:VALARM
END:VEVENT
BEGIN:VEVENT
UID:pupc-63293690-20240520T180000@quickscores.com
DTSTAMP:20260421T164300Z
DTSTART;TZID=America/Chicago:20240520T180000
DURATION:PT0H35M0S
SUMMARY:[4] Casserly/Heritage vs. [13] Penton/Allen
DESCRIPTION:Fmg Monday Spring Rec Lg. 2024 - Paddle Up Pickleball Club
LOCATION:Court 5
CATEGORIES:QuickScores, Pickleball Game
TRANSP:OPAQUE
BEGIN:VALARM
TRIGGER:-PT2H
ACTION:DISPLAY
DESCRIPTION:[4] Casserly/Heritage vs. [13] Penton/Allen
END:VALARM
END:VEVENT
END:VCALENDAR
