BEGIN:VCALENDAR
VERSION:2.0
PRODID:-//QuickScores.com//BQ Dynamic iCal Creator//EN
METHOD:PUBLISH
X-WR-CALNAME:Donovan/Gerleman - Fmg Monday Spring Rec Lg. 2024 - Completed Leagues 2023/24
X-WR-CALDESC:QuickScores game calendar
X-PUBLISHED-TTL:PT24H
REFRESH-INTERVAL;VALUE=DURATION:PT24H
CALSCALE:GREGORIAN
BEGIN:VTIMEZONE
TZID:America/Chicago
X-LIC-LOCATION:America/Chicago
BEGIN:DAYLIGHT
TZNAME:CDT
TZOFFSETFROM:-0600
TZOFFSETTO:-0500
DTSTART:19700308T020000
RRULE:FREQ=YEARLY;BYMONTH=3;BYDAY=2SU
END:DAYLIGHT
BEGIN:STANDARD
TZNAME:CST
TZOFFSETFROM:-0500
TZOFFSETTO:-0600
DTSTART:19701101T020000
RRULE:FREQ=YEARLY;BYMONTH=11;BYDAY=1SU
END:STANDARD
END:VTIMEZONE
BEGIN:VEVENT
UID:pupc-62432049-20240408T184000@quickscores.com
DTSTAMP:20260421T222200Z
DTSTART;TZID=America/Chicago:20240408T184000
DURATION:PT0H40M0S
SUMMARY:Mueller/Mueller vs. Donovan/Gerleman
DESCRIPTION:Fmg Monday Spring Rec Lg. 2024 - Paddle Up Pickleball Club
LOCATION:Court 6
CATEGORIES:QuickScores, Pickleball Game
TRANSP:OPAQUE
BEGIN:VALARM
TRIGGER:-PT2H
ACTION:DISPLAY
DESCRIPTION:Mueller/Mueller vs. Donovan/Gerleman
END:VALARM
END:VEVENT
BEGIN:VEVENT
UID:pupc-62432059-20240408T192000@quickscores.com
DTSTAMP:20260421T222200Z
DTSTART;TZID=America/Chicago:20240408T192000
DURATION:PT0H40M0S
SUMMARY:Beerman/Burke vs. Donovan/Gerleman
DESCRIPTION:Fmg Monday Spring Rec Lg. 2024 - Paddle Up Pickleball Club
LOCATION:Court 4
CATEGORIES:QuickScores, Pickleball Game
TRANSP:OPAQUE
BEGIN:VALARM
TRIGGER:-PT2H
ACTION:DISPLAY
DESCRIPTION:Beerman/Burke vs. Donovan/Gerleman
END:VALARM
END:VEVENT
BEGIN:VEVENT
UID:pupc-62432076-20240415T192000@quickscores.com
DTSTAMP:20260421T222200Z
DTSTART;TZID=America/Chicago:20240415T192000
DURATION:PT0H40M0S
SUMMARY:Miller/Miller vs. Donovan/Gerleman
DESCRIPTION:Fmg Monday Spring Rec Lg. 2024 - Paddle Up Pickleball Club
LOCATION:Court 3
CATEGORIES:QuickScores, Pickleball Game
TRANSP:OPAQUE
BEGIN:VALARM
TRIGGER:-PT2H
ACTION:DISPLAY
DESCRIPTION:Miller/Miller vs. Donovan/Gerleman
END:VALARM
END:VEVENT
BEGIN:VEVENT
UID:pupc-62432075-20240415T200000@quickscores.com
DTSTAMP:20260421T222200Z
DTSTART;TZID=America/Chicago:20240415T200000
DURATION:PT0H40M0S
SUMMARY:Penton/Allen vs. Donovan/Gerleman
DESCRIPTION:Fmg Monday Spring Rec Lg. 2024 - Paddle Up Pickleball Club
LOCATION:Court 3
CATEGORIES:QuickScores, Pickleball Game
TRANSP:OPAQUE
BEGIN:VALARM
TRIGGER:-PT2H
ACTION:DISPLAY
DESCRIPTION:Penton/Allen vs. Donovan/Gerleman
END:VALARM
END:VEVENT
BEGIN:VEVENT
UID:pupc-62432087-20240422T180000@quickscores.com
DTSTAMP:20260421T222200Z
DTSTART;TZID=America/Chicago:20240422T180000
DURATION:PT0H40M0S
SUMMARY:Faron/Faron vs. Donovan/Gerleman
DESCRIPTION:Fmg Monday Spring Rec Lg. 2024 - Paddle Up Pickleball Club
LOCATION:Court 3
CATEGORIES:QuickScores, Pickleball Game
TRANSP:OPAQUE
BEGIN:VALARM
TRIGGER:-PT2H
ACTION:DISPLAY
DESCRIPTION:Faron/Faron vs. Donovan/Gerleman
END:VALARM
END:VEVENT
BEGIN:VEVENT
UID:pupc-62432088-20240422T184000@quickscores.com
DTSTAMP:20260421T222200Z
DTSTART;TZID=America/Chicago:20240422T184000
DURATION:PT0H40M0S
SUMMARY:Donovan/Gerleman vs. Friese/Yates
DESCRIPTION:Fmg Monday Spring Rec Lg. 2024 - Paddle Up Pickleball Club
LOCATION:Court 4
CATEGORIES:QuickScores, Pickleball Game
TRANSP:OPAQUE
BEGIN:VALARM
TRIGGER:-PT2H
ACTION:DISPLAY
DESCRIPTION:Donovan/Gerleman vs. Friese/Yates
END:VALARM
END:VEVENT
END:VCALENDAR
