BEGIN:VCALENDAR
VERSION:2.0
PRODID:-//QuickScores.com//BQ Dynamic iCal Creator//EN
METHOD:PUBLISH
X-WR-CALNAME:Team 4 - Richert - Early Spring Squads Saturday Lg. 4-6pm - Completed Leagues 2023/24
X-WR-CALDESC:QuickScores game calendar
X-PUBLISHED-TTL:PT24H
REFRESH-INTERVAL;VALUE=DURATION:PT24H
CALSCALE:GREGORIAN
BEGIN:VTIMEZONE
TZID:America/Chicago
X-LIC-LOCATION:America/Chicago
BEGIN:DAYLIGHT
TZNAME:CDT
TZOFFSETFROM:-0600
TZOFFSETTO:-0500
DTSTART:19700308T020000
RRULE:FREQ=YEARLY;BYMONTH=3;BYDAY=2SU
END:DAYLIGHT
BEGIN:STANDARD
TZNAME:CST
TZOFFSETFROM:-0500
TZOFFSETTO:-0600
DTSTART:19701101T020000
RRULE:FREQ=YEARLY;BYMONTH=11;BYDAY=1SU
END:STANDARD
END:VTIMEZONE
BEGIN:VEVENT
UID:pupc-62111305-20240309T160000@quickscores.com
DTSTAMP:20260425T134300Z
DTSTART;TZID=America/Chicago:20240309T160000
DURATION:PT1H0M0S
SUMMARY:Team 4 - Richert vs. Team 2 - Blickhan
DESCRIPTION:Early Spring Squads Saturday Lg. 4-6pm - Paddle Up Pickleball Club
LOCATION:Court 7
CATEGORIES:QuickScores, Pickleball Game
TRANSP:OPAQUE
BEGIN:VALARM
TRIGGER:-PT2H
ACTION:DISPLAY
DESCRIPTION:Team 4 - Richert vs. Team 2 - Blickhan
END:VALARM
END:VEVENT
BEGIN:VEVENT
UID:pupc-62111306-20240309T170000@quickscores.com
DTSTAMP:20260425T134300Z
DTSTART;TZID=America/Chicago:20240309T170000
DURATION:PT1H0M0S
SUMMARY:Team 4 - Richert vs. Team 6 - Keegan
DESCRIPTION:Early Spring Squads Saturday Lg. 4-6pm - Paddle Up Pickleball Club
LOCATION:Court 7
CATEGORIES:QuickScores, Pickleball Game
TRANSP:OPAQUE
BEGIN:VALARM
TRIGGER:-PT2H
ACTION:DISPLAY
DESCRIPTION:Team 4 - Richert vs. Team 6 - Keegan
END:VALARM
END:VEVENT
BEGIN:VEVENT
UID:pupc-62111314-20240316T160000@quickscores.com
DTSTAMP:20260425T134300Z
DTSTART;TZID=America/Chicago:20240316T160000
DURATION:PT1H0M0S
SUMMARY:Team 5 - Gamache vs. Team 4 - Richert
DESCRIPTION:Early Spring Squads Saturday Lg. 4-6pm - Paddle Up Pickleball Club
LOCATION:Court 5
CATEGORIES:QuickScores, Pickleball Game
TRANSP:OPAQUE
BEGIN:VALARM
TRIGGER:-PT2H
ACTION:DISPLAY
DESCRIPTION:Team 5 - Gamache vs. Team 4 - Richert
END:VALARM
END:VEVENT
BEGIN:VEVENT
UID:pupc-62111315-20240316T170000@quickscores.com
DTSTAMP:20260425T134300Z
DTSTART;TZID=America/Chicago:20240316T170000
DURATION:PT1H0M0S
SUMMARY:Team 1 - Breeding vs. Team 4 - Richert
DESCRIPTION:Early Spring Squads Saturday Lg. 4-6pm - Paddle Up Pickleball Club
LOCATION:Court 5
CATEGORIES:QuickScores, Pickleball Game
TRANSP:OPAQUE
BEGIN:VALARM
TRIGGER:-PT2H
ACTION:DISPLAY
DESCRIPTION:Team 1 - Breeding vs. Team 4 - Richert
END:VALARM
END:VEVENT
BEGIN:VEVENT
UID:pupc-62111317-20240330T160000@quickscores.com
DTSTAMP:20260425T134300Z
DTSTART;TZID=America/Chicago:20240330T160000
DURATION:PT1H0M0S
SUMMARY:Team 6 - Keegan vs. Team 4 - Richert
DESCRIPTION:Early Spring Squads Saturday Lg. 4-6pm - Paddle Up Pickleball Club
LOCATION:Court 5
CATEGORIES:QuickScores, Pickleball Game
TRANSP:OPAQUE
BEGIN:VALARM
TRIGGER:-PT2H
ACTION:DISPLAY
DESCRIPTION:Team 6 - Keegan vs. Team 4 - Richert
END:VALARM
END:VEVENT
BEGIN:VEVENT
UID:pupc-62111320-20240330T170000@quickscores.com
DTSTAMP:20260425T134300Z
DTSTART;TZID=America/Chicago:20240330T170000
DURATION:PT1H0M0S
SUMMARY:Team 3 - Hallemeier vs. Team 4 - Richert
DESCRIPTION:Early Spring Squads Saturday Lg. 4-6pm - Paddle Up Pickleball Club
LOCATION:Court 5
CATEGORIES:QuickScores, Pickleball Game
TRANSP:OPAQUE
BEGIN:VALARM
TRIGGER:-PT2H
ACTION:DISPLAY
DESCRIPTION:Team 3 - Hallemeier vs. Team 4 - Richert
END:VALARM
END:VEVENT
BEGIN:VEVENT
UID:pupc-62111327-20240413T163000@quickscores.com
DTSTAMP:20260425T134300Z
DTSTART;TZID=America/Chicago:20240413T163000
DURATION:PT1H0M0S
SUMMARY:Team 4 - Richert vs. Team 5 - Gamache
DESCRIPTION:Early Spring Squads Saturday Lg. 4-6pm - Paddle Up Pickleball Club
LOCATION:Court 4
CATEGORIES:QuickScores, Pickleball Game
TRANSP:OPAQUE
BEGIN:VALARM
TRIGGER:-PT2H
ACTION:DISPLAY
DESCRIPTION:Team 4 - Richert vs. Team 5 - Gamache
END:VALARM
END:VEVENT
BEGIN:VEVENT
UID:pupc-62111322-20240413T173000@quickscores.com
DTSTAMP:20260425T134300Z
DTSTART;TZID=America/Chicago:20240413T173000
DURATION:PT1H0M0S
SUMMARY:Team 2 - Blickhan vs. Team 4 - Richert
DESCRIPTION:Early Spring Squads Saturday Lg. 4-6pm - Paddle Up Pickleball Club
LOCATION:Court 4
CATEGORIES:QuickScores, Pickleball Game
TRANSP:OPAQUE
BEGIN:VALARM
TRIGGER:-PT2H
ACTION:DISPLAY
DESCRIPTION:Team 2 - Blickhan vs. Team 4 - Richert
END:VALARM
END:VEVENT
BEGIN:VEVENT
UID:pupc-62111330-20240420T160000@quickscores.com
DTSTAMP:20260425T134300Z
DTSTART;TZID=America/Chicago:20240420T160000
DURATION:PT1H0M0S
SUMMARY:Team 4 - Richert vs. Team 1 - Breeding
DESCRIPTION:Early Spring Squads Saturday Lg. 4-6pm - Paddle Up Pickleball Club
LOCATION:Court 4
CATEGORIES:QuickScores, Pickleball Game
TRANSP:OPAQUE
BEGIN:VALARM
TRIGGER:-PT2H
ACTION:DISPLAY
DESCRIPTION:Team 4 - Richert vs. Team 1 - Breeding
END:VALARM
END:VEVENT
BEGIN:VEVENT
UID:pupc-62111332-20240420T170000@quickscores.com
DTSTAMP:20260425T134300Z
DTSTART;TZID=America/Chicago:20240420T170000
DURATION:PT1H0M0S
SUMMARY:Team 4 - Richert vs. Team 3 - Hallemeier
DESCRIPTION:Early Spring Squads Saturday Lg. 4-6pm - Paddle Up Pickleball Club
LOCATION:Court 4
CATEGORIES:QuickScores, Pickleball Game
TRANSP:OPAQUE
BEGIN:VALARM
TRIGGER:-PT2H
ACTION:DISPLAY
DESCRIPTION:Team 4 - Richert vs. Team 3 - Hallemeier
END:VALARM
END:VEVENT
BEGIN:VEVENT
UID:pupc-62988167-20240427T160000@quickscores.com
DTSTAMP:20260425T134300Z
DTSTART;TZID=America/Chicago:20240427T160000
DURATION:PT1H0M0S
SUMMARY:[4] Team 5 - Gamache vs. [5] Team 4 - Richert
DESCRIPTION:Early Spring Squads Saturday Lg. 4-6pm - Paddle Up Pickleball Club
LOCATION:Court 5
CATEGORIES:QuickScores, Pickleball Game
TRANSP:OPAQUE
BEGIN:VALARM
TRIGGER:-PT2H
ACTION:DISPLAY
DESCRIPTION:[4] Team 5 - Gamache vs. [5] Team 4 - Richert
END:VALARM
END:VEVENT
BEGIN:VEVENT
UID:pupc-62988170-20240427T170000@quickscores.com
DTSTAMP:20260425T134300Z
DTSTART;TZID=America/Chicago:20240427T170000
DURATION:PT1H0M0S
SUMMARY:[1] Team 1 - Breeding vs. [5] Team 4 - Richert
DESCRIPTION:Early Spring Squads Saturday Lg. 4-6pm - Paddle Up Pickleball Club
LOCATION:Court 5
CATEGORIES:QuickScores, Pickleball Game
TRANSP:OPAQUE
BEGIN:VALARM
TRIGGER:-PT2H
ACTION:DISPLAY
DESCRIPTION:[1] Team 1 - Breeding vs. [5] Team 4 - Richert
END:VALARM
END:VEVENT
END:VCALENDAR
