BEGIN:VCALENDAR
VERSION:2.0
PRODID:-//QuickScores.com//BQ Dynamic iCal Creator//EN
METHOD:PUBLISH
X-WR-CALNAME:Matt Stoddard (Berkeley) - Wygths 6:30pm Singles - Completed Tournaments 2023/24
X-WR-CALDESC:QuickScores game calendar
X-PUBLISHED-TTL:PT24H
REFRESH-INTERVAL;VALUE=DURATION:PT24H
CALSCALE:GREGORIAN
BEGIN:VTIMEZONE
TZID:America/Chicago
X-LIC-LOCATION:America/Chicago
BEGIN:DAYLIGHT
TZNAME:CDT
TZOFFSETFROM:-0600
TZOFFSETTO:-0500
DTSTART:19700308T020000
RRULE:FREQ=YEARLY;BYMONTH=3;BYDAY=2SU
END:DAYLIGHT
BEGIN:STANDARD
TZNAME:CST
TZOFFSETFROM:-0500
TZOFFSETTO:-0600
DTSTART:19701101T020000
RRULE:FREQ=YEARLY;BYMONTH=11;BYDAY=1SU
END:STANDARD
END:VTIMEZONE
BEGIN:VEVENT
UID:pupc-61856596-20240223T184000@quickscores.com
DTSTAMP:20260425T090000Z
DTSTART;TZID=America/Chicago:20240223T184000
DURATION:PT0H20M0S
SUMMARY:Matt Stoddard (Berkeley) vs. Kevin Reque (North Point)
DESCRIPTION:Wygths 6:30pm Singles - Paddle Up Pickleball Club
LOCATION:Court 4
CATEGORIES:QuickScores, Pickleball Game
TRANSP:OPAQUE
BEGIN:VALARM
TRIGGER:-PT2H
ACTION:DISPLAY
DESCRIPTION:Matt Stoddard (Berkeley) vs. Kevin Reque (North Point)
END:VALARM
END:VEVENT
BEGIN:VEVENT
UID:pupc-61856602-20240223T190000@quickscores.com
DTSTAMP:20260425T090000Z
DTSTART;TZID=America/Chicago:20240223T190000
DURATION:PT0H20M0S
SUMMARY:Jesse Studyvin (St. Pius X) vs. Matt Stoddard (Berkeley)
DESCRIPTION:Wygths 6:30pm Singles - Paddle Up Pickleball Club
LOCATION:Court 4
CATEGORIES:QuickScores, Pickleball Game
TRANSP:OPAQUE
BEGIN:VALARM
TRIGGER:-PT2H
ACTION:DISPLAY
DESCRIPTION:Jesse Studyvin (St. Pius X) vs. Matt Stoddard (Berkeley)
END:VALARM
END:VEVENT
BEGIN:VEVENT
UID:pupc-61856611-20240223T192000@quickscores.com
DTSTAMP:20260425T090000Z
DTSTART;TZID=America/Chicago:20240223T192000
DURATION:PT0H20M0S
SUMMARY:Paige Reque (North Point) vs. Matt Stoddard (Berkeley)
DESCRIPTION:Wygths 6:30pm Singles - Paddle Up Pickleball Club
LOCATION:Court 5
CATEGORIES:QuickScores, Pickleball Game
TRANSP:OPAQUE
BEGIN:VALARM
TRIGGER:-PT2H
ACTION:DISPLAY
DESCRIPTION:Paige Reque (North Point) vs. Matt Stoddard (Berkeley)
END:VALARM
END:VEVENT
BEGIN:VEVENT
UID:pupc-61856615-20240223T194000@quickscores.com
DTSTAMP:20260425T090000Z
DTSTART;TZID=America/Chicago:20240223T194000
DURATION:PT0H20M0S
SUMMARY:Matt Stoddard (Berkeley) vs. Garrett Hallemeier (Lutheran St. Charles)
DESCRIPTION:Wygths 6:30pm Singles - Paddle Up Pickleball Club
LOCATION:Court 7
CATEGORIES:QuickScores, Pickleball Game
TRANSP:OPAQUE
BEGIN:VALARM
TRIGGER:-PT2H
ACTION:DISPLAY
DESCRIPTION:Matt Stoddard (Berkeley) vs. Garrett Hallemeier (Lutheran St. Charles)
END:VALARM
END:VEVENT
BEGIN:VEVENT
UID:pupc-61856625-20240223T200000@quickscores.com
DTSTAMP:20260425T090000Z
DTSTART;TZID=America/Chicago:20240223T200000
DURATION:PT0H20M0S
SUMMARY:Matt Stoddard (Berkeley) vs. Sam Arcobasso (Hazelwood West)
DESCRIPTION:Wygths 6:30pm Singles - Paddle Up Pickleball Club
LOCATION:Court 6
CATEGORIES:QuickScores, Pickleball Game
TRANSP:OPAQUE
BEGIN:VALARM
TRIGGER:-PT2H
ACTION:DISPLAY
DESCRIPTION:Matt Stoddard (Berkeley) vs. Sam Arcobasso (Hazelwood West)
END:VALARM
END:VEVENT
BEGIN:VEVENT
UID:pupc-61856630-20240223T202000@quickscores.com
DTSTAMP:20260425T090000Z
DTSTART;TZID=America/Chicago:20240223T202000
DURATION:PT0H20M0S
SUMMARY:Nick Borger (Ft. Z South) vs. Matt Stoddard (Berkeley)
DESCRIPTION:Wygths 6:30pm Singles - Paddle Up Pickleball Club
LOCATION:Court 7
CATEGORIES:QuickScores, Pickleball Game
TRANSP:OPAQUE
BEGIN:VALARM
TRIGGER:-PT2H
ACTION:DISPLAY
DESCRIPTION:Nick Borger (Ft. Z South) vs. Matt Stoddard (Berkeley)
END:VALARM
END:VEVENT
BEGIN:VEVENT
UID:pupc-61856635-20240223T204000@quickscores.com
DTSTAMP:20260425T090000Z
DTSTART;TZID=America/Chicago:20240223T204000
DURATION:PT0H20M0S
SUMMARY:Matt Stoddard (Berkeley) vs. Mandy Windham (F. Howell)
DESCRIPTION:Wygths 6:30pm Singles - Paddle Up Pickleball Club
LOCATION:Court 7
CATEGORIES:QuickScores, Pickleball Game
TRANSP:OPAQUE
BEGIN:VALARM
TRIGGER:-PT2H
ACTION:DISPLAY
DESCRIPTION:Matt Stoddard (Berkeley) vs. Mandy Windham (F. Howell)
END:VALARM
END:VEVENT
END:VCALENDAR
