BEGIN:VCALENDAR
VERSION:2.0
PRODID:-//QuickScores.com//BQ Dynamic iCal Creator//EN
METHOD:PUBLISH
X-WR-CALNAME:Hoffman/Brueckmann - Latewinter Thursday Intermediate Lg. - Completed Leagues 2023/24
X-WR-CALDESC:QuickScores game calendar
X-PUBLISHED-TTL:PT24H
REFRESH-INTERVAL;VALUE=DURATION:PT24H
CALSCALE:GREGORIAN
BEGIN:VTIMEZONE
TZID:America/Chicago
X-LIC-LOCATION:America/Chicago
BEGIN:DAYLIGHT
TZNAME:CDT
TZOFFSETFROM:-0600
TZOFFSETTO:-0500
DTSTART:19700308T020000
RRULE:FREQ=YEARLY;BYMONTH=3;BYDAY=2SU
END:DAYLIGHT
BEGIN:STANDARD
TZNAME:CST
TZOFFSETFROM:-0500
TZOFFSETTO:-0600
DTSTART:19701101T020000
RRULE:FREQ=YEARLY;BYMONTH=11;BYDAY=1SU
END:STANDARD
END:VTIMEZONE
BEGIN:VEVENT
UID:pupc-61683933-20240215T180000@quickscores.com
DTSTAMP:20260424T002500Z
DTSTART;TZID=America/Chicago:20240215T180000
DURATION:PT0H40M0S
SUMMARY:Hoffman/Brueckmann vs. Rivolta/Nabholz
DESCRIPTION:Latewinter Thursday Intermediate Lg. - Paddle Up Pickleball Club
LOCATION:Court 2
CATEGORIES:QuickScores, Pickleball Game
TRANSP:OPAQUE
BEGIN:VALARM
TRIGGER:-PT2H
ACTION:DISPLAY
DESCRIPTION:Hoffman/Brueckmann vs. Rivolta/Nabholz
END:VALARM
END:VEVENT
BEGIN:VEVENT
UID:pupc-61683938-20240215T192000@quickscores.com
DTSTAMP:20260424T002500Z
DTSTART;TZID=America/Chicago:20240215T192000
DURATION:PT0H40M0S
SUMMARY:Durham/Durham vs. Hoffman/Brueckmann
DESCRIPTION:Latewinter Thursday Intermediate Lg. - Paddle Up Pickleball Club
LOCATION:Court 6
CATEGORIES:QuickScores, Pickleball Game
TRANSP:OPAQUE
BEGIN:VALARM
TRIGGER:-PT2H
ACTION:DISPLAY
DESCRIPTION:Durham/Durham vs. Hoffman/Brueckmann
END:VALARM
END:VEVENT
BEGIN:VEVENT
UID:pupc-61683947-20240222T180000@quickscores.com
DTSTAMP:20260424T002500Z
DTSTART;TZID=America/Chicago:20240222T180000
DURATION:PT0H40M0S
SUMMARY:Hoffman/Brueckmann vs. Wolfe/Arnel
DESCRIPTION:Latewinter Thursday Intermediate Lg. - Paddle Up Pickleball Club
LOCATION:Court 3
CATEGORIES:QuickScores, Pickleball Game
TRANSP:OPAQUE
BEGIN:VALARM
TRIGGER:-PT2H
ACTION:DISPLAY
DESCRIPTION:Hoffman/Brueckmann vs. Wolfe/Arnel
END:VALARM
END:VEVENT
BEGIN:VEVENT
UID:pupc-61683942-20240222T184000@quickscores.com
DTSTAMP:20260424T002500Z
DTSTART;TZID=America/Chicago:20240222T184000
DURATION:PT0H40M0S
SUMMARY:Jacobs/Pohl vs. Hoffman/Brueckmann
DESCRIPTION:Latewinter Thursday Intermediate Lg. - Paddle Up Pickleball Club
LOCATION:Court 6
CATEGORIES:QuickScores, Pickleball Game
TRANSP:OPAQUE
BEGIN:VALARM
TRIGGER:-PT2H
ACTION:DISPLAY
DESCRIPTION:Jacobs/Pohl vs. Hoffman/Brueckmann
END:VALARM
END:VEVENT
BEGIN:VEVENT
UID:pupc-61683951-20240229T184000@quickscores.com
DTSTAMP:20260424T002500Z
DTSTART;TZID=America/Chicago:20240229T184000
DURATION:PT0H40M0S
SUMMARY:Jacobs/Pohl vs. Hoffman/Brueckmann
DESCRIPTION:Latewinter Thursday Intermediate Lg. - Paddle Up Pickleball Club
LOCATION:Court 6
CATEGORIES:QuickScores, Pickleball Game
TRANSP:OPAQUE
BEGIN:VALARM
TRIGGER:-PT2H
ACTION:DISPLAY
DESCRIPTION:Jacobs/Pohl vs. Hoffman/Brueckmann
END:VALARM
END:VEVENT
BEGIN:VEVENT
UID:pupc-61683949-20240229T192000@quickscores.com
DTSTAMP:20260424T002500Z
DTSTART;TZID=America/Chicago:20240229T192000
DURATION:PT0H40M0S
SUMMARY:Starzyk/Kalish vs. Hoffman/Brueckmann
DESCRIPTION:Latewinter Thursday Intermediate Lg. - Paddle Up Pickleball Club
LOCATION:Court 6
CATEGORIES:QuickScores, Pickleball Game
TRANSP:OPAQUE
BEGIN:VALARM
TRIGGER:-PT2H
ACTION:DISPLAY
DESCRIPTION:Starzyk/Kalish vs. Hoffman/Brueckmann
END:VALARM
END:VEVENT
BEGIN:VEVENT
UID:pupc-61683961-20240307T204000@quickscores.com
DTSTAMP:20260424T002500Z
DTSTART;TZID=America/Chicago:20240307T204000
DURATION:PT0H40M0S
SUMMARY:Gibson/Gibson vs. Hoffman/Brueckmann
DESCRIPTION:Latewinter Thursday Intermediate Lg. - Paddle Up Pickleball Club
LOCATION:Court 6
CATEGORIES:QuickScores, Pickleball Game
TRANSP:OPAQUE
BEGIN:VALARM
TRIGGER:-PT2H
ACTION:DISPLAY
DESCRIPTION:Gibson/Gibson vs. Hoffman/Brueckmann
END:VALARM
END:VEVENT
BEGIN:VEVENT
UID:pupc-61683958-20240307T212000@quickscores.com
DTSTAMP:20260424T002500Z
DTSTART;TZID=America/Chicago:20240307T212000
DURATION:PT0H40M0S
SUMMARY:Hoffman/Brueckmann vs. Durham/Durham
DESCRIPTION:Latewinter Thursday Intermediate Lg. - Paddle Up Pickleball Club
LOCATION:Court 6
CATEGORIES:QuickScores, Pickleball Game
TRANSP:OPAQUE
BEGIN:VALARM
TRIGGER:-PT2H
ACTION:DISPLAY
DESCRIPTION:Hoffman/Brueckmann vs. Durham/Durham
END:VALARM
END:VEVENT
BEGIN:VEVENT
UID:pupc-61686546-20240314T184000@quickscores.com
DTSTAMP:20260424T002500Z
DTSTART;TZID=America/Chicago:20240314T184000
DURATION:PT0H40M0S
SUMMARY:Miles/Miles2 vs. Hoffman/Brueckmann
DESCRIPTION:Latewinter Thursday Intermediate Lg. - Paddle Up Pickleball Club
LOCATION:Court 3
CATEGORIES:QuickScores, Pickleball Game
TRANSP:OPAQUE
BEGIN:VALARM
TRIGGER:-PT2H
ACTION:DISPLAY
DESCRIPTION:Miles/Miles2 vs. Hoffman/Brueckmann
END:VALARM
END:VEVENT
BEGIN:VEVENT
UID:pupc-61683964-20240314T200000@quickscores.com
DTSTAMP:20260424T002500Z
DTSTART;TZID=America/Chicago:20240314T200000
DURATION:PT0H40M0S
SUMMARY:Rivolta/Nabholz vs. Hoffman/Brueckmann
DESCRIPTION:Latewinter Thursday Intermediate Lg. - Paddle Up Pickleball Club
LOCATION:Court 6
CATEGORIES:QuickScores, Pickleball Game
TRANSP:OPAQUE
BEGIN:VALARM
TRIGGER:-PT2H
ACTION:DISPLAY
DESCRIPTION:Rivolta/Nabholz vs. Hoffman/Brueckmann
END:VALARM
END:VEVENT
END:VCALENDAR
