BEGIN:VCALENDAR
VERSION:2.0
PRODID:-//QuickScores.com//BQ Dynamic iCal Creator//EN
METHOD:PUBLISH
X-WR-CALNAME:Starzyk/Kalish - Latewinter Thursday Intermediate Lg. - Completed Leagues 2023/24
X-WR-CALDESC:QuickScores game calendar
X-PUBLISHED-TTL:PT24H
REFRESH-INTERVAL;VALUE=DURATION:PT24H
CALSCALE:GREGORIAN
BEGIN:VTIMEZONE
TZID:America/Chicago
X-LIC-LOCATION:America/Chicago
BEGIN:DAYLIGHT
TZNAME:CDT
TZOFFSETFROM:-0600
TZOFFSETTO:-0500
DTSTART:19700308T020000
RRULE:FREQ=YEARLY;BYMONTH=3;BYDAY=2SU
END:DAYLIGHT
BEGIN:STANDARD
TZNAME:CST
TZOFFSETFROM:-0500
TZOFFSETTO:-0600
DTSTART:19701101T020000
RRULE:FREQ=YEARLY;BYMONTH=11;BYDAY=1SU
END:STANDARD
END:VTIMEZONE
BEGIN:VEVENT
UID:pupc-61683939-20240215T180000@quickscores.com
DTSTAMP:20260424T095100Z
DTSTART;TZID=America/Chicago:20240215T180000
DURATION:PT0H40M0S
SUMMARY:Johnson/Olwig vs. Starzyk/Kalish
DESCRIPTION:Latewinter Thursday Intermediate Lg. - Paddle Up Pickleball Club
LOCATION:Court 6
CATEGORIES:QuickScores, Pickleball Game
TRANSP:OPAQUE
BEGIN:VALARM
TRIGGER:-PT2H
ACTION:DISPLAY
DESCRIPTION:Johnson/Olwig vs. Starzyk/Kalish
END:VALARM
END:VEVENT
BEGIN:VEVENT
UID:pupc-61694955-20240215T184000@quickscores.com
DTSTAMP:20260424T095100Z
DTSTART;TZID=America/Chicago:20240215T184000
DURATION:PT0H40M0S
SUMMARY:Durham/Durham vs. Starzyk/Kalish
DESCRIPTION:Latewinter Thursday Intermediate Lg. - Paddle Up Pickleball Club
LOCATION:Court 3
CATEGORIES:QuickScores, Pickleball Game
TRANSP:OPAQUE
BEGIN:VALARM
TRIGGER:-PT2H
ACTION:DISPLAY
DESCRIPTION:Durham/Durham vs. Starzyk/Kalish
END:VALARM
END:VEVENT
BEGIN:VEVENT
UID:pupc-61683945-20240222T200000@quickscores.com
DTSTAMP:20260424T095100Z
DTSTART;TZID=America/Chicago:20240222T200000
DURATION:PT0H40M0S
SUMMARY:Rivolta/Nabholz vs. Starzyk/Kalish
DESCRIPTION:Latewinter Thursday Intermediate Lg. - Paddle Up Pickleball Club
LOCATION:Court 6
CATEGORIES:QuickScores, Pickleball Game
TRANSP:OPAQUE
BEGIN:VALARM
TRIGGER:-PT2H
ACTION:DISPLAY
DESCRIPTION:Rivolta/Nabholz vs. Starzyk/Kalish
END:VALARM
END:VEVENT
BEGIN:VEVENT
UID:pupc-61683944-20240222T204000@quickscores.com
DTSTAMP:20260424T095100Z
DTSTART;TZID=America/Chicago:20240222T204000
DURATION:PT0H40M0S
SUMMARY:Starzyk/Kalish vs. Gibson/Gibson
DESCRIPTION:Latewinter Thursday Intermediate Lg. - Paddle Up Pickleball Club
LOCATION:Court 6
CATEGORIES:QuickScores, Pickleball Game
TRANSP:OPAQUE
BEGIN:VALARM
TRIGGER:-PT2H
ACTION:DISPLAY
DESCRIPTION:Starzyk/Kalish vs. Gibson/Gibson
END:VALARM
END:VEVENT
BEGIN:VEVENT
UID:pupc-61683950-20240229T180000@quickscores.com
DTSTAMP:20260424T095100Z
DTSTART;TZID=America/Chicago:20240229T180000
DURATION:PT0H40M0S
SUMMARY:Wolfe/Arnel vs. Starzyk/Kalish
DESCRIPTION:Latewinter Thursday Intermediate Lg. - Paddle Up Pickleball Club
LOCATION:Court 6
CATEGORIES:QuickScores, Pickleball Game
TRANSP:OPAQUE
BEGIN:VALARM
TRIGGER:-PT2H
ACTION:DISPLAY
DESCRIPTION:Wolfe/Arnel vs. Starzyk/Kalish
END:VALARM
END:VEVENT
BEGIN:VEVENT
UID:pupc-61683949-20240229T192000@quickscores.com
DTSTAMP:20260424T095100Z
DTSTART;TZID=America/Chicago:20240229T192000
DURATION:PT0H40M0S
SUMMARY:Starzyk/Kalish vs. Hoffman/Brueckmann
DESCRIPTION:Latewinter Thursday Intermediate Lg. - Paddle Up Pickleball Club
LOCATION:Court 6
CATEGORIES:QuickScores, Pickleball Game
TRANSP:OPAQUE
BEGIN:VALARM
TRIGGER:-PT2H
ACTION:DISPLAY
DESCRIPTION:Starzyk/Kalish vs. Hoffman/Brueckmann
END:VALARM
END:VEVENT
BEGIN:VEVENT
UID:pupc-61683959-20240307T192000@quickscores.com
DTSTAMP:20260424T095100Z
DTSTART;TZID=America/Chicago:20240307T192000
DURATION:PT0H40M0S
SUMMARY:Gibson/Gibson vs. Starzyk/Kalish
DESCRIPTION:Latewinter Thursday Intermediate Lg. - Paddle Up Pickleball Club
LOCATION:Court 6
CATEGORIES:QuickScores, Pickleball Game
TRANSP:OPAQUE
BEGIN:VALARM
TRIGGER:-PT2H
ACTION:DISPLAY
DESCRIPTION:Gibson/Gibson vs. Starzyk/Kalish
END:VALARM
END:VEVENT
BEGIN:VEVENT
UID:pupc-61683963-20240307T200000@quickscores.com
DTSTAMP:20260424T095100Z
DTSTART;TZID=America/Chicago:20240307T200000
DURATION:PT0H40M0S
SUMMARY:Spurlock/Shaw vs. Starzyk/Kalish
DESCRIPTION:Latewinter Thursday Intermediate Lg. - Paddle Up Pickleball Club
LOCATION:Court 6
CATEGORIES:QuickScores, Pickleball Game
TRANSP:OPAQUE
BEGIN:VALARM
TRIGGER:-PT2H
ACTION:DISPLAY
DESCRIPTION:Spurlock/Shaw vs. Starzyk/Kalish
END:VALARM
END:VEVENT
BEGIN:VEVENT
UID:pupc-61683970-20240314T180000@quickscores.com
DTSTAMP:20260424T095100Z
DTSTART;TZID=America/Chicago:20240314T180000
DURATION:PT0H40M0S
SUMMARY:Miles/Miles2 vs. Starzyk/Kalish
DESCRIPTION:Latewinter Thursday Intermediate Lg. - Paddle Up Pickleball Club
LOCATION:Court 3
CATEGORIES:QuickScores, Pickleball Game
TRANSP:OPAQUE
BEGIN:VALARM
TRIGGER:-PT2H
ACTION:DISPLAY
DESCRIPTION:Miles/Miles2 vs. Starzyk/Kalish
END:VALARM
END:VEVENT
BEGIN:VEVENT
UID:pupc-61683968-20240314T184000@quickscores.com
DTSTAMP:20260424T095100Z
DTSTART;TZID=America/Chicago:20240314T184000
DURATION:PT0H40M0S
SUMMARY:Spurlock/Shaw vs. Starzyk/Kalish
DESCRIPTION:Latewinter Thursday Intermediate Lg. - Paddle Up Pickleball Club
LOCATION:Court 6
CATEGORIES:QuickScores, Pickleball Game
TRANSP:OPAQUE
BEGIN:VALARM
TRIGGER:-PT2H
ACTION:DISPLAY
DESCRIPTION:Spurlock/Shaw vs. Starzyk/Kalish
END:VALARM
END:VEVENT
END:VCALENDAR
