BEGIN:VCALENDAR
VERSION:2.0
PRODID:-//QuickScores.com//BQ Dynamic iCal Creator//EN
METHOD:PUBLISH
X-WR-CALNAME:Jacobs/Pohl - Latewinter Thursday Intermediate Lg. - Completed Leagues 2023/24
X-WR-CALDESC:QuickScores game calendar
X-PUBLISHED-TTL:PT24H
REFRESH-INTERVAL;VALUE=DURATION:PT24H
CALSCALE:GREGORIAN
BEGIN:VTIMEZONE
TZID:America/Chicago
X-LIC-LOCATION:America/Chicago
BEGIN:DAYLIGHT
TZNAME:CDT
TZOFFSETFROM:-0600
TZOFFSETTO:-0500
DTSTART:19700308T020000
RRULE:FREQ=YEARLY;BYMONTH=3;BYDAY=2SU
END:DAYLIGHT
BEGIN:STANDARD
TZNAME:CST
TZOFFSETFROM:-0500
TZOFFSETTO:-0600
DTSTART:19701101T020000
RRULE:FREQ=YEARLY;BYMONTH=11;BYDAY=1SU
END:STANDARD
END:VTIMEZONE
BEGIN:VEVENT
UID:pupc-61683935-20240215T204000@quickscores.com
DTSTAMP:20260425T055000Z
DTSTART;TZID=America/Chicago:20240215T204000
DURATION:PT0H40M0S
SUMMARY:Jacobs/Pohl vs. Gibson/Gibson
DESCRIPTION:Latewinter Thursday Intermediate Lg. - Paddle Up Pickleball Club
LOCATION:Court 6
CATEGORIES:QuickScores, Pickleball Game
TRANSP:OPAQUE
BEGIN:VALARM
TRIGGER:-PT2H
ACTION:DISPLAY
DESCRIPTION:Jacobs/Pohl vs. Gibson/Gibson
END:VALARM
END:VEVENT
BEGIN:VEVENT
UID:pupc-61683936-20240215T212000@quickscores.com
DTSTAMP:20260425T055000Z
DTSTART;TZID=America/Chicago:20240215T212000
DURATION:PT0H40M0S
SUMMARY:Wolfe/Arnel vs. Jacobs/Pohl
DESCRIPTION:Latewinter Thursday Intermediate Lg. - Paddle Up Pickleball Club
LOCATION:Court 6
CATEGORIES:QuickScores, Pickleball Game
TRANSP:OPAQUE
BEGIN:VALARM
TRIGGER:-PT2H
ACTION:DISPLAY
DESCRIPTION:Wolfe/Arnel vs. Jacobs/Pohl
END:VALARM
END:VEVENT
BEGIN:VEVENT
UID:pupc-61683946-20240222T180000@quickscores.com
DTSTAMP:20260425T055000Z
DTSTART;TZID=America/Chicago:20240222T180000
DURATION:PT0H40M0S
SUMMARY:Jacobs/Pohl vs. Miles/Miles2
DESCRIPTION:Latewinter Thursday Intermediate Lg. - Paddle Up Pickleball Club
LOCATION:Court 6
CATEGORIES:QuickScores, Pickleball Game
TRANSP:OPAQUE
BEGIN:VALARM
TRIGGER:-PT2H
ACTION:DISPLAY
DESCRIPTION:Jacobs/Pohl vs. Miles/Miles2
END:VALARM
END:VEVENT
BEGIN:VEVENT
UID:pupc-61683942-20240222T184000@quickscores.com
DTSTAMP:20260425T055000Z
DTSTART;TZID=America/Chicago:20240222T184000
DURATION:PT0H40M0S
SUMMARY:Jacobs/Pohl vs. Hoffman/Brueckmann
DESCRIPTION:Latewinter Thursday Intermediate Lg. - Paddle Up Pickleball Club
LOCATION:Court 6
CATEGORIES:QuickScores, Pickleball Game
TRANSP:OPAQUE
BEGIN:VALARM
TRIGGER:-PT2H
ACTION:DISPLAY
DESCRIPTION:Jacobs/Pohl vs. Hoffman/Brueckmann
END:VALARM
END:VEVENT
BEGIN:VEVENT
UID:pupc-61683952-20240229T180000@quickscores.com
DTSTAMP:20260425T055000Z
DTSTART;TZID=America/Chicago:20240229T180000
DURATION:PT0H40M0S
SUMMARY:Spurlock/Shaw vs. Jacobs/Pohl
DESCRIPTION:Latewinter Thursday Intermediate Lg. - Paddle Up Pickleball Club
LOCATION:Court 3
CATEGORIES:QuickScores, Pickleball Game
TRANSP:OPAQUE
BEGIN:VALARM
TRIGGER:-PT2H
ACTION:DISPLAY
DESCRIPTION:Spurlock/Shaw vs. Jacobs/Pohl
END:VALARM
END:VEVENT
BEGIN:VEVENT
UID:pupc-61683951-20240229T184000@quickscores.com
DTSTAMP:20260425T055000Z
DTSTART;TZID=America/Chicago:20240229T184000
DURATION:PT0H40M0S
SUMMARY:Jacobs/Pohl vs. Hoffman/Brueckmann
DESCRIPTION:Latewinter Thursday Intermediate Lg. - Paddle Up Pickleball Club
LOCATION:Court 6
CATEGORIES:QuickScores, Pickleball Game
TRANSP:OPAQUE
BEGIN:VALARM
TRIGGER:-PT2H
ACTION:DISPLAY
DESCRIPTION:Jacobs/Pohl vs. Hoffman/Brueckmann
END:VALARM
END:VEVENT
BEGIN:VEVENT
UID:pupc-61683962-20240307T180000@quickscores.com
DTSTAMP:20260425T055000Z
DTSTART;TZID=America/Chicago:20240307T180000
DURATION:PT0H40M0S
SUMMARY:Jacobs/Pohl vs. Wolfe/Arnel
DESCRIPTION:Latewinter Thursday Intermediate Lg. - Paddle Up Pickleball Club
LOCATION:Court 3
CATEGORIES:QuickScores, Pickleball Game
TRANSP:OPAQUE
BEGIN:VALARM
TRIGGER:-PT2H
ACTION:DISPLAY
DESCRIPTION:Jacobs/Pohl vs. Wolfe/Arnel
END:VALARM
END:VEVENT
BEGIN:VEVENT
UID:pupc-61683956-20240307T184000@quickscores.com
DTSTAMP:20260425T055000Z
DTSTART;TZID=America/Chicago:20240307T184000
DURATION:PT0H40M0S
SUMMARY:Rivolta/Nabholz vs. Jacobs/Pohl
DESCRIPTION:Latewinter Thursday Intermediate Lg. - Paddle Up Pickleball Club
LOCATION:Court 6
CATEGORIES:QuickScores, Pickleball Game
TRANSP:OPAQUE
BEGIN:VALARM
TRIGGER:-PT2H
ACTION:DISPLAY
DESCRIPTION:Rivolta/Nabholz vs. Jacobs/Pohl
END:VALARM
END:VEVENT
BEGIN:VEVENT
UID:pupc-61683971-20240314T192000@quickscores.com
DTSTAMP:20260425T055000Z
DTSTART;TZID=America/Chicago:20240314T192000
DURATION:PT0H40M0S
SUMMARY:Durham/Durham vs. Jacobs/Pohl
DESCRIPTION:Latewinter Thursday Intermediate Lg. - Paddle Up Pickleball Club
LOCATION:Court 6
CATEGORIES:QuickScores, Pickleball Game
TRANSP:OPAQUE
BEGIN:VALARM
TRIGGER:-PT2H
ACTION:DISPLAY
DESCRIPTION:Durham/Durham vs. Jacobs/Pohl
END:VALARM
END:VEVENT
BEGIN:VEVENT
UID:pupc-62126182-20240314T200000@quickscores.com
DTSTAMP:20260425T055000Z
DTSTART;TZID=America/Chicago:20240314T200000
DURATION:PT0H40M0S
SUMMARY:Jacobs/Pohl vs. Weicht/Weicht2
DESCRIPTION:Latewinter Thursday Intermediate Lg. - Paddle Up Pickleball Club
LOCATION:Court 3
CATEGORIES:QuickScores, Pickleball Game
TRANSP:OPAQUE
BEGIN:VALARM
TRIGGER:-PT2H
ACTION:DISPLAY
DESCRIPTION:Jacobs/Pohl vs. Weicht/Weicht2
END:VALARM
END:VEVENT
END:VCALENDAR
