BEGIN:VCALENDAR
VERSION:2.0
PRODID:-//QuickScores.com//BQ Dynamic iCal Creator//EN
METHOD:PUBLISH
X-WR-CALNAME:Schneider/Spence - Latewinter Tuesday Intermediate Lg. - Completed Leagues 2023/24
X-WR-CALDESC:QuickScores game calendar
X-PUBLISHED-TTL:PT24H
REFRESH-INTERVAL;VALUE=DURATION:PT24H
CALSCALE:GREGORIAN
BEGIN:VTIMEZONE
TZID:America/Chicago
X-LIC-LOCATION:America/Chicago
BEGIN:DAYLIGHT
TZNAME:CDT
TZOFFSETFROM:-0600
TZOFFSETTO:-0500
DTSTART:19700308T020000
RRULE:FREQ=YEARLY;BYMONTH=3;BYDAY=2SU
END:DAYLIGHT
BEGIN:STANDARD
TZNAME:CST
TZOFFSETFROM:-0500
TZOFFSETTO:-0600
DTSTART:19701101T020000
RRULE:FREQ=YEARLY;BYMONTH=11;BYDAY=1SU
END:STANDARD
END:VTIMEZONE
BEGIN:VEVENT
UID:pupc-61651511-20240213T180000@quickscores.com
DTSTAMP:20260423T165100Z
DTSTART;TZID=America/Chicago:20240213T180000
DURATION:PT0H40M0S
SUMMARY:Schneider/Spence vs. Swenson/Swenson
DESCRIPTION:Latewinter Tuesday Intermediate Lg. - Paddle Up Pickleball Club
LOCATION:Court 3
CATEGORIES:QuickScores, Pickleball Game
TRANSP:OPAQUE
BEGIN:VALARM
TRIGGER:-PT2H
ACTION:DISPLAY
DESCRIPTION:Schneider/Spence vs. Swenson/Swenson
END:VALARM
END:VEVENT
BEGIN:VEVENT
UID:pupc-61651512-20240213T184000@quickscores.com
DTSTAMP:20260423T165100Z
DTSTART;TZID=America/Chicago:20240213T184000
DURATION:PT0H40M0S
SUMMARY:Schneider/Spence vs. Donovan/Howell
DESCRIPTION:Latewinter Tuesday Intermediate Lg. - Paddle Up Pickleball Club
LOCATION:Court 3
CATEGORIES:QuickScores, Pickleball Game
TRANSP:OPAQUE
BEGIN:VALARM
TRIGGER:-PT2H
ACTION:DISPLAY
DESCRIPTION:Schneider/Spence vs. Donovan/Howell
END:VALARM
END:VEVENT
BEGIN:VEVENT
UID:pupc-61651521-20240220T180000@quickscores.com
DTSTAMP:20260423T165100Z
DTSTART;TZID=America/Chicago:20240220T180000
DURATION:PT0H40M0S
SUMMARY:Schneider/Spence vs. Norsen/Norsen
DESCRIPTION:Latewinter Tuesday Intermediate Lg. - Paddle Up Pickleball Club
LOCATION:Court 3
CATEGORIES:QuickScores, Pickleball Game
TRANSP:OPAQUE
BEGIN:VALARM
TRIGGER:-PT2H
ACTION:DISPLAY
DESCRIPTION:Schneider/Spence vs. Norsen/Norsen
END:VALARM
END:VEVENT
BEGIN:VEVENT
UID:pupc-61651520-20240220T184000@quickscores.com
DTSTAMP:20260423T165100Z
DTSTART;TZID=America/Chicago:20240220T184000
DURATION:PT0H40M0S
SUMMARY:Finkes/Finkes vs. Schneider/Spence
DESCRIPTION:Latewinter Tuesday Intermediate Lg. - Paddle Up Pickleball Club
LOCATION:Court 3
CATEGORIES:QuickScores, Pickleball Game
TRANSP:OPAQUE
BEGIN:VALARM
TRIGGER:-PT2H
ACTION:DISPLAY
DESCRIPTION:Finkes/Finkes vs. Schneider/Spence
END:VALARM
END:VEVENT
BEGIN:VEVENT
UID:pupc-61651529-20240227T184000@quickscores.com
DTSTAMP:20260423T165100Z
DTSTART;TZID=America/Chicago:20240227T184000
DURATION:PT0H40M0S
SUMMARY:Schneider/Spence vs. Lamb/Bryles
DESCRIPTION:Latewinter Tuesday Intermediate Lg. - Paddle Up Pickleball Club
LOCATION:Court 1
CATEGORIES:QuickScores, Pickleball Game
TRANSP:OPAQUE
BEGIN:VALARM
TRIGGER:-PT2H
ACTION:DISPLAY
DESCRIPTION:Schneider/Spence vs. Lamb/Bryles
END:VALARM
END:VEVENT
BEGIN:VEVENT
UID:pupc-61651530-20240227T192000@quickscores.com
DTSTAMP:20260423T165100Z
DTSTART;TZID=America/Chicago:20240227T192000
DURATION:PT0H40M0S
SUMMARY:Bauman/Quitschau vs. Schneider/Spence
DESCRIPTION:Latewinter Tuesday Intermediate Lg. - Paddle Up Pickleball Club
LOCATION:Court 1
CATEGORIES:QuickScores, Pickleball Game
TRANSP:OPAQUE
BEGIN:VALARM
TRIGGER:-PT2H
ACTION:DISPLAY
DESCRIPTION:Bauman/Quitschau vs. Schneider/Spence
END:VALARM
END:VEVENT
BEGIN:VEVENT
UID:pupc-61651538-20240305T200000@quickscores.com
DTSTAMP:20260423T165100Z
DTSTART;TZID=America/Chicago:20240305T200000
DURATION:PT0H40M0S
SUMMARY:Riebel/Herbert vs. Schneider/Spence
DESCRIPTION:Latewinter Tuesday Intermediate Lg. - Paddle Up Pickleball Club
LOCATION:Court 1
CATEGORIES:QuickScores, Pickleball Game
TRANSP:OPAQUE
BEGIN:VALARM
TRIGGER:-PT2H
ACTION:DISPLAY
DESCRIPTION:Riebel/Herbert vs. Schneider/Spence
END:VALARM
END:VEVENT
BEGIN:VEVENT
UID:pupc-61651539-20240305T212000@quickscores.com
DTSTAMP:20260423T165100Z
DTSTART;TZID=America/Chicago:20240305T212000
DURATION:PT0H40M0S
SUMMARY:Durham/Rosenberger vs. Schneider/Spence
DESCRIPTION:Latewinter Tuesday Intermediate Lg. - Paddle Up Pickleball Club
LOCATION:Court 1
CATEGORIES:QuickScores, Pickleball Game
TRANSP:OPAQUE
BEGIN:VALARM
TRIGGER:-PT2H
ACTION:DISPLAY
DESCRIPTION:Durham/Rosenberger vs. Schneider/Spence
END:VALARM
END:VEVENT
BEGIN:VEVENT
UID:pupc-61651545-20240312T184000@quickscores.com
DTSTAMP:20260423T165100Z
DTSTART;TZID=America/Chicago:20240312T184000
DURATION:PT0H40M0S
SUMMARY:Schneider/Spence vs. Bauman/Quitschau
DESCRIPTION:Latewinter Tuesday Intermediate Lg. - Paddle Up Pickleball Club
LOCATION:Court 3
CATEGORIES:QuickScores, Pickleball Game
TRANSP:OPAQUE
BEGIN:VALARM
TRIGGER:-PT2H
ACTION:DISPLAY
DESCRIPTION:Schneider/Spence vs. Bauman/Quitschau
END:VALARM
END:VEVENT
BEGIN:VEVENT
UID:pupc-61651547-20240312T192000@quickscores.com
DTSTAMP:20260423T165100Z
DTSTART;TZID=America/Chicago:20240312T192000
DURATION:PT0H40M0S
SUMMARY:Schneider/Spence vs. Finkes/Finkes
DESCRIPTION:Latewinter Tuesday Intermediate Lg. - Paddle Up Pickleball Club
LOCATION:Court 1
CATEGORIES:QuickScores, Pickleball Game
TRANSP:OPAQUE
BEGIN:VALARM
TRIGGER:-PT2H
ACTION:DISPLAY
DESCRIPTION:Schneider/Spence vs. Finkes/Finkes
END:VALARM
END:VEVENT
BEGIN:VEVENT
UID:pupc-62188720-20240319T191000@quickscores.com
DTSTAMP:20260423T165100Z
DTSTART;TZID=America/Chicago:20240319T191000
DURATION:PT0H35M0S
SUMMARY:[3] Finkes/Finkes vs. [6] Schneider/Spence
DESCRIPTION:Latewinter Tuesday Intermediate Lg. - Paddle Up Pickleball Club
LOCATION:Court 6
CATEGORIES:QuickScores, Pickleball Game
TRANSP:OPAQUE
BEGIN:VALARM
TRIGGER:-PT2H
ACTION:DISPLAY
DESCRIPTION:[3] Finkes/Finkes vs. [6] Schneider/Spence
END:VALARM
END:VEVENT
END:VCALENDAR
