BEGIN:VCALENDAR
VERSION:2.0
PRODID:-//QuickScores.com//BQ Dynamic iCal Creator//EN
METHOD:PUBLISH
X-WR-CALNAME:KellyDuBois/CaraShouse - Winter Tuesday Recreational League - Completed Leagues 2023/24
X-WR-CALDESC:QuickScores game calendar
X-PUBLISHED-TTL:PT24H
REFRESH-INTERVAL;VALUE=DURATION:PT24H
CALSCALE:GREGORIAN
BEGIN:VTIMEZONE
TZID:America/Chicago
X-LIC-LOCATION:America/Chicago
BEGIN:DAYLIGHT
TZNAME:CDT
TZOFFSETFROM:-0600
TZOFFSETTO:-0500
DTSTART:19700308T020000
RRULE:FREQ=YEARLY;BYMONTH=3;BYDAY=2SU
END:DAYLIGHT
BEGIN:STANDARD
TZNAME:CST
TZOFFSETFROM:-0500
TZOFFSETTO:-0600
DTSTART:19701101T020000
RRULE:FREQ=YEARLY;BYMONTH=11;BYDAY=1SU
END:STANDARD
END:VTIMEZONE
BEGIN:VEVENT
UID:pupc-61173367-20240109T200000@quickscores.com
DTSTAMP:20260419T140700Z
DTSTART;TZID=America/Chicago:20240109T200000
DURATION:PT0H40M0S
SUMMARY:AngelaLamb/KathyAllen vs. KellyDuBois/CaraShouse
DESCRIPTION:Winter Tuesday Recreational League - Paddle Up Pickleball Club
LOCATION:Court 2
CATEGORIES:QuickScores, Pickleball Game
TRANSP:OPAQUE
BEGIN:VALARM
TRIGGER:-PT2H
ACTION:DISPLAY
DESCRIPTION:AngelaLamb/KathyAllen vs. KellyDuBois/CaraShouse
END:VALARM
END:VEVENT
BEGIN:VEVENT
UID:pupc-61008436-20240109T212000@quickscores.com
DTSTAMP:20260419T140700Z
DTSTART;TZID=America/Chicago:20240109T212000
DURATION:PT0H40M0S
SUMMARY:KellyDuBois/CaraShouse vs. LynneVogt/BoVogt
DESCRIPTION:Winter Tuesday Recreational League - Paddle Up Pickleball Club
LOCATION:Court 1
CATEGORIES:QuickScores, Pickleball Game
TRANSP:OPAQUE
BEGIN:VALARM
TRIGGER:-PT2H
ACTION:DISPLAY
DESCRIPTION:KellyDuBois/CaraShouse vs. LynneVogt/BoVogt
END:VALARM
END:VEVENT
BEGIN:VEVENT
UID:pupc-61008438-20240116T200000@quickscores.com
DTSTAMP:20260419T140700Z
DTSTART;TZID=America/Chicago:20240116T200000
DURATION:PT0H40M0S
SUMMARY:KellyDuBois/CaraShouse vs. LynneVogt/BoVogt
DESCRIPTION:Winter Tuesday Recreational League - Paddle Up Pickleball Club
LOCATION:Court 1
CATEGORIES:QuickScores, Pickleball Game
TRANSP:OPAQUE
BEGIN:VALARM
TRIGGER:-PT2H
ACTION:DISPLAY
DESCRIPTION:KellyDuBois/CaraShouse vs. LynneVogt/BoVogt
END:VALARM
END:VEVENT
BEGIN:VEVENT
UID:pupc-61173368-20240116T204000@quickscores.com
DTSTAMP:20260419T140700Z
DTSTART;TZID=America/Chicago:20240116T204000
DURATION:PT0H40M0S
SUMMARY:MichelleFitzgerald/DanFitzgerald vs. KellyDuBois/CaraShouse
DESCRIPTION:Winter Tuesday Recreational League - Paddle Up Pickleball Club
LOCATION:Court 3
CATEGORIES:QuickScores, Pickleball Game
TRANSP:OPAQUE
BEGIN:VALARM
TRIGGER:-PT2H
ACTION:DISPLAY
DESCRIPTION:MichelleFitzgerald/DanFitzgerald vs. KellyDuBois/CaraShouse
END:VALARM
END:VEVENT
BEGIN:VEVENT
UID:pupc-61173369-20240123T180000@quickscores.com
DTSTAMP:20260419T140700Z
DTSTART;TZID=America/Chicago:20240123T180000
DURATION:PT0H40M0S
SUMMARY:KellyDuBois/CaraShouse vs. MikeRiebel/TerryHerbert
DESCRIPTION:Winter Tuesday Recreational League - Paddle Up Pickleball Club
LOCATION:Court 2
CATEGORIES:QuickScores, Pickleball Game
TRANSP:OPAQUE
BEGIN:VALARM
TRIGGER:-PT2H
ACTION:DISPLAY
DESCRIPTION:KellyDuBois/CaraShouse vs. MikeRiebel/TerryHerbert
END:VALARM
END:VEVENT
BEGIN:VEVENT
UID:pupc-61008453-20240123T192000@quickscores.com
DTSTAMP:20260419T140700Z
DTSTART;TZID=America/Chicago:20240123T192000
DURATION:PT0H40M0S
SUMMARY:KellyDuBois/CaraShouse vs. KimBlumenberg/AngieSchreck
DESCRIPTION:Winter Tuesday Recreational League - Paddle Up Pickleball Club
LOCATION:Court 3
CATEGORIES:QuickScores, Pickleball Game
TRANSP:OPAQUE
BEGIN:VALARM
TRIGGER:-PT2H
ACTION:DISPLAY
DESCRIPTION:KellyDuBois/CaraShouse vs. KimBlumenberg/AngieSchreck
END:VALARM
END:VEVENT
BEGIN:VEVENT
UID:pupc-61008455-20240130T180000@quickscores.com
DTSTAMP:20260419T140700Z
DTSTART;TZID=America/Chicago:20240130T180000
DURATION:PT0H40M0S
SUMMARY:KellyDuBois/CaraShouse vs. MikeRiebel/TerryHerbert
DESCRIPTION:Winter Tuesday Recreational League - Paddle Up Pickleball Club
LOCATION:Court 1
CATEGORIES:QuickScores, Pickleball Game
TRANSP:OPAQUE
BEGIN:VALARM
TRIGGER:-PT2H
ACTION:DISPLAY
DESCRIPTION:KellyDuBois/CaraShouse vs. MikeRiebel/TerryHerbert
END:VALARM
END:VEVENT
BEGIN:VEVENT
UID:pupc-61008456-20240130T192000@quickscores.com
DTSTAMP:20260419T140700Z
DTSTART;TZID=America/Chicago:20240130T192000
DURATION:PT0H40M0S
SUMMARY:KellyDuBois/CaraShouse vs. LoriSchneider/SusanSpence
DESCRIPTION:Winter Tuesday Recreational League - Paddle Up Pickleball Club
LOCATION:Court 1
CATEGORIES:QuickScores, Pickleball Game
TRANSP:OPAQUE
BEGIN:VALARM
TRIGGER:-PT2H
ACTION:DISPLAY
DESCRIPTION:KellyDuBois/CaraShouse vs. LoriSchneider/SusanSpence
END:VALARM
END:VEVENT
END:VCALENDAR
