BEGIN:VCALENDAR
VERSION:2.0
PRODID:-//QuickScores.com//BQ Dynamic iCal Creator//EN
METHOD:PUBLISH
X-WR-CALNAME:AngelaLamb/KathyAllen - Winter Tuesday Recreational League - Completed Leagues 2023/24
X-WR-CALDESC:QuickScores game calendar
X-PUBLISHED-TTL:PT24H
REFRESH-INTERVAL;VALUE=DURATION:PT24H
CALSCALE:GREGORIAN
BEGIN:VTIMEZONE
TZID:America/Chicago
X-LIC-LOCATION:America/Chicago
BEGIN:DAYLIGHT
TZNAME:CDT
TZOFFSETFROM:-0600
TZOFFSETTO:-0500
DTSTART:19700308T020000
RRULE:FREQ=YEARLY;BYMONTH=3;BYDAY=2SU
END:DAYLIGHT
BEGIN:STANDARD
TZNAME:CST
TZOFFSETFROM:-0500
TZOFFSETTO:-0600
DTSTART:19701101T020000
RRULE:FREQ=YEARLY;BYMONTH=11;BYDAY=1SU
END:STANDARD
END:VTIMEZONE
BEGIN:VEVENT
UID:pupc-61008424-20240102T180000@quickscores.com
DTSTAMP:20260419T140900Z
DTSTART;TZID=America/Chicago:20240102T180000
DURATION:PT0H40M0S
SUMMARY:AngelaLamb/KathyAllen vs. CarrieBlackburn/NicoleRosner
DESCRIPTION:Winter Tuesday Recreational League - Paddle Up Pickleball Club
LOCATION:Court 1
CATEGORIES:QuickScores, Pickleball Game
TRANSP:OPAQUE
BEGIN:VALARM
TRIGGER:-PT2H
ACTION:DISPLAY
DESCRIPTION:AngelaLamb/KathyAllen vs. CarrieBlackburn/NicoleRosner
END:VALARM
END:VEVENT
BEGIN:VEVENT
UID:pupc-61008423-20240102T184000@quickscores.com
DTSTAMP:20260419T140900Z
DTSTART;TZID=America/Chicago:20240102T184000
DURATION:PT0H40M0S
SUMMARY:AngelaLamb/KathyAllen vs. LoriSchneider/SusanSpence
DESCRIPTION:Winter Tuesday Recreational League - Paddle Up Pickleball Club
LOCATION:Court 2
CATEGORIES:QuickScores, Pickleball Game
TRANSP:OPAQUE
BEGIN:VALARM
TRIGGER:-PT2H
ACTION:DISPLAY
DESCRIPTION:AngelaLamb/KathyAllen vs. LoriSchneider/SusanSpence
END:VALARM
END:VEVENT
BEGIN:VEVENT
UID:pupc-61173367-20240109T200000@quickscores.com
DTSTAMP:20260419T140900Z
DTSTART;TZID=America/Chicago:20240109T200000
DURATION:PT0H40M0S
SUMMARY:AngelaLamb/KathyAllen vs. KellyDuBois/CaraShouse
DESCRIPTION:Winter Tuesday Recreational League - Paddle Up Pickleball Club
LOCATION:Court 2
CATEGORIES:QuickScores, Pickleball Game
TRANSP:OPAQUE
BEGIN:VALARM
TRIGGER:-PT2H
ACTION:DISPLAY
DESCRIPTION:AngelaLamb/KathyAllen vs. KellyDuBois/CaraShouse
END:VALARM
END:VEVENT
BEGIN:VEVENT
UID:pupc-61008435-20240109T204000@quickscores.com
DTSTAMP:20260419T140900Z
DTSTART;TZID=America/Chicago:20240109T204000
DURATION:PT0H40M0S
SUMMARY:StacieThomas/KevinThomas vs. AngelaLamb/KathyAllen
DESCRIPTION:Winter Tuesday Recreational League - Paddle Up Pickleball Club
LOCATION:Court 1
CATEGORIES:QuickScores, Pickleball Game
TRANSP:OPAQUE
BEGIN:VALARM
TRIGGER:-PT2H
ACTION:DISPLAY
DESCRIPTION:StacieThomas/KevinThomas vs. AngelaLamb/KathyAllen
END:VALARM
END:VEVENT
BEGIN:VEVENT
UID:pupc-61008442-20240116T192000@quickscores.com
DTSTAMP:20260419T140900Z
DTSTART;TZID=America/Chicago:20240116T192000
DURATION:PT0H40M0S
SUMMARY:AngelaLamb/KathyAllen vs. KimBlumenberg/AngieSchreck
DESCRIPTION:Winter Tuesday Recreational League - Paddle Up Pickleball Club
LOCATION:Court 3
CATEGORIES:QuickScores, Pickleball Game
TRANSP:OPAQUE
BEGIN:VALARM
TRIGGER:-PT2H
ACTION:DISPLAY
DESCRIPTION:AngelaLamb/KathyAllen vs. KimBlumenberg/AngieSchreck
END:VALARM
END:VEVENT
BEGIN:VEVENT
UID:pupc-61008441-20240116T204000@quickscores.com
DTSTAMP:20260419T140900Z
DTSTART;TZID=America/Chicago:20240116T204000
DURATION:PT0H40M0S
SUMMARY:MikeRiebel/TerryHerbert vs. AngelaLamb/KathyAllen
DESCRIPTION:Winter Tuesday Recreational League - Paddle Up Pickleball Club
LOCATION:Court 2
CATEGORIES:QuickScores, Pickleball Game
TRANSP:OPAQUE
BEGIN:VALARM
TRIGGER:-PT2H
ACTION:DISPLAY
DESCRIPTION:MikeRiebel/TerryHerbert vs. AngelaLamb/KathyAllen
END:VALARM
END:VEVENT
BEGIN:VEVENT
UID:pupc-61008450-20240123T204000@quickscores.com
DTSTAMP:20260419T140900Z
DTSTART;TZID=America/Chicago:20240123T204000
DURATION:PT0H40M0S
SUMMARY:ShannonAdams/ScottAdams vs. AngelaLamb/KathyAllen
DESCRIPTION:Winter Tuesday Recreational League - Paddle Up Pickleball Club
LOCATION:Court 1
CATEGORIES:QuickScores, Pickleball Game
TRANSP:OPAQUE
BEGIN:VALARM
TRIGGER:-PT2H
ACTION:DISPLAY
DESCRIPTION:ShannonAdams/ScottAdams vs. AngelaLamb/KathyAllen
END:VALARM
END:VEVENT
BEGIN:VEVENT
UID:pupc-61008451-20240123T212000@quickscores.com
DTSTAMP:20260419T140900Z
DTSTART;TZID=America/Chicago:20240123T212000
DURATION:PT0H40M0S
SUMMARY:CarrieBlackburn/NicoleRosner vs. AngelaLamb/KathyAllen
DESCRIPTION:Winter Tuesday Recreational League - Paddle Up Pickleball Club
LOCATION:Court 1
CATEGORIES:QuickScores, Pickleball Game
TRANSP:OPAQUE
BEGIN:VALARM
TRIGGER:-PT2H
ACTION:DISPLAY
DESCRIPTION:CarrieBlackburn/NicoleRosner vs. AngelaLamb/KathyAllen
END:VALARM
END:VEVENT
BEGIN:VEVENT
UID:pupc-61008463-20240130T184000@quickscores.com
DTSTAMP:20260419T140900Z
DTSTART;TZID=America/Chicago:20240130T184000
DURATION:PT0H40M0S
SUMMARY:LynneVogt/BoVogt vs. AngelaLamb/KathyAllen
DESCRIPTION:Winter Tuesday Recreational League - Paddle Up Pickleball Club
LOCATION:Court 2
CATEGORIES:QuickScores, Pickleball Game
TRANSP:OPAQUE
BEGIN:VALARM
TRIGGER:-PT2H
ACTION:DISPLAY
DESCRIPTION:LynneVogt/BoVogt vs. AngelaLamb/KathyAllen
END:VALARM
END:VEVENT
BEGIN:VEVENT
UID:pupc-61008462-20240130T192000@quickscores.com
DTSTAMP:20260419T140900Z
DTSTART;TZID=America/Chicago:20240130T192000
DURATION:PT0H40M0S
SUMMARY:AngelaLamb/KathyAllen vs. StacieThomas/KevinThomas
DESCRIPTION:Winter Tuesday Recreational League - Paddle Up Pickleball Club
LOCATION:Court 3
CATEGORIES:QuickScores, Pickleball Game
TRANSP:OPAQUE
BEGIN:VALARM
TRIGGER:-PT2H
ACTION:DISPLAY
DESCRIPTION:AngelaLamb/KathyAllen vs. StacieThomas/KevinThomas
END:VALARM
END:VEVENT
END:VCALENDAR
