BEGIN:VCALENDAR
VERSION:2.0
PRODID:-//QuickScores.com//BQ Dynamic iCal Creator//EN
METHOD:PUBLISH
X-WR-CALNAME:JanetPeabody/BrendaAlexander - Komen Tournament - Womens - Completed Tournaments 2023/24
X-WR-CALDESC:QuickScores game calendar
X-PUBLISHED-TTL:PT24H
REFRESH-INTERVAL;VALUE=DURATION:PT24H
CALSCALE:GREGORIAN
BEGIN:VTIMEZONE
TZID:America/Chicago
X-LIC-LOCATION:America/Chicago
BEGIN:DAYLIGHT
TZNAME:CDT
TZOFFSETFROM:-0600
TZOFFSETTO:-0500
DTSTART:19700308T020000
RRULE:FREQ=YEARLY;BYMONTH=3;BYDAY=2SU
END:DAYLIGHT
BEGIN:STANDARD
TZNAME:CST
TZOFFSETFROM:-0500
TZOFFSETTO:-0600
DTSTART:19701101T020000
RRULE:FREQ=YEARLY;BYMONTH=11;BYDAY=1SU
END:STANDARD
END:VTIMEZONE
BEGIN:VEVENT
UID:pupc-60286445-20231021T090000@quickscores.com
DTSTAMP:20260421T164900Z
DTSTART;TZID=America/Chicago:20231021T090000
DURATION:PT0H20M0S
SUMMARY:ErinGoodwin/LaurieRenner vs. JanetPeabody/BrendaAlexander
DESCRIPTION:Komen Tournament - Womens - Paddle Up Pickleball Club
LOCATION:Court 4
CATEGORIES:QuickScores, Pickleball Game
TRANSP:OPAQUE
BEGIN:VALARM
TRIGGER:-PT2H
ACTION:DISPLAY
DESCRIPTION:ErinGoodwin/LaurieRenner vs. JanetPeabody/BrendaAlexander
END:VALARM
END:VEVENT
BEGIN:VEVENT
UID:pupc-60286453-20231021T092000@quickscores.com
DTSTAMP:20260421T164900Z
DTSTART;TZID=America/Chicago:20231021T092000
DURATION:PT0H20M0S
SUMMARY:KimSparkman/LaurenMangano vs. JanetPeabody/BrendaAlexander
DESCRIPTION:Komen Tournament - Womens - Paddle Up Pickleball Club
LOCATION:Court 4
CATEGORIES:QuickScores, Pickleball Game
TRANSP:OPAQUE
BEGIN:VALARM
TRIGGER:-PT2H
ACTION:DISPLAY
DESCRIPTION:KimSparkman/LaurenMangano vs. JanetPeabody/BrendaAlexander
END:VALARM
END:VEVENT
BEGIN:VEVENT
UID:pupc-60286461-20231021T094000@quickscores.com
DTSTAMP:20260421T164900Z
DTSTART;TZID=America/Chicago:20231021T094000
DURATION:PT0H20M0S
SUMMARY:MaryGraves/SonyaDiel vs. JanetPeabody/BrendaAlexander
DESCRIPTION:Komen Tournament - Womens - Paddle Up Pickleball Club
LOCATION:Court 6
CATEGORIES:QuickScores, Pickleball Game
TRANSP:OPAQUE
BEGIN:VALARM
TRIGGER:-PT2H
ACTION:DISPLAY
DESCRIPTION:MaryGraves/SonyaDiel vs. JanetPeabody/BrendaAlexander
END:VALARM
END:VEVENT
BEGIN:VEVENT
UID:pupc-60286444-20231021T100000@quickscores.com
DTSTAMP:20260421T164900Z
DTSTART;TZID=America/Chicago:20231021T100000
DURATION:PT0H20M0S
SUMMARY:JanetPeabody/BrendaAlexander vs. ErinGoodwin/LaurieRenner
DESCRIPTION:Komen Tournament - Womens - Paddle Up Pickleball Club
LOCATION:Court 6
CATEGORIES:QuickScores, Pickleball Game
TRANSP:OPAQUE
BEGIN:VALARM
TRIGGER:-PT2H
ACTION:DISPLAY
DESCRIPTION:JanetPeabody/BrendaAlexander vs. ErinGoodwin/LaurieRenner
END:VALARM
END:VEVENT
BEGIN:VEVENT
UID:pupc-60286452-20231021T102000@quickscores.com
DTSTAMP:20260421T164900Z
DTSTART;TZID=America/Chicago:20231021T102000
DURATION:PT0H20M0S
SUMMARY:JanetPeabody/BrendaAlexander vs. KimSparkman/LaurenMangano
DESCRIPTION:Komen Tournament - Womens - Paddle Up Pickleball Club
LOCATION:Court 4
CATEGORIES:QuickScores, Pickleball Game
TRANSP:OPAQUE
BEGIN:VALARM
TRIGGER:-PT2H
ACTION:DISPLAY
DESCRIPTION:JanetPeabody/BrendaAlexander vs. KimSparkman/LaurenMangano
END:VALARM
END:VEVENT
BEGIN:VEVENT
UID:pupc-60286460-20231021T104000@quickscores.com
DTSTAMP:20260421T164900Z
DTSTART;TZID=America/Chicago:20231021T104000
DURATION:PT0H20M0S
SUMMARY:JanetPeabody/BrendaAlexander vs. MaryGraves/SonyaDiel
DESCRIPTION:Komen Tournament - Womens - Paddle Up Pickleball Club
LOCATION:Court 4
CATEGORIES:QuickScores, Pickleball Game
TRANSP:OPAQUE
BEGIN:VALARM
TRIGGER:-PT2H
ACTION:DISPLAY
DESCRIPTION:JanetPeabody/BrendaAlexander vs. MaryGraves/SonyaDiel
END:VALARM
END:VEVENT
END:VCALENDAR
