BEGIN:VCALENDAR
VERSION:2.0
PRODID:-//QuickScores.com//BQ Dynamic iCal Creator//EN
METHOD:PUBLISH
X-WR-CALNAME:(13) Gators Sports Bar - Psssa Senior Softball League (2025) - Spring 2025
X-WR-CALDESC:QuickScores game calendar
X-PUBLISHED-TTL:PT24H
REFRESH-INTERVAL;VALUE=DURATION:PT24H
CALSCALE:GREGORIAN
BEGIN:VTIMEZONE
TZID:America/Los_Angeles
X-LIC-LOCATION:America/Los_Angeles
BEGIN:DAYLIGHT
TZNAME:PDT
TZOFFSETFROM:-0800
TZOFFSETTO:-0700
DTSTART:19700308T020000
RRULE:FREQ=YEARLY;BYMONTH=3;BYDAY=2SU
END:DAYLIGHT
BEGIN:STANDARD
TZNAME:PST
TZOFFSETFROM:-0700
TZOFFSETTO:-0800
DTSTART:19701101T020000
RRULE:FREQ=YEARLY;BYMONTH=11;BYDAY=1SU
END:STANDARD
END:VTIMEZONE
BEGIN:VEVENT
UID:pugetsrsoftball-68749856-20250430T100000@quickscores.com
DTSTAMP:20260425T213100Z
DTSTART;TZID=America/Los_Angeles:20250430T100000
DURATION:PT1H0M0S
SUMMARY:(14) Hornets vs. (13) Gators Sports Bar
DESCRIPTION:Psssa Senior Softball League (2025) - Puget Sound Senior Softball Association
LOCATION:Crestwoods Park #2
CATEGORIES:QuickScores, Softball - Senior Game
TRANSP:OPAQUE
BEGIN:VALARM
TRIGGER:-PT2H
ACTION:DISPLAY
DESCRIPTION:(14) Hornets vs. (13) Gators Sports Bar
END:VALARM
END:VEVENT
BEGIN:VEVENT
UID:pugetsrsoftball-68749857-20250430T113000@quickscores.com
DTSTAMP:20260425T213100Z
DTSTART;TZID=America/Los_Angeles:20250430T113000
DURATION:PT1H0M0S
SUMMARY:(13) Gators Sports Bar vs. (14) Hornets
DESCRIPTION:Psssa Senior Softball League (2025) - Puget Sound Senior Softball Association
LOCATION:Crestwoods Park #2
CATEGORIES:QuickScores, Softball - Senior Game
TRANSP:OPAQUE
BEGIN:VALARM
TRIGGER:-PT2H
ACTION:DISPLAY
DESCRIPTION:(13) Gators Sports Bar vs. (14) Hornets
END:VALARM
END:VEVENT
BEGIN:VEVENT
UID:pugetsrsoftball-68754978-20250507T100000@quickscores.com
DTSTAMP:20260425T213100Z
DTSTART;TZID=America/Los_Angeles:20250507T100000
DURATION:PT1H0M0S
SUMMARY:(15) Northwest Silver 70's vs. (13) Gators Sports Bar
DESCRIPTION:Psssa Senior Softball League (2025) - Puget Sound Senior Softball Association
LOCATION:Celebration Park #2
CATEGORIES:QuickScores, Softball - Senior Game
TRANSP:OPAQUE
BEGIN:VALARM
TRIGGER:-PT2H
ACTION:DISPLAY
DESCRIPTION:(15) Northwest Silver 70's vs. (13) Gators Sports Bar
END:VALARM
END:VEVENT
BEGIN:VEVENT
UID:pugetsrsoftball-68754979-20250507T113000@quickscores.com
DTSTAMP:20260425T213100Z
DTSTART;TZID=America/Los_Angeles:20250507T113000
DURATION:PT1H0M0S
SUMMARY:(13) Gators Sports Bar vs. (15) Northwest Silver 70's
DESCRIPTION:Psssa Senior Softball League (2025) - Puget Sound Senior Softball Association
LOCATION:Celebration Park #2
CATEGORIES:QuickScores, Softball - Senior Game
TRANSP:OPAQUE
BEGIN:VALARM
TRIGGER:-PT2H
ACTION:DISPLAY
DESCRIPTION:(13) Gators Sports Bar vs. (15) Northwest Silver 70's
END:VALARM
END:VEVENT
BEGIN:VEVENT
UID:pugetsrsoftball-68762735-20250514T100000@quickscores.com
DTSTAMP:20260425T213100Z
DTSTART;TZID=America/Los_Angeles:20250514T100000
DURATION:PT1H0M0S
SUMMARY:(13) Gators Sports Bar vs. (10)  Kirkland Owls
DESCRIPTION:Psssa Senior Softball League (2025) - Puget Sound Senior Softball Association
LOCATION:Hogan Russell Rd Park #2
CATEGORIES:QuickScores, Softball - Senior Game
TRANSP:OPAQUE
BEGIN:VALARM
TRIGGER:-PT2H
ACTION:DISPLAY
DESCRIPTION:(13) Gators Sports Bar vs. (10)  Kirkland Owls
END:VALARM
END:VEVENT
BEGIN:VEVENT
UID:pugetsrsoftball-68762736-20250514T113000@quickscores.com
DTSTAMP:20260425T213100Z
DTSTART;TZID=America/Los_Angeles:20250514T113000
DURATION:PT1H0M0S
SUMMARY:(10)  Kirkland Owls vs. (13) Gators Sports Bar
DESCRIPTION:(Five Inning Game) called by time. --- Psssa Senior Softball League (2025) - Puget Sound Senior Softball Association
LOCATION:Hogan Russell Rd Park #2
CATEGORIES:QuickScores, Softball - Senior Game
TRANSP:OPAQUE
BEGIN:VALARM
TRIGGER:-PT2H
ACTION:DISPLAY
DESCRIPTION:(10)  Kirkland Owls vs. (13) Gators Sports Bar
END:VALARM
END:VEVENT
BEGIN:VEVENT
UID:pugetsrsoftball-68764108-20250521T100000@quickscores.com
DTSTAMP:20260425T213100Z
DTSTART;TZID=America/Los_Angeles:20250521T100000
DURATION:PT1H0M0S
SUMMARY:(17) The Misfits vs. (13) Gators Sports Bar
DESCRIPTION:Psssa Senior Softball League (2025) - Puget Sound Senior Softball Association
LOCATION:Celebration Park #2
CATEGORIES:QuickScores, Softball - Senior Game
TRANSP:OPAQUE
BEGIN:VALARM
TRIGGER:-PT2H
ACTION:DISPLAY
DESCRIPTION:(17) The Misfits vs. (13) Gators Sports Bar
END:VALARM
END:VEVENT
BEGIN:VEVENT
UID:pugetsrsoftball-68764175-20250521T113000@quickscores.com
DTSTAMP:20260425T213100Z
DTSTART;TZID=America/Los_Angeles:20250521T113000
DURATION:PT1H0M0S
SUMMARY:(13) Gators Sports Bar vs. (17) The Misfits
DESCRIPTION:Psssa Senior Softball League (2025) - Puget Sound Senior Softball Association
LOCATION:Celebration Park #2
CATEGORIES:QuickScores, Softball - Senior Game
TRANSP:OPAQUE
BEGIN:VALARM
TRIGGER:-PT2H
ACTION:DISPLAY
DESCRIPTION:(13) Gators Sports Bar vs. (17) The Misfits
END:VALARM
END:VEVENT
BEGIN:VEVENT
UID:pugetsrsoftball-68770132-20250602T100000@quickscores.com
DTSTAMP:20260425T213100Z
DTSTART;TZID=America/Los_Angeles:20250602T100000
DURATION:PT1H0M0S
SUMMARY:(13) Gators Sports Bar vs. (12) NW Pacific Locksmith
DESCRIPTION:Psssa Senior Softball League (2025) - Puget Sound Senior Softball Association
LOCATION:Celebration Park #3
CATEGORIES:QuickScores, Softball - Senior Game
TRANSP:OPAQUE
BEGIN:VALARM
TRIGGER:-PT2H
ACTION:DISPLAY
DESCRIPTION:(13) Gators Sports Bar vs. (12) NW Pacific Locksmith
END:VALARM
END:VEVENT
BEGIN:VEVENT
UID:pugetsrsoftball-68770133-20250602T113000@quickscores.com
DTSTAMP:20260425T213100Z
DTSTART;TZID=America/Los_Angeles:20250602T113000
DURATION:PT1H0M0S
SUMMARY:(12) NW Pacific Locksmith vs. (13) Gators Sports Bar
DESCRIPTION:Psssa Senior Softball League (2025) - Puget Sound Senior Softball Association
LOCATION:Celebration Park #3
CATEGORIES:QuickScores, Softball - Senior Game
TRANSP:OPAQUE
BEGIN:VALARM
TRIGGER:-PT2H
ACTION:DISPLAY
DESCRIPTION:(12) NW Pacific Locksmith vs. (13) Gators Sports Bar
END:VALARM
END:VEVENT
BEGIN:VEVENT
UID:pugetsrsoftball-68770920-20250611T100000@quickscores.com
DTSTAMP:20260425T213100Z
DTSTART;TZID=America/Los_Angeles:20250611T100000
DURATION:PT1H0M0S
SUMMARY:(13) Gators Sports Bar vs. (11) Woodmen Life
DESCRIPTION:Psssa Senior Softball League (2025) - Puget Sound Senior Softball Association
LOCATION:Celebration Park #4
CATEGORIES:QuickScores, Softball - Senior Game
TRANSP:OPAQUE
BEGIN:VALARM
TRIGGER:-PT2H
ACTION:DISPLAY
DESCRIPTION:(13) Gators Sports Bar vs. (11) Woodmen Life
END:VALARM
END:VEVENT
BEGIN:VEVENT
UID:pugetsrsoftball-68770979-20250611T113000@quickscores.com
DTSTAMP:20260425T213100Z
DTSTART;TZID=America/Los_Angeles:20250611T113000
DURATION:PT1H0M0S
SUMMARY:(11) Woodmen Life vs. (13) Gators Sports Bar
DESCRIPTION:Psssa Senior Softball League (2025) - Puget Sound Senior Softball Association
LOCATION:Celebration Park #4
CATEGORIES:QuickScores, Softball - Senior Game
TRANSP:OPAQUE
BEGIN:VALARM
TRIGGER:-PT2H
ACTION:DISPLAY
DESCRIPTION:(11) Woodmen Life vs. (13) Gators Sports Bar
END:VALARM
END:VEVENT
BEGIN:VEVENT
UID:pugetsrsoftball-68773335-20250618T100000@quickscores.com
DTSTAMP:20260425T213100Z
DTSTART;TZID=America/Los_Angeles:20250618T100000
DURATION:PT1H0M0S
SUMMARY:(16) Nearly Extinct vs. (13) Gators Sports Bar
DESCRIPTION:Psssa Senior Softball League (2025) - Puget Sound Senior Softball Association
LOCATION:Celebration Park #2
CATEGORIES:QuickScores, Softball - Senior Game
TRANSP:OPAQUE
BEGIN:VALARM
TRIGGER:-PT2H
ACTION:DISPLAY
DESCRIPTION:(16) Nearly Extinct vs. (13) Gators Sports Bar
END:VALARM
END:VEVENT
BEGIN:VEVENT
UID:pugetsrsoftball-68773394-20250618T113000@quickscores.com
DTSTAMP:20260425T213100Z
DTSTART;TZID=America/Los_Angeles:20250618T113000
DURATION:PT1H0M0S
SUMMARY:(13) Gators Sports Bar vs. (16) Nearly Extinct
DESCRIPTION:Psssa Senior Softball League (2025) - Puget Sound Senior Softball Association
LOCATION:Celebration Park #2
CATEGORIES:QuickScores, Softball - Senior Game
TRANSP:OPAQUE
BEGIN:VALARM
TRIGGER:-PT2H
ACTION:DISPLAY
DESCRIPTION:(13) Gators Sports Bar vs. (16) Nearly Extinct
END:VALARM
END:VEVENT
BEGIN:VEVENT
UID:pugetsrsoftball-68775004-20250625T100000@quickscores.com
DTSTAMP:20260425T213100Z
DTSTART;TZID=America/Los_Angeles:20250625T100000
DURATION:PT1H0M0S
SUMMARY:(13) Gators Sports Bar vs. (09) Moss Bay Hawks
DESCRIPTION:Psssa Senior Softball League (2025) - Puget Sound Senior Softball Association
LOCATION:Celebration Park #2
CATEGORIES:QuickScores, Softball - Senior Game
TRANSP:OPAQUE
BEGIN:VALARM
TRIGGER:-PT2H
ACTION:DISPLAY
DESCRIPTION:(13) Gators Sports Bar vs. (09) Moss Bay Hawks
END:VALARM
END:VEVENT
BEGIN:VEVENT
UID:pugetsrsoftball-68775005-20250625T113000@quickscores.com
DTSTAMP:20260425T213100Z
DTSTART;TZID=America/Los_Angeles:20250625T113000
DURATION:PT1H0M0S
SUMMARY:(09) Moss Bay Hawks vs. (13) Gators Sports Bar
DESCRIPTION:Psssa Senior Softball League (2025) - Puget Sound Senior Softball Association
LOCATION:Celebration Park #2
CATEGORIES:QuickScores, Softball - Senior Game
TRANSP:OPAQUE
BEGIN:VALARM
TRIGGER:-PT2H
ACTION:DISPLAY
DESCRIPTION:(09) Moss Bay Hawks vs. (13) Gators Sports Bar
END:VALARM
END:VEVENT
BEGIN:VEVENT
UID:pugetsrsoftball-68785596-20250714T100000@quickscores.com
DTSTAMP:20260425T213100Z
DTSTART;TZID=America/Los_Angeles:20250714T100000
DURATION:PT1H0M0S
SUMMARY:(13) Gators Sports Bar vs. (18) Angelo's Restaurant
DESCRIPTION:Psssa Senior Softball League (2025) - Puget Sound Senior Softball Association
LOCATION:Steel Lake Park #2
CATEGORIES:QuickScores, Softball - Senior Game
TRANSP:OPAQUE
BEGIN:VALARM
TRIGGER:-PT2H
ACTION:DISPLAY
DESCRIPTION:(13) Gators Sports Bar vs. (18) Angelo's Restaurant
END:VALARM
END:VEVENT
BEGIN:VEVENT
UID:pugetsrsoftball-68785597-20250714T113000@quickscores.com
DTSTAMP:20260425T213100Z
DTSTART;TZID=America/Los_Angeles:20250714T113000
DURATION:PT1H0M0S
SUMMARY:(18) Angelo's Restaurant vs. (13) Gators Sports Bar
DESCRIPTION:Psssa Senior Softball League (2025) - Puget Sound Senior Softball Association
LOCATION:Steel Lake Park #2
CATEGORIES:QuickScores, Softball - Senior Game
TRANSP:OPAQUE
BEGIN:VALARM
TRIGGER:-PT2H
ACTION:DISPLAY
DESCRIPTION:(18) Angelo's Restaurant vs. (13) Gators Sports Bar
END:VALARM
END:VEVENT
BEGIN:VEVENT
UID:pugetsrsoftball-68785696-20250716T100000@quickscores.com
DTSTAMP:20260425T213100Z
DTSTART;TZID=America/Los_Angeles:20250716T100000
DURATION:PT1H0M0S
SUMMARY:(13) Gators Sports Bar vs. (19) FOG
DESCRIPTION:Psssa Senior Softball League (2025) - Puget Sound Senior Softball Association
LOCATION:Crestwoods Park #1
CATEGORIES:QuickScores, Softball - Senior Game
TRANSP:OPAQUE
BEGIN:VALARM
TRIGGER:-PT2H
ACTION:DISPLAY
DESCRIPTION:(13) Gators Sports Bar vs. (19) FOG
END:VALARM
END:VEVENT
BEGIN:VEVENT
UID:pugetsrsoftball-68785697-20250716T113000@quickscores.com
DTSTAMP:20260425T213100Z
DTSTART;TZID=America/Los_Angeles:20250716T113000
DURATION:PT1H0M0S
SUMMARY:(19) FOG vs. (13) Gators Sports Bar
DESCRIPTION:Psssa Senior Softball League (2025) - Puget Sound Senior Softball Association
LOCATION:Crestwoods Park #1
CATEGORIES:QuickScores, Softball - Senior Game
TRANSP:OPAQUE
BEGIN:VALARM
TRIGGER:-PT2H
ACTION:DISPLAY
DESCRIPTION:(19) FOG vs. (13) Gators Sports Bar
END:VALARM
END:VEVENT
BEGIN:VEVENT
UID:pugetsrsoftball-68796631-20250723T100000@quickscores.com
DTSTAMP:20260425T213100Z
DTSTART;TZID=America/Los_Angeles:20250723T100000
DURATION:PT1H0M0S
SUMMARY:(08) First American Title vs. (13) Gators Sports Bar
DESCRIPTION:Psssa Senior Softball League (2025) - Puget Sound Senior Softball Association
LOCATION:Celebration Park #4
CATEGORIES:QuickScores, Softball - Senior Game
TRANSP:OPAQUE
BEGIN:VALARM
TRIGGER:-PT2H
ACTION:DISPLAY
DESCRIPTION:(08) First American Title vs. (13) Gators Sports Bar
END:VALARM
END:VEVENT
BEGIN:VEVENT
UID:pugetsrsoftball-68796632-20250723T113000@quickscores.com
DTSTAMP:20260425T213100Z
DTSTART;TZID=America/Los_Angeles:20250723T113000
DURATION:PT1H0M0S
SUMMARY:(13) Gators Sports Bar vs. (08) First American Title
DESCRIPTION:Psssa Senior Softball League (2025) - Puget Sound Senior Softball Association
LOCATION:Celebration Park #4
CATEGORIES:QuickScores, Softball - Senior Game
TRANSP:OPAQUE
BEGIN:VALARM
TRIGGER:-PT2H
ACTION:DISPLAY
DESCRIPTION:(13) Gators Sports Bar vs. (08) First American Title
END:VALARM
END:VEVENT
BEGIN:VEVENT
UID:pugetsrsoftball-68798464-20250806T100000@quickscores.com
DTSTAMP:20260425T213100Z
DTSTART;TZID=America/Los_Angeles:20250806T100000
DURATION:PT1H0M0S
SUMMARY:(13) Gators Sports Bar vs. (18) Angelo's Restaurant
DESCRIPTION:***** RAIN OUT ****** No.  Harlen told us they were playable at 7:30 but by the time we got
there, they had puddles in the infield.  Meant to tell you that this
morning but the soccer fiasco distracted me.

Ray

PS  I'd be surprised if any make ups are scheduled with extended league
starting. --- Psssa Senior Softball League (2025) - Puget Sound Senior Softball Association
LOCATION:Celebration Park #2
CATEGORIES:QuickScores, Softball - Senior Game
TRANSP:OPAQUE
BEGIN:VALARM
TRIGGER:-PT2H
ACTION:DISPLAY
DESCRIPTION:(13) Gators Sports Bar vs. (18) Angelo's Restaurant
END:VALARM
END:VEVENT
BEGIN:VEVENT
UID:pugetsrsoftball-68798465-20250806T113000@quickscores.com
DTSTAMP:20260425T213100Z
DTSTART;TZID=America/Los_Angeles:20250806T113000
DURATION:PT1H0M0S
SUMMARY:(18) Angelo's Restaurant vs. (13) Gators Sports Bar
DESCRIPTION:***** RAIN OUT ****** --- Psssa Senior Softball League (2025) - Puget Sound Senior Softball Association
LOCATION:Celebration Park #2
CATEGORIES:QuickScores, Softball - Senior Game
TRANSP:OPAQUE
BEGIN:VALARM
TRIGGER:-PT2H
ACTION:DISPLAY
DESCRIPTION:(18) Angelo's Restaurant vs. (13) Gators Sports Bar
END:VALARM
END:VEVENT
END:VCALENDAR
