BEGIN:VCALENDAR
VERSION:2.0
PRODID:-//QuickScores.com//BQ Dynamic iCal Creator//EN
METHOD:PUBLISH
X-WR-CALNAME:(01) Washington Legends - Fall Extended League 2024 - Fall 2024
X-WR-CALDESC:QuickScores game calendar
X-PUBLISHED-TTL:PT24H
REFRESH-INTERVAL;VALUE=DURATION:PT24H
CALSCALE:GREGORIAN
BEGIN:VTIMEZONE
TZID:America/Los_Angeles
X-LIC-LOCATION:America/Los_Angeles
BEGIN:DAYLIGHT
TZNAME:PDT
TZOFFSETFROM:-0800
TZOFFSETTO:-0700
DTSTART:19700308T020000
RRULE:FREQ=YEARLY;BYMONTH=3;BYDAY=2SU
END:DAYLIGHT
BEGIN:STANDARD
TZNAME:PST
TZOFFSETFROM:-0700
TZOFFSETTO:-0800
DTSTART:19701101T020000
RRULE:FREQ=YEARLY;BYMONTH=11;BYDAY=1SU
END:STANDARD
END:VTIMEZONE
BEGIN:VEVENT
UID:pugetsrsoftball-64288289-20240807T100000@quickscores.com
DTSTAMP:20260422T100300Z
DTSTART;TZID=America/Los_Angeles:20240807T100000
DURATION:PT1H0M0S
SUMMARY:(01) Washington Legends vs. (07) First American Title
DESCRIPTION:***** CANCELLED ***** Guys, this is Jack Orewiler from the Washington Legends team.  Apparently we came back from Sacramento over the weekend with half of our team contracting the coronavirus.  We will not have enough to field a team tomorrow against your team.  Sorry! --- Fall Extended League 2024 - Puget Sound Senior Softball Association
LOCATION:No Field-1
CATEGORIES:QuickScores, Softball - Senior Game
TRANSP:OPAQUE
BEGIN:VALARM
TRIGGER:-PT2H
ACTION:DISPLAY
DESCRIPTION:(01) Washington Legends vs. (07) First American Title
END:VALARM
END:VEVENT
BEGIN:VEVENT
UID:pugetsrsoftball-64288290-20240807T113000@quickscores.com
DTSTAMP:20260422T100300Z
DTSTART;TZID=America/Los_Angeles:20240807T113000
DURATION:PT1H0M0S
SUMMARY:(07) First American Title vs. (01) Washington Legends
DESCRIPTION:***** CANCELLED ***** Guys, this is Jack Orewiler from the Washington Legends team.  Apparently we came back from Sacramento over the weekend with half of our team contracting the coronavirus.  We will not have enough to field a team tomorrow against your team.  Sorry! --- Fall Extended League 2024 - Puget Sound Senior Softball Association
LOCATION:No Field-1
CATEGORIES:QuickScores, Softball - Senior Game
TRANSP:OPAQUE
BEGIN:VALARM
TRIGGER:-PT2H
ACTION:DISPLAY
DESCRIPTION:(07) First American Title vs. (01) Washington Legends
END:VALARM
END:VEVENT
BEGIN:VEVENT
UID:pugetsrsoftball-64288755-20240814T100000@quickscores.com
DTSTAMP:20260422T100300Z
DTSTART;TZID=America/Los_Angeles:20240814T100000
DURATION:PT1H0M0S
SUMMARY:(04) R-Jays Scoreboard vs. (01) Washington Legends
DESCRIPTION:***** CANCELLED ***** The Scoreboard team contacted me and said the didn't have enough players. Art,Scoreboard and Washington Legends did not play. Scoreboard had injuries, sickness and a work conflict and I could only muster 7 players. I called Jack Orweiler on Tuesday and let him know so they didn't get the the field and then find out.So, no scores for those two games.David KelliherScoreboard coach --- Fall Extended League 2024 - Puget Sound Senior Softball Association
LOCATION:Celebration Park #3
CATEGORIES:QuickScores, Softball - Senior Game
TRANSP:OPAQUE
BEGIN:VALARM
TRIGGER:-PT2H
ACTION:DISPLAY
DESCRIPTION:(04) R-Jays Scoreboard vs. (01) Washington Legends
END:VALARM
END:VEVENT
BEGIN:VEVENT
UID:pugetsrsoftball-64288756-20240814T113000@quickscores.com
DTSTAMP:20260422T100300Z
DTSTART;TZID=America/Los_Angeles:20240814T113000
DURATION:PT1H0M0S
SUMMARY:(01) Washington Legends vs. (04) R-Jays Scoreboard
DESCRIPTION:***** CANCELLED ***** The Scoreboard team contacted me and said the didn't have enough players. Art,Scoreboard and Washington Legends did not play. Scoreboard had injuries, sickness and a work conflict and I could only muster 7 players. I called Jack Orweiler on Tuesday and let him know so they didn't get the the field and then find out.So, no scores for those two games.David KelliherScoreboard coach --- Fall Extended League 2024 - Puget Sound Senior Softball Association
LOCATION:Celebration Park #3
CATEGORIES:QuickScores, Softball - Senior Game
TRANSP:OPAQUE
BEGIN:VALARM
TRIGGER:-PT2H
ACTION:DISPLAY
DESCRIPTION:(01) Washington Legends vs. (04) R-Jays Scoreboard
END:VALARM
END:VEVENT
BEGIN:VEVENT
UID:pugetsrsoftball-64288826-20240821T100000@quickscores.com
DTSTAMP:20260422T100300Z
DTSTART;TZID=America/Los_Angeles:20240821T100000
DURATION:PT1H0M0S
SUMMARY:(06) Dent Pro’s vs. (01) Washington Legends
DESCRIPTION:***** CANCELLED ***** --- Fall Extended League 2024 - Puget Sound Senior Softball Association
LOCATION:Celebration Park #4
CATEGORIES:QuickScores, Softball - Senior Game
TRANSP:OPAQUE
BEGIN:VALARM
TRIGGER:-PT2H
ACTION:DISPLAY
DESCRIPTION:(06) Dent Pro’s vs. (01) Washington Legends
END:VALARM
END:VEVENT
BEGIN:VEVENT
UID:pugetsrsoftball-64288827-20240821T113000@quickscores.com
DTSTAMP:20260422T100300Z
DTSTART;TZID=America/Los_Angeles:20240821T113000
DURATION:PT1H0M0S
SUMMARY:(01) Washington Legends vs. (06) Dent Pro’s
DESCRIPTION:***** CANCELLED ***** --- Fall Extended League 2024 - Puget Sound Senior Softball Association
LOCATION:Celebration Park #4
CATEGORIES:QuickScores, Softball - Senior Game
TRANSP:OPAQUE
BEGIN:VALARM
TRIGGER:-PT2H
ACTION:DISPLAY
DESCRIPTION:(01) Washington Legends vs. (06) Dent Pro’s
END:VALARM
END:VEVENT
BEGIN:VEVENT
UID:pugetsrsoftball-64288832-20240828T100000@quickscores.com
DTSTAMP:20260422T100300Z
DTSTART;TZID=America/Los_Angeles:20240828T100000
DURATION:PT1H0M0S
SUMMARY:(01) Washington Legends vs. (03) Rat City Softball
DESCRIPTION:***** NO OFFICAL GAME PLAYED ***** Neither team had 10, we just played 5 on 5 on 5.  No score was kept. --- Fall Extended League 2024 - Puget Sound Senior Softball Association
LOCATION:Celebration Park #1
CATEGORIES:QuickScores, Softball - Senior Game
TRANSP:OPAQUE
BEGIN:VALARM
TRIGGER:-PT2H
ACTION:DISPLAY
DESCRIPTION:(01) Washington Legends vs. (03) Rat City Softball
END:VALARM
END:VEVENT
BEGIN:VEVENT
UID:pugetsrsoftball-64288833-20240828T113000@quickscores.com
DTSTAMP:20260422T100300Z
DTSTART;TZID=America/Los_Angeles:20240828T113000
DURATION:PT1H0M0S
SUMMARY:(03) Rat City Softball vs. (01) Washington Legends
DESCRIPTION:***** NO OFFICAL GAME PLAYED ***** Neither team had 10, we just played 5 on 5 on 5.  No score was kept. --- Fall Extended League 2024 - Puget Sound Senior Softball Association
LOCATION:Celebration Park #1
CATEGORIES:QuickScores, Softball - Senior Game
TRANSP:OPAQUE
BEGIN:VALARM
TRIGGER:-PT2H
ACTION:DISPLAY
DESCRIPTION:(03) Rat City Softball vs. (01) Washington Legends
END:VALARM
END:VEVENT
BEGIN:VEVENT
UID:pugetsrsoftball-64832852-20240904T100000@quickscores.com
DTSTAMP:20260422T100300Z
DTSTART;TZID=America/Los_Angeles:20240904T100000
DURATION:PT1H0M0S
SUMMARY:(08) Kitsap Oldtimers vs. (01) Washington Legends
DESCRIPTION:***** CANCELLED ***** --- Fall Extended League 2024 - Puget Sound Senior Softball Association
LOCATION:Celebration Park #1
CATEGORIES:QuickScores, Softball - Senior Game
TRANSP:OPAQUE
BEGIN:VALARM
TRIGGER:-PT2H
ACTION:DISPLAY
DESCRIPTION:(08) Kitsap Oldtimers vs. (01) Washington Legends
END:VALARM
END:VEVENT
BEGIN:VEVENT
UID:pugetsrsoftball-64832853-20240904T113000@quickscores.com
DTSTAMP:20260422T100300Z
DTSTART;TZID=America/Los_Angeles:20240904T113000
DURATION:PT1H0M0S
SUMMARY:(01) Washington Legends vs. (08) Kitsap Oldtimers
DESCRIPTION:***** CANCELLED ***** --- Fall Extended League 2024 - Puget Sound Senior Softball Association
LOCATION:Celebration Park #1
CATEGORIES:QuickScores, Softball - Senior Game
TRANSP:OPAQUE
BEGIN:VALARM
TRIGGER:-PT2H
ACTION:DISPLAY
DESCRIPTION:(01) Washington Legends vs. (08) Kitsap Oldtimers
END:VALARM
END:VEVENT
BEGIN:VEVENT
UID:pugetsrsoftball-64289051-20240911T100000@quickscores.com
DTSTAMP:20260422T100300Z
DTSTART;TZID=America/Los_Angeles:20240911T100000
DURATION:PT1H0M0S
SUMMARY:(01) Washington Legends vs. (05) Stray Dogs
DESCRIPTION:Morning Guys, Celebration Park is a RAIN OUT TODAY SORRY, Harlen --- Fall Extended League 2024 - Puget Sound Senior Softball Association
LOCATION:Celebration Park #3
CATEGORIES:QuickScores, Softball - Senior Game
TRANSP:OPAQUE
BEGIN:VALARM
TRIGGER:-PT2H
ACTION:DISPLAY
DESCRIPTION:(01) Washington Legends vs. (05) Stray Dogs
END:VALARM
END:VEVENT
BEGIN:VEVENT
UID:pugetsrsoftball-64289052-20240911T113000@quickscores.com
DTSTAMP:20260422T100300Z
DTSTART;TZID=America/Los_Angeles:20240911T113000
DURATION:PT1H0M0S
SUMMARY:(05) Stray Dogs vs. (01) Washington Legends
DESCRIPTION:Morning Guys, Celebration Park is a RAIN OUT TODAY SORRY, Harlen --- Fall Extended League 2024 - Puget Sound Senior Softball Association
LOCATION:Celebration Park #3
CATEGORIES:QuickScores, Softball - Senior Game
TRANSP:OPAQUE
BEGIN:VALARM
TRIGGER:-PT2H
ACTION:DISPLAY
DESCRIPTION:(05) Stray Dogs vs. (01) Washington Legends
END:VALARM
END:VEVENT
BEGIN:VEVENT
UID:pugetsrsoftball-64833327-20240925T100000@quickscores.com
DTSTAMP:20260422T100300Z
DTSTART;TZID=America/Los_Angeles:20240925T100000
DURATION:PT1H0M0S
SUMMARY:(02) 21 for Fun vs. (01) Washington Legends
DESCRIPTION:***** CANCELLED ***** Cancel teams 1 vs 2 on Sept 25th on field #1 at Celebration ParkThanks, Harlen --- Fall Extended League 2024 - Puget Sound Senior Softball Association
LOCATION:Celebration Park #1
CATEGORIES:QuickScores, Softball - Senior Game
TRANSP:OPAQUE
BEGIN:VALARM
TRIGGER:-PT2H
ACTION:DISPLAY
DESCRIPTION:(02) 21 for Fun vs. (01) Washington Legends
END:VALARM
END:VEVENT
BEGIN:VEVENT
UID:pugetsrsoftball-64833328-20240925T113000@quickscores.com
DTSTAMP:20260422T100300Z
DTSTART;TZID=America/Los_Angeles:20240925T113000
DURATION:PT1H0M0S
SUMMARY:(01) Washington Legends vs. (02) 21 for Fun
DESCRIPTION:***** CANCELLED ***** Cancel teams 1 vs 2 on Sept 25th on field #1 at Celebration ParkThanks, Harlen --- Fall Extended League 2024 - Puget Sound Senior Softball Association
LOCATION:Celebration Park #1
CATEGORIES:QuickScores, Softball - Senior Game
TRANSP:OPAQUE
BEGIN:VALARM
TRIGGER:-PT2H
ACTION:DISPLAY
DESCRIPTION:(01) Washington Legends vs. (02) 21 for Fun
END:VALARM
END:VEVENT
END:VCALENDAR
