BEGIN:VCALENDAR
VERSION:2.0
PRODID:-//QuickScores.com//BQ Dynamic iCal Creator//EN
METHOD:PUBLISH
X-WR-CALNAME:Hot Shots - 7th - 9th Grade Girls - Spring 2026
X-WR-CALDESC:QuickScores game calendar
X-PUBLISHED-TTL:PT24H
REFRESH-INTERVAL;VALUE=DURATION:PT24H
CALSCALE:GREGORIAN
BEGIN:VTIMEZONE
TZID:America/Denver
X-LIC-LOCATION:America/Denver
BEGIN:DAYLIGHT
TZNAME:MDT
TZOFFSETFROM:-0700
TZOFFSETTO:-0600
DTSTART:19700308T020000
RRULE:FREQ=YEARLY;BYMONTH=3;BYDAY=2SU
END:DAYLIGHT
BEGIN:STANDARD
TZNAME:MST
TZOFFSETFROM:-0600
TZOFFSETTO:-0700
DTSTART:19701101T020000
RRULE:FREQ=YEARLY;BYMONTH=11;BYDAY=1SU
END:STANDARD
END:VTIMEZONE
BEGIN:VEVENT
UID:provo-73664504-20260326T173000@quickscores.com
DTSTAMP:20260421T181000Z
DTSTART;TZID=America/Denver:20260326T173000
DURATION:PT1H0M0S
SUMMARY:Practice: Rockstars vs. Hot Shots
DESCRIPTION:7th - 9th Grade Girls - Provo Parks and Recreation
LOCATION:Epic Sports Park - Field 13
CATEGORIES:QuickScores, Soccer - Youth Game
TRANSP:OPAQUE
BEGIN:VALARM
TRIGGER:-PT2H
ACTION:DISPLAY
DESCRIPTION:Practice: Rockstars vs. Hot Shots
END:VALARM
END:VEVENT
BEGIN:VEVENT
UID:provo-73660620-20260402T173000@quickscores.com
DTSTAMP:20260421T181000Z
DTSTART;TZID=America/Denver:20260402T173000
DURATION:PT1H0M0S
SUMMARY:Hot Shots vs. Spice Girls
DESCRIPTION:Weeknight Games, No Practice --- 7th - 9th Grade Girls - Provo Parks and Recreation
LOCATION:Epic Sports Park - Field 13
CATEGORIES:QuickScores, Soccer - Youth Game
TRANSP:OPAQUE
BEGIN:VALARM
TRIGGER:-PT2H
ACTION:DISPLAY
DESCRIPTION:Hot Shots vs. Spice Girls
END:VALARM
END:VEVENT
BEGIN:VEVENT
UID:provo-73660622-20260411T130000@quickscores.com
DTSTAMP:20260421T181000Z
DTSTART;TZID=America/Denver:20260411T130000
DURATION:PT1H0M0S
SUMMARY:Hot Shots vs. Rockstars
DESCRIPTION:7th - 9th Grade Girls - Provo Parks and Recreation
LOCATION:Epic Sports Park - Field 13
CATEGORIES:QuickScores, Soccer - Youth Game
TRANSP:OPAQUE
BEGIN:VALARM
TRIGGER:-PT2H
ACTION:DISPLAY
DESCRIPTION:Hot Shots vs. Rockstars
END:VALARM
END:VEVENT
BEGIN:VEVENT
UID:provo-73664510-20260416T173000@quickscores.com
DTSTAMP:20260421T181000Z
DTSTART;TZID=America/Denver:20260416T173000
DURATION:PT1H0M0S
SUMMARY:Practice: Rockstars vs. Hot Shots
DESCRIPTION:7th - 9th Grade Girls - Provo Parks and Recreation
LOCATION:Epic Sports Park - Field 13
CATEGORIES:QuickScores, Soccer - Youth Game
TRANSP:OPAQUE
BEGIN:VALARM
TRIGGER:-PT2H
ACTION:DISPLAY
DESCRIPTION:Practice: Rockstars vs. Hot Shots
END:VALARM
END:VEVENT
BEGIN:VEVENT
UID:provo-73660624-20260418T130000@quickscores.com
DTSTAMP:20260421T181000Z
DTSTART;TZID=America/Denver:20260418T130000
DURATION:PT1H0M0S
SUMMARY:Hot Shots vs. Utah Royals
DESCRIPTION:7th - 9th Grade Girls - Provo Parks and Recreation
LOCATION:Epic Sports Park - Field 13
CATEGORIES:QuickScores, Soccer - Youth Game
TRANSP:OPAQUE
BEGIN:VALARM
TRIGGER:-PT2H
ACTION:DISPLAY
DESCRIPTION:Hot Shots vs. Utah Royals
END:VALARM
END:VEVENT
BEGIN:VEVENT
UID:provo-73664512-20260423T173000@quickscores.com
DTSTAMP:20260421T181000Z
DTSTART;TZID=America/Denver:20260423T173000
DURATION:PT1H0M0S
SUMMARY:Practice: Rockstars vs. Hot Shots
DESCRIPTION:7th - 9th Grade Girls - Provo Parks and Recreation
LOCATION:Epic Sports Park - Field 13
CATEGORIES:QuickScores, Soccer - Youth Game
TRANSP:OPAQUE
BEGIN:VALARM
TRIGGER:-PT2H
ACTION:DISPLAY
DESCRIPTION:Practice: Rockstars vs. Hot Shots
END:VALARM
END:VEVENT
BEGIN:VEVENT
UID:provo-73660627-20260425T130000@quickscores.com
DTSTAMP:20260421T181000Z
DTSTART;TZID=America/Denver:20260425T130000
DURATION:PT1H0M0S
SUMMARY:Spice Girls vs. Hot Shots
DESCRIPTION:7th - 9th Grade Girls - Provo Parks and Recreation
LOCATION:Epic Sports Park - Field 13
CATEGORIES:QuickScores, Soccer - Youth Game
TRANSP:OPAQUE
BEGIN:VALARM
TRIGGER:-PT2H
ACTION:DISPLAY
DESCRIPTION:Spice Girls vs. Hot Shots
END:VALARM
END:VEVENT
BEGIN:VEVENT
UID:provo-73664514-20260430T173000@quickscores.com
DTSTAMP:20260421T181000Z
DTSTART;TZID=America/Denver:20260430T173000
DURATION:PT1H0M0S
SUMMARY:Practice: Rockstars vs. Hot Shots
DESCRIPTION:7th - 9th Grade Girls - Provo Parks and Recreation
LOCATION:Epic Sports Park - Field 6
CATEGORIES:QuickScores, Soccer - Youth Game
TRANSP:OPAQUE
BEGIN:VALARM
TRIGGER:-PT2H
ACTION:DISPLAY
DESCRIPTION:Practice: Rockstars vs. Hot Shots
END:VALARM
END:VEVENT
BEGIN:VEVENT
UID:provo-73660628-20260502T120000@quickscores.com
DTSTAMP:20260421T181000Z
DTSTART;TZID=America/Denver:20260502T120000
DURATION:PT1H0M0S
SUMMARY:Rockstars vs. Hot Shots
DESCRIPTION:7th - 9th Grade Girls - Provo Parks and Recreation
LOCATION:Epic Sports Park - Field 6
CATEGORIES:QuickScores, Soccer - Youth Game
TRANSP:OPAQUE
BEGIN:VALARM
TRIGGER:-PT2H
ACTION:DISPLAY
DESCRIPTION:Rockstars vs. Hot Shots
END:VALARM
END:VEVENT
BEGIN:VEVENT
UID:provo-73664515-20260507T163000@quickscores.com
DTSTAMP:20260421T181000Z
DTSTART;TZID=America/Denver:20260507T163000
DURATION:PT1H0M0S
SUMMARY:Practice: Rockstars vs. Hot Shots
DESCRIPTION:7th - 9th Grade Girls - Provo Parks and Recreation
LOCATION:Epic Sports Park - Field 13
CATEGORIES:QuickScores, Soccer - Youth Game
TRANSP:OPAQUE
BEGIN:VALARM
TRIGGER:-PT2H
ACTION:DISPLAY
DESCRIPTION:Practice: Rockstars vs. Hot Shots
END:VALARM
END:VEVENT
BEGIN:VEVENT
UID:provo-73660630-20260509T120000@quickscores.com
DTSTAMP:20260421T181000Z
DTSTART;TZID=America/Denver:20260509T120000
DURATION:PT1H0M0S
SUMMARY:Utah Royals vs. Hot Shots
DESCRIPTION:7th - 9th Grade Girls - Provo Parks and Recreation
LOCATION:Epic Sports Park - Field 13
CATEGORIES:QuickScores, Soccer - Youth Game
TRANSP:OPAQUE
BEGIN:VALARM
TRIGGER:-PT2H
ACTION:DISPLAY
DESCRIPTION:Utah Royals vs. Hot Shots
END:VALARM
END:VEVENT
BEGIN:VEVENT
UID:provo-73660632-20260514T163000@quickscores.com
DTSTAMP:20260421T181000Z
DTSTART;TZID=America/Denver:20260514T163000
DURATION:PT1H0M0S
SUMMARY:Spice Girls vs. Hot Shots
DESCRIPTION:Weeknight Games, No Practice --- 7th - 9th Grade Girls - Provo Parks and Recreation
LOCATION:Epic Sports Park - Field 13
CATEGORIES:QuickScores, Soccer - Youth Game
TRANSP:OPAQUE
BEGIN:VALARM
TRIGGER:-PT2H
ACTION:DISPLAY
DESCRIPTION:Spice Girls vs. Hot Shots
END:VALARM
END:VEVENT
END:VCALENDAR
