BEGIN:VCALENDAR
VERSION:2.0
PRODID:-//QuickScores.com//BQ Dynamic iCal Creator//EN
METHOD:PUBLISH
X-WR-CALNAME:W - Minnesota United - 3rd & 4th Grade Boys - Spring 2026
X-WR-CALDESC:QuickScores game calendar
X-PUBLISHED-TTL:PT24H
REFRESH-INTERVAL;VALUE=DURATION:PT24H
CALSCALE:GREGORIAN
BEGIN:VTIMEZONE
TZID:America/Denver
X-LIC-LOCATION:America/Denver
BEGIN:DAYLIGHT
TZNAME:MDT
TZOFFSETFROM:-0700
TZOFFSETTO:-0600
DTSTART:19700308T020000
RRULE:FREQ=YEARLY;BYMONTH=3;BYDAY=2SU
END:DAYLIGHT
BEGIN:STANDARD
TZNAME:MST
TZOFFSETFROM:-0600
TZOFFSETTO:-0700
DTSTART:19701101T020000
RRULE:FREQ=YEARLY;BYMONTH=11;BYDAY=1SU
END:STANDARD
END:VTIMEZONE
BEGIN:VEVENT
UID:provo-73663671-20260402T173000@quickscores.com
DTSTAMP:20260420T195000Z
DTSTART;TZID=America/Denver:20260402T173000
DURATION:PT1H0M0S
SUMMARY:Practice: W - Minnesota United vs. W - Austin FC
DESCRIPTION:3rd & 4th Grade Boys - Provo Parks and Recreation
LOCATION:Franklin Park Field #2
CATEGORIES:QuickScores, Soccer - Youth Game
TRANSP:OPAQUE
BEGIN:VALARM
TRIGGER:-PT2H
ACTION:DISPLAY
DESCRIPTION:Practice: W - Minnesota United vs. W - Austin FC
END:VALARM
END:VEVENT
BEGIN:VEVENT
UID:provo-73659967-20260411T130000@quickscores.com
DTSTAMP:20260420T195000Z
DTSTART;TZID=America/Denver:20260411T130000
DURATION:PT1H0M0S
SUMMARY:W - Austin FC vs. W - Minnesota United
DESCRIPTION:3rd & 4th Grade Boys - Provo Parks and Recreation
LOCATION:Franklin Park Field #2
CATEGORIES:QuickScores, Soccer - Youth Game
TRANSP:OPAQUE
BEGIN:VALARM
TRIGGER:-PT2H
ACTION:DISPLAY
DESCRIPTION:W - Austin FC vs. W - Minnesota United
END:VALARM
END:VEVENT
BEGIN:VEVENT
UID:provo-73663689-20260416T173000@quickscores.com
DTSTAMP:20260420T195000Z
DTSTART;TZID=America/Denver:20260416T173000
DURATION:PT1H0M0S
SUMMARY:Practice: W - Minnesota United vs. W - Austin FC
DESCRIPTION:3rd & 4th Grade Boys - Provo Parks and Recreation
LOCATION:Franklin Park Field #2
CATEGORIES:QuickScores, Soccer - Youth Game
TRANSP:OPAQUE
BEGIN:VALARM
TRIGGER:-PT2H
ACTION:DISPLAY
DESCRIPTION:Practice: W - Minnesota United vs. W - Austin FC
END:VALARM
END:VEVENT
BEGIN:VEVENT
UID:provo-73659981-20260418T120000@quickscores.com
DTSTAMP:20260420T195000Z
DTSTART;TZID=America/Denver:20260418T120000
DURATION:PT1H0M0S
SUMMARY:W - Minnesota United vs. W - Atlanta United
DESCRIPTION:3rd & 4th Grade Boys - Provo Parks and Recreation
LOCATION:Franklin Park Field #2
CATEGORIES:QuickScores, Soccer - Youth Game
TRANSP:OPAQUE
BEGIN:VALARM
TRIGGER:-PT2H
ACTION:DISPLAY
DESCRIPTION:W - Minnesota United vs. W - Atlanta United
END:VALARM
END:VEVENT
BEGIN:VEVENT
UID:provo-73663698-20260423T173000@quickscores.com
DTSTAMP:20260420T195000Z
DTSTART;TZID=America/Denver:20260423T173000
DURATION:PT1H0M0S
SUMMARY:Practice: W - Minnesota United vs. W - Austin FC
DESCRIPTION:3rd & 4th Grade Boys - Provo Parks and Recreation
LOCATION:Franklin Park Field #2
CATEGORIES:QuickScores, Soccer - Youth Game
TRANSP:OPAQUE
BEGIN:VALARM
TRIGGER:-PT2H
ACTION:DISPLAY
DESCRIPTION:Practice: W - Minnesota United vs. W - Austin FC
END:VALARM
END:VEVENT
BEGIN:VEVENT
UID:provo-73659988-20260425T100000@quickscores.com
DTSTAMP:20260420T195000Z
DTSTART;TZID=America/Denver:20260425T100000
DURATION:PT1H0M0S
SUMMARY:W - Minnesota United vs. E - FC Dallas
DESCRIPTION:3rd & 4th Grade Boys - Provo Parks and Recreation
LOCATION:Sertoma Park Field #6
CATEGORIES:QuickScores, Soccer - Youth Game
TRANSP:OPAQUE
BEGIN:VALARM
TRIGGER:-PT2H
ACTION:DISPLAY
DESCRIPTION:W - Minnesota United vs. E - FC Dallas
END:VALARM
END:VEVENT
BEGIN:VEVENT
UID:provo-73660003-20260428T183000@quickscores.com
DTSTAMP:20260420T195000Z
DTSTART;TZID=America/Denver:20260428T183000
DURATION:PT1H0M0S
SUMMARY:W - Minnesota United vs. E - Houston Dynamo FC
DESCRIPTION:Weeknight Games, No Practice --- 3rd & 4th Grade Boys - Provo Parks and Recreation
LOCATION:Franklin Park Field #2
CATEGORIES:QuickScores, Soccer - Youth Game
TRANSP:OPAQUE
BEGIN:VALARM
TRIGGER:-PT2H
ACTION:DISPLAY
DESCRIPTION:W - Minnesota United vs. E - Houston Dynamo FC
END:VALARM
END:VEVENT
BEGIN:VEVENT
UID:provo-73660000-20260502T090000@quickscores.com
DTSTAMP:20260420T195000Z
DTSTART;TZID=America/Denver:20260502T090000
DURATION:PT1H0M0S
SUMMARY:E - Inter Miami FC vs. W - Minnesota United
DESCRIPTION:3rd & 4th Grade Boys - Provo Parks and Recreation
LOCATION:Sertoma Park Field #3
CATEGORIES:QuickScores, Soccer - Youth Game
TRANSP:OPAQUE
BEGIN:VALARM
TRIGGER:-PT2H
ACTION:DISPLAY
DESCRIPTION:E - Inter Miami FC vs. W - Minnesota United
END:VALARM
END:VEVENT
BEGIN:VEVENT
UID:provo-73663716-20260507T173000@quickscores.com
DTSTAMP:20260420T195000Z
DTSTART;TZID=America/Denver:20260507T173000
DURATION:PT1H0M0S
SUMMARY:Practice: W - Minnesota United vs. W - Austin FC
DESCRIPTION:3rd & 4th Grade Boys - Provo Parks and Recreation
LOCATION:Franklin Park Field #2
CATEGORIES:QuickScores, Soccer - Youth Game
TRANSP:OPAQUE
BEGIN:VALARM
TRIGGER:-PT2H
ACTION:DISPLAY
DESCRIPTION:Practice: W - Minnesota United vs. W - Austin FC
END:VALARM
END:VEVENT
BEGIN:VEVENT
UID:provo-73660019-20260509T130000@quickscores.com
DTSTAMP:20260420T195000Z
DTSTART;TZID=America/Denver:20260509T130000
DURATION:PT1H0M0S
SUMMARY:W - Minnesota United vs. W - Los Angeles Club
DESCRIPTION:3rd & 4th Grade Boys - Provo Parks and Recreation
LOCATION:Franklin Park Field #2
CATEGORIES:QuickScores, Soccer - Youth Game
TRANSP:OPAQUE
BEGIN:VALARM
TRIGGER:-PT2H
ACTION:DISPLAY
DESCRIPTION:W - Minnesota United vs. W - Los Angeles Club
END:VALARM
END:VEVENT
BEGIN:VEVENT
UID:provo-73663725-20260514T173000@quickscores.com
DTSTAMP:20260420T195000Z
DTSTART;TZID=America/Denver:20260514T173000
DURATION:PT1H0M0S
SUMMARY:Practice: W - Minnesota United vs. W - Austin FC
DESCRIPTION:3rd & 4th Grade Boys - Provo Parks and Recreation
LOCATION:Franklin Park Field #2
CATEGORIES:QuickScores, Soccer - Youth Game
TRANSP:OPAQUE
BEGIN:VALARM
TRIGGER:-PT2H
ACTION:DISPLAY
DESCRIPTION:Practice: W - Minnesota United vs. W - Austin FC
END:VALARM
END:VEVENT
BEGIN:VEVENT
UID:provo-73660022-20260516T090000@quickscores.com
DTSTAMP:20260420T195000Z
DTSTART;TZID=America/Denver:20260516T090000
DURATION:PT1H0M0S
SUMMARY:E - Sporting Kansas City vs. W - Minnesota United
DESCRIPTION:3rd & 4th Grade Boys - Provo Parks and Recreation
LOCATION:Sertoma Park Field #6
CATEGORIES:QuickScores, Soccer - Youth Game
TRANSP:OPAQUE
BEGIN:VALARM
TRIGGER:-PT2H
ACTION:DISPLAY
DESCRIPTION:E - Sporting Kansas City vs. W - Minnesota United
END:VALARM
END:VEVENT
END:VCALENDAR
