BEGIN:VCALENDAR
VERSION:2.0
PRODID:-//QuickScores.com//BQ Dynamic iCal Creator//EN
METHOD:PUBLISH
X-WR-CALNAME:E - LA Galaxy - 3rd & 4th Grade Boys - Spring 2026
X-WR-CALDESC:QuickScores game calendar
X-PUBLISHED-TTL:PT24H
REFRESH-INTERVAL;VALUE=DURATION:PT24H
CALSCALE:GREGORIAN
BEGIN:VTIMEZONE
TZID:America/Denver
X-LIC-LOCATION:America/Denver
BEGIN:DAYLIGHT
TZNAME:MDT
TZOFFSETFROM:-0700
TZOFFSETTO:-0600
DTSTART:19700308T020000
RRULE:FREQ=YEARLY;BYMONTH=3;BYDAY=2SU
END:DAYLIGHT
BEGIN:STANDARD
TZNAME:MST
TZOFFSETFROM:-0600
TZOFFSETTO:-0700
DTSTART:19701101T020000
RRULE:FREQ=YEARLY;BYMONTH=11;BYDAY=1SU
END:STANDARD
END:VTIMEZONE
BEGIN:VEVENT
UID:provo-73663669-20260402T163000@quickscores.com
DTSTAMP:20260420T212700Z
DTSTART;TZID=America/Denver:20260402T163000
DURATION:PT1H0M0S
SUMMARY:Practice: E - LA Galaxy vs. E - Las Vegas Lights FC
DESCRIPTION:3rd & 4th Grade Boys - Provo Parks and Recreation
LOCATION:Sertoma Park Field #3
CATEGORIES:QuickScores, Soccer - Youth Game
TRANSP:OPAQUE
BEGIN:VALARM
TRIGGER:-PT2H
ACTION:DISPLAY
DESCRIPTION:Practice: E - LA Galaxy vs. E - Las Vegas Lights FC
END:VALARM
END:VEVENT
BEGIN:VEVENT
UID:provo-73659973-20260411T100000@quickscores.com
DTSTAMP:20260420T212700Z
DTSTART;TZID=America/Denver:20260411T100000
DURATION:PT1H0M0S
SUMMARY:E - LA Galaxy vs. E - Inter Miami FC
DESCRIPTION:3rd & 4th Grade Boys - Provo Parks and Recreation
LOCATION:Sertoma Park Field #6
CATEGORIES:QuickScores, Soccer - Youth Game
TRANSP:OPAQUE
BEGIN:VALARM
TRIGGER:-PT2H
ACTION:DISPLAY
DESCRIPTION:E - LA Galaxy vs. E - Inter Miami FC
END:VALARM
END:VEVENT
BEGIN:VEVENT
UID:provo-73663687-20260416T163000@quickscores.com
DTSTAMP:20260420T212700Z
DTSTART;TZID=America/Denver:20260416T163000
DURATION:PT1H0M0S
SUMMARY:Practice: E - LA Galaxy vs. E - Las Vegas Lights FC
DESCRIPTION:3rd & 4th Grade Boys - Provo Parks and Recreation
LOCATION:Sertoma Park Field #3
CATEGORIES:QuickScores, Soccer - Youth Game
TRANSP:OPAQUE
BEGIN:VALARM
TRIGGER:-PT2H
ACTION:DISPLAY
DESCRIPTION:Practice: E - LA Galaxy vs. E - Las Vegas Lights FC
END:VALARM
END:VEVENT
BEGIN:VEVENT
UID:provo-73659983-20260418T090000@quickscores.com
DTSTAMP:20260420T212700Z
DTSTART;TZID=America/Denver:20260418T090000
DURATION:PT1H0M0S
SUMMARY:W - Los Angeles Club vs. E - LA Galaxy
DESCRIPTION:3rd & 4th Grade Boys - Provo Parks and Recreation
LOCATION:Sertoma Park Field #6
CATEGORIES:QuickScores, Soccer - Youth Game
TRANSP:OPAQUE
BEGIN:VALARM
TRIGGER:-PT2H
ACTION:DISPLAY
DESCRIPTION:W - Los Angeles Club vs. E - LA Galaxy
END:VALARM
END:VEVENT
BEGIN:VEVENT
UID:provo-73663696-20260423T163000@quickscores.com
DTSTAMP:20260420T212700Z
DTSTART;TZID=America/Denver:20260423T163000
DURATION:PT1H0M0S
SUMMARY:Practice: E - LA Galaxy vs. E - Las Vegas Lights FC
DESCRIPTION:3rd & 4th Grade Boys - Provo Parks and Recreation
LOCATION:Sertoma Park Field #3
CATEGORIES:QuickScores, Soccer - Youth Game
TRANSP:OPAQUE
BEGIN:VALARM
TRIGGER:-PT2H
ACTION:DISPLAY
DESCRIPTION:Practice: E - LA Galaxy vs. E - Las Vegas Lights FC
END:VALARM
END:VEVENT
BEGIN:VEVENT
UID:provo-73659990-20260425T130000@quickscores.com
DTSTAMP:20260420T212700Z
DTSTART;TZID=America/Denver:20260425T130000
DURATION:PT1H0M0S
SUMMARY:W - Atlanta United vs. E - LA Galaxy
DESCRIPTION:3rd & 4th Grade Boys - Provo Parks and Recreation
LOCATION:Franklin Park Field #2
CATEGORIES:QuickScores, Soccer - Youth Game
TRANSP:OPAQUE
BEGIN:VALARM
TRIGGER:-PT2H
ACTION:DISPLAY
DESCRIPTION:W - Atlanta United vs. E - LA Galaxy
END:VALARM
END:VEVENT
BEGIN:VEVENT
UID:provo-73660009-20260430T163000@quickscores.com
DTSTAMP:20260420T212700Z
DTSTART;TZID=America/Denver:20260430T163000
DURATION:PT1H0M0S
SUMMARY:W - Austin FC vs. E - LA Galaxy
DESCRIPTION:Weeknight Games, No Practice --- 3rd & 4th Grade Boys - Provo Parks and Recreation
LOCATION:Franklin Park Field #2
CATEGORIES:QuickScores, Soccer - Youth Game
TRANSP:OPAQUE
BEGIN:VALARM
TRIGGER:-PT2H
ACTION:DISPLAY
DESCRIPTION:W - Austin FC vs. E - LA Galaxy
END:VALARM
END:VEVENT
BEGIN:VEVENT
UID:provo-73659994-20260502T120000@quickscores.com
DTSTAMP:20260420T212700Z
DTSTART;TZID=America/Denver:20260502T120000
DURATION:PT1H0M0S
SUMMARY:E - LA Galaxy vs. E - The Ninjas
DESCRIPTION:3rd & 4th Grade Boys - Provo Parks and Recreation
LOCATION:Sertoma Park Field #6
CATEGORIES:QuickScores, Soccer - Youth Game
TRANSP:OPAQUE
BEGIN:VALARM
TRIGGER:-PT2H
ACTION:DISPLAY
DESCRIPTION:E - LA Galaxy vs. E - The Ninjas
END:VALARM
END:VEVENT
BEGIN:VEVENT
UID:provo-73663714-20260507T163000@quickscores.com
DTSTAMP:20260420T212700Z
DTSTART;TZID=America/Denver:20260507T163000
DURATION:PT1H0M0S
SUMMARY:Practice: E - LA Galaxy vs. E - Las Vegas Lights FC
DESCRIPTION:3rd & 4th Grade Boys - Provo Parks and Recreation
LOCATION:Sertoma Park Field #3
CATEGORIES:QuickScores, Soccer - Youth Game
TRANSP:OPAQUE
BEGIN:VALARM
TRIGGER:-PT2H
ACTION:DISPLAY
DESCRIPTION:Practice: E - LA Galaxy vs. E - Las Vegas Lights FC
END:VALARM
END:VEVENT
BEGIN:VEVENT
UID:provo-73660020-20260509T120000@quickscores.com
DTSTAMP:20260420T212700Z
DTSTART;TZID=America/Denver:20260509T120000
DURATION:PT1H0M0S
SUMMARY:E - LA Galaxy vs. E - FC Cincinnati
DESCRIPTION:3rd & 4th Grade Boys - Provo Parks and Recreation
LOCATION:Sertoma Park Field #6
CATEGORIES:QuickScores, Soccer - Youth Game
TRANSP:OPAQUE
BEGIN:VALARM
TRIGGER:-PT2H
ACTION:DISPLAY
DESCRIPTION:E - LA Galaxy vs. E - FC Cincinnati
END:VALARM
END:VEVENT
BEGIN:VEVENT
UID:provo-73663723-20260514T163000@quickscores.com
DTSTAMP:20260420T212700Z
DTSTART;TZID=America/Denver:20260514T163000
DURATION:PT1H0M0S
SUMMARY:Practice: E - LA Galaxy vs. E - Las Vegas Lights FC
DESCRIPTION:3rd & 4th Grade Boys - Provo Parks and Recreation
LOCATION:Sertoma Park Field #3
CATEGORIES:QuickScores, Soccer - Youth Game
TRANSP:OPAQUE
BEGIN:VALARM
TRIGGER:-PT2H
ACTION:DISPLAY
DESCRIPTION:Practice: E - LA Galaxy vs. E - Las Vegas Lights FC
END:VALARM
END:VEVENT
BEGIN:VEVENT
UID:provo-73660024-20260516T100000@quickscores.com
DTSTAMP:20260420T212700Z
DTSTART;TZID=America/Denver:20260516T100000
DURATION:PT1H0M0S
SUMMARY:E - FC Dallas vs. E - LA Galaxy
DESCRIPTION:3rd & 4th Grade Boys - Provo Parks and Recreation
LOCATION:Sertoma Park Field #3
CATEGORIES:QuickScores, Soccer - Youth Game
TRANSP:OPAQUE
BEGIN:VALARM
TRIGGER:-PT2H
ACTION:DISPLAY
DESCRIPTION:E - FC Dallas vs. E - LA Galaxy
END:VALARM
END:VEVENT
END:VCALENDAR
