BEGIN:VCALENDAR
VERSION:2.0
PRODID:-//QuickScores.com//BQ Dynamic iCal Creator//EN
METHOD:PUBLISH
X-WR-CALNAME:E - Sporting Kansas City - 3rd & 4th Grade Boys - Spring 2026
X-WR-CALDESC:QuickScores game calendar
X-PUBLISHED-TTL:PT24H
REFRESH-INTERVAL;VALUE=DURATION:PT24H
CALSCALE:GREGORIAN
BEGIN:VTIMEZONE
TZID:America/Denver
X-LIC-LOCATION:America/Denver
BEGIN:DAYLIGHT
TZNAME:MDT
TZOFFSETFROM:-0700
TZOFFSETTO:-0600
DTSTART:19700308T020000
RRULE:FREQ=YEARLY;BYMONTH=3;BYDAY=2SU
END:DAYLIGHT
BEGIN:STANDARD
TZNAME:MST
TZOFFSETFROM:-0600
TZOFFSETTO:-0700
DTSTART:19701101T020000
RRULE:FREQ=YEARLY;BYMONTH=11;BYDAY=1SU
END:STANDARD
END:VTIMEZONE
BEGIN:VEVENT
UID:provo-73663670-20260402T173000@quickscores.com
DTSTAMP:20260421T003300Z
DTSTART;TZID=America/Denver:20260402T173000
DURATION:PT1H0M0S
SUMMARY:Practice: E - Sporting Kansas City vs. E - The Ninjas
DESCRIPTION:3rd & 4th Grade Boys - Provo Parks and Recreation
LOCATION:Sertoma Park Field #6
CATEGORIES:QuickScores, Soccer - Youth Game
TRANSP:OPAQUE
BEGIN:VALARM
TRIGGER:-PT2H
ACTION:DISPLAY
DESCRIPTION:Practice: E - Sporting Kansas City vs. E - The Ninjas
END:VALARM
END:VEVENT
BEGIN:VEVENT
UID:provo-73659971-20260411T100000@quickscores.com
DTSTAMP:20260421T003300Z
DTSTART;TZID=America/Denver:20260411T100000
DURATION:PT1H0M0S
SUMMARY:W - Atlanta United vs. E - Sporting Kansas City
DESCRIPTION:3rd & 4th Grade Boys - Provo Parks and Recreation
LOCATION:Sertoma Park Field #3
CATEGORIES:QuickScores, Soccer - Youth Game
TRANSP:OPAQUE
BEGIN:VALARM
TRIGGER:-PT2H
ACTION:DISPLAY
DESCRIPTION:W - Atlanta United vs. E - Sporting Kansas City
END:VALARM
END:VEVENT
BEGIN:VEVENT
UID:provo-73663688-20260416T173000@quickscores.com
DTSTAMP:20260421T003300Z
DTSTART;TZID=America/Denver:20260416T173000
DURATION:PT1H0M0S
SUMMARY:Practice: E - Sporting Kansas City vs. E - The Ninjas
DESCRIPTION:3rd & 4th Grade Boys - Provo Parks and Recreation
LOCATION:Sertoma Park Field #6
CATEGORIES:QuickScores, Soccer - Youth Game
TRANSP:OPAQUE
BEGIN:VALARM
TRIGGER:-PT2H
ACTION:DISPLAY
DESCRIPTION:Practice: E - Sporting Kansas City vs. E - The Ninjas
END:VALARM
END:VEVENT
BEGIN:VEVENT
UID:provo-73659979-20260418T110000@quickscores.com
DTSTAMP:20260421T003300Z
DTSTART;TZID=America/Denver:20260418T110000
DURATION:PT1H0M0S
SUMMARY:E - Inter Miami FC vs. E - Sporting Kansas City
DESCRIPTION:3rd & 4th Grade Boys - Provo Parks and Recreation
LOCATION:Sertoma Park Field #6
CATEGORIES:QuickScores, Soccer - Youth Game
TRANSP:OPAQUE
BEGIN:VALARM
TRIGGER:-PT2H
ACTION:DISPLAY
DESCRIPTION:E - Inter Miami FC vs. E - Sporting Kansas City
END:VALARM
END:VEVENT
BEGIN:VEVENT
UID:provo-73663697-20260423T173000@quickscores.com
DTSTAMP:20260421T003300Z
DTSTART;TZID=America/Denver:20260423T173000
DURATION:PT1H0M0S
SUMMARY:Practice: E - Sporting Kansas City vs. E - The Ninjas
DESCRIPTION:3rd & 4th Grade Boys - Provo Parks and Recreation
LOCATION:Sertoma Park Field #6
CATEGORIES:QuickScores, Soccer - Youth Game
TRANSP:OPAQUE
BEGIN:VALARM
TRIGGER:-PT2H
ACTION:DISPLAY
DESCRIPTION:Practice: E - Sporting Kansas City vs. E - The Ninjas
END:VALARM
END:VEVENT
BEGIN:VEVENT
UID:provo-73659986-20260425T120000@quickscores.com
DTSTAMP:20260421T003300Z
DTSTART;TZID=America/Denver:20260425T120000
DURATION:PT1H0M0S
SUMMARY:E - Sporting Kansas City vs. W - Austin FC
DESCRIPTION:3rd & 4th Grade Boys - Provo Parks and Recreation
LOCATION:Franklin Park Field #2
CATEGORIES:QuickScores, Soccer - Youth Game
TRANSP:OPAQUE
BEGIN:VALARM
TRIGGER:-PT2H
ACTION:DISPLAY
DESCRIPTION:E - Sporting Kansas City vs. W - Austin FC
END:VALARM
END:VEVENT
BEGIN:VEVENT
UID:provo-73660007-20260430T163000@quickscores.com
DTSTAMP:20260421T003300Z
DTSTART;TZID=America/Denver:20260430T163000
DURATION:PT1H0M0S
SUMMARY:E - FC Dallas vs. E - Sporting Kansas City
DESCRIPTION:Weeknight Games, No Practice --- 3rd & 4th Grade Boys - Provo Parks and Recreation
LOCATION:Sertoma Park Field #6
CATEGORIES:QuickScores, Soccer - Youth Game
TRANSP:OPAQUE
BEGIN:VALARM
TRIGGER:-PT2H
ACTION:DISPLAY
DESCRIPTION:E - FC Dallas vs. E - Sporting Kansas City
END:VALARM
END:VEVENT
BEGIN:VEVENT
UID:provo-73659998-20260502T130000@quickscores.com
DTSTAMP:20260421T003300Z
DTSTART;TZID=America/Denver:20260502T130000
DURATION:PT1H0M0S
SUMMARY:W - Los Angeles Club vs. E - Sporting Kansas City
DESCRIPTION:3rd & 4th Grade Boys - Provo Parks and Recreation
LOCATION:Franklin Park Field #2
CATEGORIES:QuickScores, Soccer - Youth Game
TRANSP:OPAQUE
BEGIN:VALARM
TRIGGER:-PT2H
ACTION:DISPLAY
DESCRIPTION:W - Los Angeles Club vs. E - Sporting Kansas City
END:VALARM
END:VEVENT
BEGIN:VEVENT
UID:provo-73663715-20260507T173000@quickscores.com
DTSTAMP:20260421T003300Z
DTSTART;TZID=America/Denver:20260507T173000
DURATION:PT1H0M0S
SUMMARY:Practice: E - Sporting Kansas City vs. E - The Ninjas
DESCRIPTION:3rd & 4th Grade Boys - Provo Parks and Recreation
LOCATION:Sertoma Park Field #6
CATEGORIES:QuickScores, Soccer - Youth Game
TRANSP:OPAQUE
BEGIN:VALARM
TRIGGER:-PT2H
ACTION:DISPLAY
DESCRIPTION:Practice: E - Sporting Kansas City vs. E - The Ninjas
END:VALARM
END:VEVENT
BEGIN:VEVENT
UID:provo-73660017-20260509T100000@quickscores.com
DTSTAMP:20260421T003300Z
DTSTART;TZID=America/Denver:20260509T100000
DURATION:PT1H0M0S
SUMMARY:E - Sporting Kansas City vs. E - The Ninjas
DESCRIPTION:3rd & 4th Grade Boys - Provo Parks and Recreation
LOCATION:Sertoma Park Field #3
CATEGORIES:QuickScores, Soccer - Youth Game
TRANSP:OPAQUE
BEGIN:VALARM
TRIGGER:-PT2H
ACTION:DISPLAY
DESCRIPTION:E - Sporting Kansas City vs. E - The Ninjas
END:VALARM
END:VEVENT
BEGIN:VEVENT
UID:provo-73663724-20260514T173000@quickscores.com
DTSTAMP:20260421T003300Z
DTSTART;TZID=America/Denver:20260514T173000
DURATION:PT1H0M0S
SUMMARY:Practice: E - Sporting Kansas City vs. E - The Ninjas
DESCRIPTION:3rd & 4th Grade Boys - Provo Parks and Recreation
LOCATION:Sertoma Park Field #6
CATEGORIES:QuickScores, Soccer - Youth Game
TRANSP:OPAQUE
BEGIN:VALARM
TRIGGER:-PT2H
ACTION:DISPLAY
DESCRIPTION:Practice: E - Sporting Kansas City vs. E - The Ninjas
END:VALARM
END:VEVENT
BEGIN:VEVENT
UID:provo-73660022-20260516T090000@quickscores.com
DTSTAMP:20260421T003300Z
DTSTART;TZID=America/Denver:20260516T090000
DURATION:PT1H0M0S
SUMMARY:E - Sporting Kansas City vs. W - Minnesota United
DESCRIPTION:3rd & 4th Grade Boys - Provo Parks and Recreation
LOCATION:Sertoma Park Field #6
CATEGORIES:QuickScores, Soccer - Youth Game
TRANSP:OPAQUE
BEGIN:VALARM
TRIGGER:-PT2H
ACTION:DISPLAY
DESCRIPTION:E - Sporting Kansas City vs. W - Minnesota United
END:VALARM
END:VEVENT
END:VCALENDAR
