BEGIN:VCALENDAR
VERSION:2.0
PRODID:-//QuickScores.com//BQ Dynamic iCal Creator//EN
METHOD:PUBLISH
X-WR-CALNAME:W - Phoenix Rising FC - 3rd & 4th Grade Boys - Spring 2026
X-WR-CALDESC:QuickScores game calendar
X-PUBLISHED-TTL:PT24H
REFRESH-INTERVAL;VALUE=DURATION:PT24H
CALSCALE:GREGORIAN
BEGIN:VTIMEZONE
TZID:America/Denver
X-LIC-LOCATION:America/Denver
BEGIN:DAYLIGHT
TZNAME:MDT
TZOFFSETFROM:-0700
TZOFFSETTO:-0600
DTSTART:19700308T020000
RRULE:FREQ=YEARLY;BYMONTH=3;BYDAY=2SU
END:DAYLIGHT
BEGIN:STANDARD
TZNAME:MST
TZOFFSETFROM:-0600
TZOFFSETTO:-0700
DTSTART:19701101T020000
RRULE:FREQ=YEARLY;BYMONTH=11;BYDAY=1SU
END:STANDARD
END:VTIMEZONE
BEGIN:VEVENT
UID:provo-73663668-20260331T183000@quickscores.com
DTSTAMP:20260421T143200Z
DTSTART;TZID=America/Denver:20260331T183000
DURATION:PT1H0M0S
SUMMARY:Practice: W - Miami FC vs. W - Phoenix Rising FC
DESCRIPTION:3rd & 4th Grade Boys - Provo Parks and Recreation
LOCATION:Franklin Park Field #2
CATEGORIES:QuickScores, Soccer - Youth Game
TRANSP:OPAQUE
BEGIN:VALARM
TRIGGER:-PT2H
ACTION:DISPLAY
DESCRIPTION:Practice: W - Miami FC vs. W - Phoenix Rising FC
END:VALARM
END:VEVENT
BEGIN:VEVENT
UID:provo-73659968-20260411T120000@quickscores.com
DTSTAMP:20260421T143200Z
DTSTART;TZID=America/Denver:20260411T120000
DURATION:PT1H0M0S
SUMMARY:W - Miami FC vs. W - Phoenix Rising FC
DESCRIPTION:3rd & 4th Grade Boys - Provo Parks and Recreation
LOCATION:Franklin Park Field #2
CATEGORIES:QuickScores, Soccer - Youth Game
TRANSP:OPAQUE
BEGIN:VALARM
TRIGGER:-PT2H
ACTION:DISPLAY
DESCRIPTION:W - Miami FC vs. W - Phoenix Rising FC
END:VALARM
END:VEVENT
BEGIN:VEVENT
UID:provo-73663686-20260414T183000@quickscores.com
DTSTAMP:20260421T143200Z
DTSTART;TZID=America/Denver:20260414T183000
DURATION:PT1H0M0S
SUMMARY:Practice: W - Miami FC vs. W - Phoenix Rising FC
DESCRIPTION:3rd & 4th Grade Boys - Provo Parks and Recreation
LOCATION:Franklin Park Field #2
CATEGORIES:QuickScores, Soccer - Youth Game
TRANSP:OPAQUE
BEGIN:VALARM
TRIGGER:-PT2H
ACTION:DISPLAY
DESCRIPTION:Practice: W - Miami FC vs. W - Phoenix Rising FC
END:VALARM
END:VEVENT
BEGIN:VEVENT
UID:provo-73659978-20260418T120000@quickscores.com
DTSTAMP:20260421T143200Z
DTSTART;TZID=America/Denver:20260418T120000
DURATION:PT1H0M0S
SUMMARY:W - Phoenix Rising FC vs. E - Kung Fu Pandas
DESCRIPTION:3rd & 4th Grade Boys - Provo Parks and Recreation
LOCATION:Sertoma Park Field #6
CATEGORIES:QuickScores, Soccer - Youth Game
TRANSP:OPAQUE
BEGIN:VALARM
TRIGGER:-PT2H
ACTION:DISPLAY
DESCRIPTION:W - Phoenix Rising FC vs. E - Kung Fu Pandas
END:VALARM
END:VEVENT
BEGIN:VEVENT
UID:provo-73663695-20260421T183000@quickscores.com
DTSTAMP:20260421T143200Z
DTSTART;TZID=America/Denver:20260421T183000
DURATION:PT1H0M0S
SUMMARY:Practice: W - Miami FC vs. W - Phoenix Rising FC
DESCRIPTION:3rd & 4th Grade Boys - Provo Parks and Recreation
LOCATION:Franklin Park Field #2
CATEGORIES:QuickScores, Soccer - Youth Game
TRANSP:OPAQUE
BEGIN:VALARM
TRIGGER:-PT2H
ACTION:DISPLAY
DESCRIPTION:Practice: W - Miami FC vs. W - Phoenix Rising FC
END:VALARM
END:VEVENT
BEGIN:VEVENT
UID:provo-73659985-20260425T090000@quickscores.com
DTSTAMP:20260421T143200Z
DTSTART;TZID=America/Denver:20260425T090000
DURATION:PT1H0M0S
SUMMARY:E - Houston Dynamo FC vs. W - Phoenix Rising FC
DESCRIPTION:3rd & 4th Grade Boys - Provo Parks and Recreation
LOCATION:Sertoma Park Field #6
CATEGORIES:QuickScores, Soccer - Youth Game
TRANSP:OPAQUE
BEGIN:VALARM
TRIGGER:-PT2H
ACTION:DISPLAY
DESCRIPTION:E - Houston Dynamo FC vs. W - Phoenix Rising FC
END:VALARM
END:VEVENT
BEGIN:VEVENT
UID:provo-73660011-20260428T163000@quickscores.com
DTSTAMP:20260421T143200Z
DTSTART;TZID=America/Denver:20260428T163000
DURATION:PT1H0M0S
SUMMARY:W - Phoenix Rising FC vs. E - Las Vegas Lights FC
DESCRIPTION:Weeknight Games, No Practice --- 3rd & 4th Grade Boys - Provo Parks and Recreation
LOCATION:Franklin Park Field #2
CATEGORIES:QuickScores, Soccer - Youth Game
TRANSP:OPAQUE
BEGIN:VALARM
TRIGGER:-PT2H
ACTION:DISPLAY
DESCRIPTION:W - Phoenix Rising FC vs. E - Las Vegas Lights FC
END:VALARM
END:VEVENT
BEGIN:VEVENT
UID:provo-73659997-20260502T100000@quickscores.com
DTSTAMP:20260421T143200Z
DTSTART;TZID=America/Denver:20260502T100000
DURATION:PT1H0M0S
SUMMARY:E - DC United vs. W - Phoenix Rising FC
DESCRIPTION:3rd & 4th Grade Boys - Provo Parks and Recreation
LOCATION:Sertoma Park Field #3
CATEGORIES:QuickScores, Soccer - Youth Game
TRANSP:OPAQUE
BEGIN:VALARM
TRIGGER:-PT2H
ACTION:DISPLAY
DESCRIPTION:E - DC United vs. W - Phoenix Rising FC
END:VALARM
END:VEVENT
BEGIN:VEVENT
UID:provo-73663713-20260505T183000@quickscores.com
DTSTAMP:20260421T143200Z
DTSTART;TZID=America/Denver:20260505T183000
DURATION:PT1H0M0S
SUMMARY:Practice: W - Miami FC vs. W - Phoenix Rising FC
DESCRIPTION:3rd & 4th Grade Boys - Provo Parks and Recreation
LOCATION:Franklin Park Field #2
CATEGORIES:QuickScores, Soccer - Youth Game
TRANSP:OPAQUE
BEGIN:VALARM
TRIGGER:-PT2H
ACTION:DISPLAY
DESCRIPTION:Practice: W - Miami FC vs. W - Phoenix Rising FC
END:VALARM
END:VEVENT
BEGIN:VEVENT
UID:provo-73660016-20260509T090000@quickscores.com
DTSTAMP:20260421T143200Z
DTSTART;TZID=America/Denver:20260509T090000
DURATION:PT1H0M0S
SUMMARY:W - Phoenix Rising FC vs. E - Chicago Fire FC
DESCRIPTION:3rd & 4th Grade Boys - Provo Parks and Recreation
LOCATION:Sertoma Park Field #3
CATEGORIES:QuickScores, Soccer - Youth Game
TRANSP:OPAQUE
BEGIN:VALARM
TRIGGER:-PT2H
ACTION:DISPLAY
DESCRIPTION:W - Phoenix Rising FC vs. E - Chicago Fire FC
END:VALARM
END:VEVENT
BEGIN:VEVENT
UID:provo-73663722-20260512T183000@quickscores.com
DTSTAMP:20260421T143200Z
DTSTART;TZID=America/Denver:20260512T183000
DURATION:PT1H0M0S
SUMMARY:Practice: W - Miami FC vs. W - Phoenix Rising FC
DESCRIPTION:3rd & 4th Grade Boys - Provo Parks and Recreation
LOCATION:Franklin Park Field #2
CATEGORIES:QuickScores, Soccer - Youth Game
TRANSP:OPAQUE
BEGIN:VALARM
TRIGGER:-PT2H
ACTION:DISPLAY
DESCRIPTION:Practice: W - Miami FC vs. W - Phoenix Rising FC
END:VALARM
END:VEVENT
BEGIN:VEVENT
UID:provo-73660023-20260516T130000@quickscores.com
DTSTAMP:20260421T143200Z
DTSTART;TZID=America/Denver:20260516T130000
DURATION:PT1H0M0S
SUMMARY:E - FC Cincinnati vs. W - Phoenix Rising FC
DESCRIPTION:3rd & 4th Grade Boys - Provo Parks and Recreation
LOCATION:Franklin Park Field #2
CATEGORIES:QuickScores, Soccer - Youth Game
TRANSP:OPAQUE
BEGIN:VALARM
TRIGGER:-PT2H
ACTION:DISPLAY
DESCRIPTION:E - FC Cincinnati vs. W - Phoenix Rising FC
END:VALARM
END:VEVENT
END:VCALENDAR
