BEGIN:VCALENDAR
VERSION:2.0
PRODID:-//QuickScores.com//BQ Dynamic iCal Creator//EN
METHOD:PUBLISH
X-WR-CALNAME:W - Atlanta United - 3rd & 4th Grade Boys - Spring 2026
X-WR-CALDESC:QuickScores game calendar
X-PUBLISHED-TTL:PT24H
REFRESH-INTERVAL;VALUE=DURATION:PT24H
CALSCALE:GREGORIAN
BEGIN:VTIMEZONE
TZID:America/Denver
X-LIC-LOCATION:America/Denver
BEGIN:DAYLIGHT
TZNAME:MDT
TZOFFSETFROM:-0700
TZOFFSETTO:-0600
DTSTART:19700308T020000
RRULE:FREQ=YEARLY;BYMONTH=3;BYDAY=2SU
END:DAYLIGHT
BEGIN:STANDARD
TZNAME:MST
TZOFFSETFROM:-0600
TZOFFSETTO:-0700
DTSTART:19701101T020000
RRULE:FREQ=YEARLY;BYMONTH=11;BYDAY=1SU
END:STANDARD
END:VTIMEZONE
BEGIN:VEVENT
UID:provo-73663667-20260331T173000@quickscores.com
DTSTAMP:20260420T194800Z
DTSTART;TZID=America/Denver:20260331T173000
DURATION:PT1H0M0S
SUMMARY:Practice: W - Los Angeles Club vs. W - Atlanta United
DESCRIPTION:3rd & 4th Grade Boys - Provo Parks and Recreation
LOCATION:Franklin Park Field #2
CATEGORIES:QuickScores, Soccer - Youth Game
TRANSP:OPAQUE
BEGIN:VALARM
TRIGGER:-PT2H
ACTION:DISPLAY
DESCRIPTION:Practice: W - Los Angeles Club vs. W - Atlanta United
END:VALARM
END:VEVENT
BEGIN:VEVENT
UID:provo-73659971-20260411T100000@quickscores.com
DTSTAMP:20260420T194800Z
DTSTART;TZID=America/Denver:20260411T100000
DURATION:PT1H0M0S
SUMMARY:W - Atlanta United vs. E - Sporting Kansas City
DESCRIPTION:3rd & 4th Grade Boys - Provo Parks and Recreation
LOCATION:Sertoma Park Field #3
CATEGORIES:QuickScores, Soccer - Youth Game
TRANSP:OPAQUE
BEGIN:VALARM
TRIGGER:-PT2H
ACTION:DISPLAY
DESCRIPTION:W - Atlanta United vs. E - Sporting Kansas City
END:VALARM
END:VEVENT
BEGIN:VEVENT
UID:provo-73663685-20260414T173000@quickscores.com
DTSTAMP:20260420T194800Z
DTSTART;TZID=America/Denver:20260414T173000
DURATION:PT1H0M0S
SUMMARY:Practice: W - Los Angeles Club vs. W - Atlanta United
DESCRIPTION:3rd & 4th Grade Boys - Provo Parks and Recreation
LOCATION:Franklin Park Field #2
CATEGORIES:QuickScores, Soccer - Youth Game
TRANSP:OPAQUE
BEGIN:VALARM
TRIGGER:-PT2H
ACTION:DISPLAY
DESCRIPTION:Practice: W - Los Angeles Club vs. W - Atlanta United
END:VALARM
END:VEVENT
BEGIN:VEVENT
UID:provo-73659981-20260418T120000@quickscores.com
DTSTAMP:20260420T194800Z
DTSTART;TZID=America/Denver:20260418T120000
DURATION:PT1H0M0S
SUMMARY:W - Minnesota United vs. W - Atlanta United
DESCRIPTION:3rd & 4th Grade Boys - Provo Parks and Recreation
LOCATION:Franklin Park Field #2
CATEGORIES:QuickScores, Soccer - Youth Game
TRANSP:OPAQUE
BEGIN:VALARM
TRIGGER:-PT2H
ACTION:DISPLAY
DESCRIPTION:W - Minnesota United vs. W - Atlanta United
END:VALARM
END:VEVENT
BEGIN:VEVENT
UID:provo-73663694-20260421T173000@quickscores.com
DTSTAMP:20260420T194800Z
DTSTART;TZID=America/Denver:20260421T173000
DURATION:PT1H0M0S
SUMMARY:Practice: W - Los Angeles Club vs. W - Atlanta United
DESCRIPTION:3rd & 4th Grade Boys - Provo Parks and Recreation
LOCATION:Franklin Park Field #2
CATEGORIES:QuickScores, Soccer - Youth Game
TRANSP:OPAQUE
BEGIN:VALARM
TRIGGER:-PT2H
ACTION:DISPLAY
DESCRIPTION:Practice: W - Los Angeles Club vs. W - Atlanta United
END:VALARM
END:VEVENT
BEGIN:VEVENT
UID:provo-73659990-20260425T130000@quickscores.com
DTSTAMP:20260420T194800Z
DTSTART;TZID=America/Denver:20260425T130000
DURATION:PT1H0M0S
SUMMARY:W - Atlanta United vs. E - LA Galaxy
DESCRIPTION:3rd & 4th Grade Boys - Provo Parks and Recreation
LOCATION:Franklin Park Field #2
CATEGORIES:QuickScores, Soccer - Youth Game
TRANSP:OPAQUE
BEGIN:VALARM
TRIGGER:-PT2H
ACTION:DISPLAY
DESCRIPTION:W - Atlanta United vs. E - LA Galaxy
END:VALARM
END:VEVENT
BEGIN:VEVENT
UID:provo-73660005-20260430T173000@quickscores.com
DTSTAMP:20260420T194800Z
DTSTART;TZID=America/Denver:20260430T173000
DURATION:PT1H0M0S
SUMMARY:E - Colorado Rapids vs. W - Atlanta United
DESCRIPTION:Weeknight Games, No Practice --- 3rd & 4th Grade Boys - Provo Parks and Recreation
LOCATION:Franklin Park Field #2
CATEGORIES:QuickScores, Soccer - Youth Game
TRANSP:OPAQUE
BEGIN:VALARM
TRIGGER:-PT2H
ACTION:DISPLAY
DESCRIPTION:E - Colorado Rapids vs. W - Atlanta United
END:VALARM
END:VEVENT
BEGIN:VEVENT
UID:provo-73659996-20260502T130000@quickscores.com
DTSTAMP:20260420T194800Z
DTSTART;TZID=America/Denver:20260502T130000
DURATION:PT1H0M0S
SUMMARY:W - Atlanta United vs. E - FC Dallas
DESCRIPTION:3rd & 4th Grade Boys - Provo Parks and Recreation
LOCATION:Sertoma Park Field #6
CATEGORIES:QuickScores, Soccer - Youth Game
TRANSP:OPAQUE
BEGIN:VALARM
TRIGGER:-PT2H
ACTION:DISPLAY
DESCRIPTION:W - Atlanta United vs. E - FC Dallas
END:VALARM
END:VEVENT
BEGIN:VEVENT
UID:provo-73663712-20260505T173000@quickscores.com
DTSTAMP:20260420T194800Z
DTSTART;TZID=America/Denver:20260505T173000
DURATION:PT1H0M0S
SUMMARY:Practice: W - Los Angeles Club vs. W - Atlanta United
DESCRIPTION:3rd & 4th Grade Boys - Provo Parks and Recreation
LOCATION:Franklin Park Field #2
CATEGORIES:QuickScores, Soccer - Youth Game
TRANSP:OPAQUE
BEGIN:VALARM
TRIGGER:-PT2H
ACTION:DISPLAY
DESCRIPTION:Practice: W - Los Angeles Club vs. W - Atlanta United
END:VALARM
END:VEVENT
BEGIN:VEVENT
UID:provo-73660012-20260509T120000@quickscores.com
DTSTAMP:20260420T194800Z
DTSTART;TZID=America/Denver:20260509T120000
DURATION:PT1H0M0S
SUMMARY:W - Atlanta United vs. W - Austin FC
DESCRIPTION:3rd & 4th Grade Boys - Provo Parks and Recreation
LOCATION:Franklin Park Field #2
CATEGORIES:QuickScores, Soccer - Youth Game
TRANSP:OPAQUE
BEGIN:VALARM
TRIGGER:-PT2H
ACTION:DISPLAY
DESCRIPTION:W - Atlanta United vs. W - Austin FC
END:VALARM
END:VEVENT
BEGIN:VEVENT
UID:provo-73663721-20260512T173000@quickscores.com
DTSTAMP:20260420T194800Z
DTSTART;TZID=America/Denver:20260512T173000
DURATION:PT1H0M0S
SUMMARY:Practice: W - Los Angeles Club vs. W - Atlanta United
DESCRIPTION:3rd & 4th Grade Boys - Provo Parks and Recreation
LOCATION:Franklin Park Field #2
CATEGORIES:QuickScores, Soccer - Youth Game
TRANSP:OPAQUE
BEGIN:VALARM
TRIGGER:-PT2H
ACTION:DISPLAY
DESCRIPTION:Practice: W - Los Angeles Club vs. W - Atlanta United
END:VALARM
END:VEVENT
BEGIN:VEVENT
UID:provo-73660028-20260516T120000@quickscores.com
DTSTAMP:20260420T194800Z
DTSTART;TZID=America/Denver:20260516T120000
DURATION:PT1H0M0S
SUMMARY:E - Chicago Fire FC vs. W - Atlanta United
DESCRIPTION:3rd & 4th Grade Boys - Provo Parks and Recreation
LOCATION:Sertoma Park Field #6
CATEGORIES:QuickScores, Soccer - Youth Game
TRANSP:OPAQUE
BEGIN:VALARM
TRIGGER:-PT2H
ACTION:DISPLAY
DESCRIPTION:E - Chicago Fire FC vs. W - Atlanta United
END:VALARM
END:VEVENT
END:VCALENDAR
