BEGIN:VCALENDAR
VERSION:2.0
PRODID:-//QuickScores.com//BQ Dynamic iCal Creator//EN
METHOD:PUBLISH
X-WR-CALNAME:Justice League - 2nd Grade Boys West - Spring 2026
X-WR-CALDESC:QuickScores game calendar
X-PUBLISHED-TTL:PT24H
REFRESH-INTERVAL;VALUE=DURATION:PT24H
CALSCALE:GREGORIAN
BEGIN:VTIMEZONE
TZID:America/Denver
X-LIC-LOCATION:America/Denver
BEGIN:DAYLIGHT
TZNAME:MDT
TZOFFSETFROM:-0700
TZOFFSETTO:-0600
DTSTART:19700308T020000
RRULE:FREQ=YEARLY;BYMONTH=3;BYDAY=2SU
END:DAYLIGHT
BEGIN:STANDARD
TZNAME:MST
TZOFFSETFROM:-0600
TZOFFSETTO:-0700
DTSTART:19701101T020000
RRULE:FREQ=YEARLY;BYMONTH=11;BYDAY=1SU
END:STANDARD
END:VTIMEZONE
BEGIN:VEVENT
UID:provo-73663515-20260402T173000@quickscores.com
DTSTAMP:20260423T011000Z
DTSTART;TZID=America/Denver:20260402T173000
DURATION:PT1H0M0S
SUMMARY:Practice: Justice League vs. Batmen
DESCRIPTION:2nd Grade Boys West - Provo Parks and Recreation
LOCATION:Sunset View Park Field #3
CATEGORIES:QuickScores, Soccer - Youth Game
TRANSP:OPAQUE
BEGIN:VALARM
TRIGGER:-PT2H
ACTION:DISPLAY
DESCRIPTION:Practice: Justice League vs. Batmen
END:VALARM
END:VEVENT
BEGIN:VEVENT
UID:provo-73660086-20260411T103000@quickscores.com
DTSTAMP:20260423T011000Z
DTSTART;TZID=America/Denver:20260411T103000
DURATION:PT1H0M0S
SUMMARY:Justice League vs. Batmen
DESCRIPTION:2nd Grade Boys West - Provo Parks and Recreation
LOCATION:Sunset View Park Field #3
CATEGORIES:QuickScores, Soccer - Youth Game
TRANSP:OPAQUE
BEGIN:VALARM
TRIGGER:-PT2H
ACTION:DISPLAY
DESCRIPTION:Justice League vs. Batmen
END:VALARM
END:VEVENT
BEGIN:VEVENT
UID:provo-73663522-20260416T163000@quickscores.com
DTSTAMP:20260423T011000Z
DTSTART;TZID=America/Denver:20260416T163000
DURATION:PT1H0M0S
SUMMARY:Practice: Justice League vs. Batmen
DESCRIPTION:2nd Grade Boys West - Provo Parks and Recreation
LOCATION:Sunset View Park Field #3
CATEGORIES:QuickScores, Soccer - Youth Game
TRANSP:OPAQUE
BEGIN:VALARM
TRIGGER:-PT2H
ACTION:DISPLAY
DESCRIPTION:Practice: Justice League vs. Batmen
END:VALARM
END:VEVENT
BEGIN:VEVENT
UID:provo-73660087-20260418T103000@quickscores.com
DTSTAMP:20260423T011000Z
DTSTART;TZID=America/Denver:20260418T103000
DURATION:PT1H0M0S
SUMMARY:Justice League vs. Green Lanterns
DESCRIPTION:2nd Grade Boys West - Provo Parks and Recreation
LOCATION:Sunset View Park Field #3
CATEGORIES:QuickScores, Soccer - Youth Game
TRANSP:OPAQUE
BEGIN:VALARM
TRIGGER:-PT2H
ACTION:DISPLAY
DESCRIPTION:Justice League vs. Green Lanterns
END:VALARM
END:VEVENT
BEGIN:VEVENT
UID:provo-73660096-20260423T173000@quickscores.com
DTSTAMP:20260423T011000Z
DTSTART;TZID=America/Denver:20260423T173000
DURATION:PT1H0M0S
SUMMARY:Justice League vs. Green Ogres
DESCRIPTION:Weeknight Games, No Practice --- 2nd Grade Boys West - Provo Parks and Recreation
LOCATION:Sunset View Park Field #3
CATEGORIES:QuickScores, Soccer - Youth Game
TRANSP:OPAQUE
BEGIN:VALARM
TRIGGER:-PT2H
ACTION:DISPLAY
DESCRIPTION:Justice League vs. Green Ogres
END:VALARM
END:VEVENT
BEGIN:VEVENT
UID:provo-73660094-20260425T113000@quickscores.com
DTSTAMP:20260423T011000Z
DTSTART;TZID=America/Denver:20260425T113000
DURATION:PT1H0M0S
SUMMARY:Kung Fu Pandas vs. Justice League
DESCRIPTION:2nd Grade Boys West - Provo Parks and Recreation
LOCATION:Sunset View Park Field #3
CATEGORIES:QuickScores, Soccer - Youth Game
TRANSP:OPAQUE
BEGIN:VALARM
TRIGGER:-PT2H
ACTION:DISPLAY
DESCRIPTION:Kung Fu Pandas vs. Justice League
END:VALARM
END:VEVENT
BEGIN:VEVENT
UID:provo-73663531-20260430T173000@quickscores.com
DTSTAMP:20260423T011000Z
DTSTART;TZID=America/Denver:20260430T173000
DURATION:PT1H0M0S
SUMMARY:Practice: Justice League vs. Batmen
DESCRIPTION:2nd Grade Boys West - Provo Parks and Recreation
LOCATION:Sunset View Park Field #3
CATEGORIES:QuickScores, Soccer - Youth Game
TRANSP:OPAQUE
BEGIN:VALARM
TRIGGER:-PT2H
ACTION:DISPLAY
DESCRIPTION:Practice: Justice League vs. Batmen
END:VALARM
END:VEVENT
BEGIN:VEVENT
UID:provo-73660101-20260502T103000@quickscores.com
DTSTAMP:20260423T011000Z
DTSTART;TZID=America/Denver:20260502T103000
DURATION:PT1H0M0S
SUMMARY:Justice League vs. Cyborgs
DESCRIPTION:2nd Grade Boys West - Provo Parks and Recreation
LOCATION:Sunset View Park Field #3
CATEGORIES:QuickScores, Soccer - Youth Game
TRANSP:OPAQUE
BEGIN:VALARM
TRIGGER:-PT2H
ACTION:DISPLAY
DESCRIPTION:Justice League vs. Cyborgs
END:VALARM
END:VEVENT
BEGIN:VEVENT
UID:provo-73663535-20260507T173000@quickscores.com
DTSTAMP:20260423T011000Z
DTSTART;TZID=America/Denver:20260507T173000
DURATION:PT1H0M0S
SUMMARY:Practice: Justice League vs. Batmen
DESCRIPTION:2nd Grade Boys West - Provo Parks and Recreation
LOCATION:Sunset View Park Field #3
CATEGORIES:QuickScores, Soccer - Youth Game
TRANSP:OPAQUE
BEGIN:VALARM
TRIGGER:-PT2H
ACTION:DISPLAY
DESCRIPTION:Practice: Justice League vs. Batmen
END:VALARM
END:VEVENT
BEGIN:VEVENT
UID:provo-73660103-20260509T093000@quickscores.com
DTSTAMP:20260423T011000Z
DTSTART;TZID=America/Denver:20260509T093000
DURATION:PT1H0M0S
SUMMARY:Dragon Riders vs. Justice League
DESCRIPTION:2nd Grade Boys West - Provo Parks and Recreation
LOCATION:Sunset View Park Field #3
CATEGORIES:QuickScores, Soccer - Youth Game
TRANSP:OPAQUE
BEGIN:VALARM
TRIGGER:-PT2H
ACTION:DISPLAY
DESCRIPTION:Dragon Riders vs. Justice League
END:VALARM
END:VEVENT
BEGIN:VEVENT
UID:provo-73663539-20260514T173000@quickscores.com
DTSTAMP:20260423T011000Z
DTSTART;TZID=America/Denver:20260514T173000
DURATION:PT1H0M0S
SUMMARY:Practice: Justice League vs. Batmen
DESCRIPTION:2nd Grade Boys West - Provo Parks and Recreation
LOCATION:Sunset View Park Field #3
CATEGORIES:QuickScores, Soccer - Youth Game
TRANSP:OPAQUE
BEGIN:VALARM
TRIGGER:-PT2H
ACTION:DISPLAY
DESCRIPTION:Practice: Justice League vs. Batmen
END:VALARM
END:VEVENT
BEGIN:VEVENT
UID:provo-73660107-20260516T113000@quickscores.com
DTSTAMP:20260423T011000Z
DTSTART;TZID=America/Denver:20260516T113000
DURATION:PT1H0M0S
SUMMARY:Aquamen vs. Justice League
DESCRIPTION:2nd Grade Boys West - Provo Parks and Recreation
LOCATION:Sunset View Park Field #3
CATEGORIES:QuickScores, Soccer - Youth Game
TRANSP:OPAQUE
BEGIN:VALARM
TRIGGER:-PT2H
ACTION:DISPLAY
DESCRIPTION:Aquamen vs. Justice League
END:VALARM
END:VEVENT
END:VCALENDAR
