BEGIN:VCALENDAR
VERSION:2.0
PRODID:-//QuickScores.com//BQ Dynamic iCal Creator//EN
METHOD:PUBLISH
X-WR-CALNAME:Silver Surfers - 2nd Grade Boys East - Spring 2026
X-WR-CALDESC:QuickScores game calendar
X-PUBLISHED-TTL:PT24H
REFRESH-INTERVAL;VALUE=DURATION:PT24H
CALSCALE:GREGORIAN
BEGIN:VTIMEZONE
TZID:America/Denver
X-LIC-LOCATION:America/Denver
BEGIN:DAYLIGHT
TZNAME:MDT
TZOFFSETFROM:-0700
TZOFFSETTO:-0600
DTSTART:19700308T020000
RRULE:FREQ=YEARLY;BYMONTH=3;BYDAY=2SU
END:DAYLIGHT
BEGIN:STANDARD
TZNAME:MST
TZOFFSETFROM:-0600
TZOFFSETTO:-0700
DTSTART:19701101T020000
RRULE:FREQ=YEARLY;BYMONTH=11;BYDAY=1SU
END:STANDARD
END:VTIMEZONE
BEGIN:VEVENT
UID:provo-73663236-20260331T183000@quickscores.com
DTSTAMP:20260422T092700Z
DTSTART;TZID=America/Denver:20260331T183000
DURATION:PT1H0M0S
SUMMARY:Practice: Iron Men vs. Silver Surfers
DESCRIPTION:Practice (Teams share the field) --- 2nd Grade Boys East - Provo Parks and Recreation
LOCATION:Sertoma Park Field #5
CATEGORIES:QuickScores, Soccer - Youth Game
TRANSP:OPAQUE
BEGIN:VALARM
TRIGGER:-PT2H
ACTION:DISPLAY
DESCRIPTION:Practice: Iron Men vs. Silver Surfers
END:VALARM
END:VEVENT
BEGIN:VEVENT
UID:provo-73659398-20260411T130000@quickscores.com
DTSTAMP:20260422T092700Z
DTSTART;TZID=America/Denver:20260411T130000
DURATION:PT1H0M0S
SUMMARY:Silver Surfers vs. Hawkeyes
DESCRIPTION:2nd Grade Boys East - Provo Parks and Recreation
LOCATION:Sertoma Park Field #2
CATEGORIES:QuickScores, Soccer - Youth Game
TRANSP:OPAQUE
BEGIN:VALARM
TRIGGER:-PT2H
ACTION:DISPLAY
DESCRIPTION:Silver Surfers vs. Hawkeyes
END:VALARM
END:VEVENT
BEGIN:VEVENT
UID:provo-73663248-20260414T183000@quickscores.com
DTSTAMP:20260422T092700Z
DTSTART;TZID=America/Denver:20260414T183000
DURATION:PT1H0M0S
SUMMARY:Practice: Iron Men vs. Silver Surfers
DESCRIPTION:Practice (Teams share the field) --- 2nd Grade Boys East - Provo Parks and Recreation
LOCATION:Sertoma Park Field #5
CATEGORIES:QuickScores, Soccer - Youth Game
TRANSP:OPAQUE
BEGIN:VALARM
TRIGGER:-PT2H
ACTION:DISPLAY
DESCRIPTION:Practice: Iron Men vs. Silver Surfers
END:VALARM
END:VEVENT
BEGIN:VEVENT
UID:provo-73659403-20260418T103000@quickscores.com
DTSTAMP:20260422T092700Z
DTSTART;TZID=America/Denver:20260418T103000
DURATION:PT1H0M0S
SUMMARY:Silver Surfers vs. Blue Jays
DESCRIPTION:2nd Grade Boys East - Provo Parks and Recreation
LOCATION:Sertoma Park Field #5
CATEGORIES:QuickScores, Soccer - Youth Game
TRANSP:OPAQUE
BEGIN:VALARM
TRIGGER:-PT2H
ACTION:DISPLAY
DESCRIPTION:Silver Surfers vs. Blue Jays
END:VALARM
END:VEVENT
BEGIN:VEVENT
UID:provo-73659414-20260421T163000@quickscores.com
DTSTAMP:20260422T092700Z
DTSTART;TZID=America/Denver:20260421T163000
DURATION:PT1H0M0S
SUMMARY:Silver Surfers vs. Hulks
DESCRIPTION:Weeknight Games, No Practice --- 2nd Grade Boys East - Provo Parks and Recreation
LOCATION:Sertoma Park Field #5
CATEGORIES:QuickScores, Soccer - Youth Game
TRANSP:OPAQUE
BEGIN:VALARM
TRIGGER:-PT2H
ACTION:DISPLAY
DESCRIPTION:Silver Surfers vs. Hulks
END:VALARM
END:VEVENT
BEGIN:VEVENT
UID:provo-73659410-20260425T133000@quickscores.com
DTSTAMP:20260422T092700Z
DTSTART;TZID=America/Denver:20260425T133000
DURATION:PT1H0M0S
SUMMARY:Falcons vs. Silver Surfers
DESCRIPTION:2nd Grade Boys East - Provo Parks and Recreation
LOCATION:Sertoma Park Field #5
CATEGORIES:QuickScores, Soccer - Youth Game
TRANSP:OPAQUE
BEGIN:VALARM
TRIGGER:-PT2H
ACTION:DISPLAY
DESCRIPTION:Falcons vs. Silver Surfers
END:VALARM
END:VEVENT
BEGIN:VEVENT
UID:provo-73663260-20260428T183000@quickscores.com
DTSTAMP:20260422T092700Z
DTSTART;TZID=America/Denver:20260428T183000
DURATION:PT1H0M0S
SUMMARY:Practice: Iron Men vs. Silver Surfers
DESCRIPTION:Practice (Teams share the field) --- 2nd Grade Boys East - Provo Parks and Recreation
LOCATION:Sertoma Park Field #5
CATEGORIES:QuickScores, Soccer - Youth Game
TRANSP:OPAQUE
BEGIN:VALARM
TRIGGER:-PT2H
ACTION:DISPLAY
DESCRIPTION:Practice: Iron Men vs. Silver Surfers
END:VALARM
END:VEVENT
BEGIN:VEVENT
UID:provo-73659421-20260502T093000@quickscores.com
DTSTAMP:20260422T092700Z
DTSTART;TZID=America/Denver:20260502T093000
DURATION:PT1H0M0S
SUMMARY:Iron Men vs. Silver Surfers
DESCRIPTION:2nd Grade Boys East - Provo Parks and Recreation
LOCATION:Sertoma Park Field #5
CATEGORIES:QuickScores, Soccer - Youth Game
TRANSP:OPAQUE
BEGIN:VALARM
TRIGGER:-PT2H
ACTION:DISPLAY
DESCRIPTION:Iron Men vs. Silver Surfers
END:VALARM
END:VEVENT
BEGIN:VEVENT
UID:provo-73663266-20260505T183000@quickscores.com
DTSTAMP:20260422T092700Z
DTSTART;TZID=America/Denver:20260505T183000
DURATION:PT1H0M0S
SUMMARY:Practice: Iron Men vs. Silver Surfers
DESCRIPTION:Practice (Teams share the field) --- 2nd Grade Boys East - Provo Parks and Recreation
LOCATION:Sertoma Park Field #5
CATEGORIES:QuickScores, Soccer - Youth Game
TRANSP:OPAQUE
BEGIN:VALARM
TRIGGER:-PT2H
ACTION:DISPLAY
DESCRIPTION:Practice: Iron Men vs. Silver Surfers
END:VALARM
END:VEVENT
BEGIN:VEVENT
UID:provo-73659425-20260509T133000@quickscores.com
DTSTAMP:20260422T092700Z
DTSTART;TZID=America/Denver:20260509T133000
DURATION:PT1H0M0S
SUMMARY:Wolverines vs. Silver Surfers
DESCRIPTION:2nd Grade Boys East - Provo Parks and Recreation
LOCATION:Sertoma Park Field #5
CATEGORIES:QuickScores, Soccer - Youth Game
TRANSP:OPAQUE
BEGIN:VALARM
TRIGGER:-PT2H
ACTION:DISPLAY
DESCRIPTION:Wolverines vs. Silver Surfers
END:VALARM
END:VEVENT
BEGIN:VEVENT
UID:provo-73663272-20260512T183000@quickscores.com
DTSTAMP:20260422T092700Z
DTSTART;TZID=America/Denver:20260512T183000
DURATION:PT1H0M0S
SUMMARY:Practice: Iron Men vs. Silver Surfers
DESCRIPTION:Practice (Teams share the field) --- 2nd Grade Boys East - Provo Parks and Recreation
LOCATION:Sertoma Park Field #5
CATEGORIES:QuickScores, Soccer - Youth Game
TRANSP:OPAQUE
BEGIN:VALARM
TRIGGER:-PT2H
ACTION:DISPLAY
DESCRIPTION:Practice: Iron Men vs. Silver Surfers
END:VALARM
END:VEVENT
BEGIN:VEVENT
UID:provo-73659432-20260516T113000@quickscores.com
DTSTAMP:20260422T092700Z
DTSTART;TZID=America/Denver:20260516T113000
DURATION:PT1H0M0S
SUMMARY:Defenders vs. Silver Surfers
DESCRIPTION:2nd Grade Boys East - Provo Parks and Recreation
LOCATION:Sertoma Park Field #5
CATEGORIES:QuickScores, Soccer - Youth Game
TRANSP:OPAQUE
BEGIN:VALARM
TRIGGER:-PT2H
ACTION:DISPLAY
DESCRIPTION:Defenders vs. Silver Surfers
END:VALARM
END:VEVENT
END:VCALENDAR
