BEGIN:VCALENDAR
VERSION:2.0
PRODID:-//QuickScores.com//BQ Dynamic iCal Creator//EN
METHOD:PUBLISH
X-WR-CALNAME:Samurai&#039;s - 1st Grade Boys West - Spring 2026
X-WR-CALDESC:QuickScores game calendar
X-PUBLISHED-TTL:PT24H
REFRESH-INTERVAL;VALUE=DURATION:PT24H
CALSCALE:GREGORIAN
BEGIN:VTIMEZONE
TZID:America/Denver
X-LIC-LOCATION:America/Denver
BEGIN:DAYLIGHT
TZNAME:MDT
TZOFFSETFROM:-0700
TZOFFSETTO:-0600
DTSTART:19700308T020000
RRULE:FREQ=YEARLY;BYMONTH=3;BYDAY=2SU
END:DAYLIGHT
BEGIN:STANDARD
TZNAME:MST
TZOFFSETFROM:-0600
TZOFFSETTO:-0700
DTSTART:19701101T020000
RRULE:FREQ=YEARLY;BYMONTH=11;BYDAY=1SU
END:STANDARD
END:VTIMEZONE
BEGIN:VEVENT
UID:provo-73660984-20260331T163000@quickscores.com
DTSTAMP:20260423T133600Z
DTSTART;TZID=America/Denver:20260331T163000
DURATION:PT1H0M0S
SUMMARY:Practice: Night Furies vs. Samurai's
DESCRIPTION:1st Grade Boys West - Provo Parks and Recreation
LOCATION:Sunset View Park Field #1
CATEGORIES:QuickScores, Soccer - Youth Game
TRANSP:OPAQUE
BEGIN:VALARM
TRIGGER:-PT2H
ACTION:DISPLAY
DESCRIPTION:Practice: Night Furies vs. Samurai's
END:VALARM
END:VEVENT
BEGIN:VEVENT
UID:provo-73658614-20260411T130000@quickscores.com
DTSTAMP:20260423T133600Z
DTSTART;TZID=America/Denver:20260411T130000
DURATION:PT1H0M0S
SUMMARY:Transformers vs. Samurai's
DESCRIPTION:1st Grade Boys West - Provo Parks and Recreation
LOCATION:Sunset View Park Field #1
CATEGORIES:QuickScores, Soccer - Youth Game
TRANSP:OPAQUE
BEGIN:VALARM
TRIGGER:-PT2H
ACTION:DISPLAY
DESCRIPTION:Transformers vs. Samurai's
END:VALARM
END:VEVENT
BEGIN:VEVENT
UID:provo-73658627-20260414T183000@quickscores.com
DTSTAMP:20260423T133600Z
DTSTART;TZID=America/Denver:20260414T183000
DURATION:PT1H0M0S
SUMMARY:Knights vs. Samurai's
DESCRIPTION:Weeknight Games, No Practice --- 1st Grade Boys West - Provo Parks and Recreation
LOCATION:Sunset View Park Field #1
CATEGORIES:QuickScores, Soccer - Youth Game
TRANSP:OPAQUE
BEGIN:VALARM
TRIGGER:-PT2H
ACTION:DISPLAY
DESCRIPTION:Knights vs. Samurai's
END:VALARM
END:VEVENT
BEGIN:VEVENT
UID:provo-73658620-20260418T120000@quickscores.com
DTSTAMP:20260423T133600Z
DTSTART;TZID=America/Denver:20260418T120000
DURATION:PT1H0M0S
SUMMARY:Samurai's vs. Megaminds
DESCRIPTION:1st Grade Boys West - Provo Parks and Recreation
LOCATION:Sunset View Park Field #1
CATEGORIES:QuickScores, Soccer - Youth Game
TRANSP:OPAQUE
BEGIN:VALARM
TRIGGER:-PT2H
ACTION:DISPLAY
DESCRIPTION:Samurai's vs. Megaminds
END:VALARM
END:VEVENT
BEGIN:VEVENT
UID:provo-73661000-20260421T173000@quickscores.com
DTSTAMP:20260423T133600Z
DTSTART;TZID=America/Denver:20260421T173000
DURATION:PT1H0M0S
SUMMARY:Practice: Night Furies vs. Samurai's
DESCRIPTION:1st Grade Boys West - Provo Parks and Recreation
LOCATION:Sunset View Park Field #1
CATEGORIES:QuickScores, Soccer - Youth Game
TRANSP:OPAQUE
BEGIN:VALARM
TRIGGER:-PT2H
ACTION:DISPLAY
DESCRIPTION:Practice: Night Furies vs. Samurai's
END:VALARM
END:VEVENT
BEGIN:VEVENT
UID:provo-73658631-20260425T130000@quickscores.com
DTSTAMP:20260423T133600Z
DTSTART;TZID=America/Denver:20260425T130000
DURATION:PT1H0M0S
SUMMARY:Shark Slayers vs. Samurai's
DESCRIPTION:1st Grade Boys West - Provo Parks and Recreation
LOCATION:Sunset View Park Field #1
CATEGORIES:QuickScores, Soccer - Youth Game
TRANSP:OPAQUE
BEGIN:VALARM
TRIGGER:-PT2H
ACTION:DISPLAY
DESCRIPTION:Shark Slayers vs. Samurai's
END:VALARM
END:VEVENT
BEGIN:VEVENT
UID:provo-73661006-20260428T183000@quickscores.com
DTSTAMP:20260423T133600Z
DTSTART;TZID=America/Denver:20260428T183000
DURATION:PT1H0M0S
SUMMARY:Practice: Night Furies vs. Samurai's
DESCRIPTION:1st Grade Boys West - Provo Parks and Recreation
LOCATION:Sunset View Park Field #1
CATEGORIES:QuickScores, Soccer - Youth Game
TRANSP:OPAQUE
BEGIN:VALARM
TRIGGER:-PT2H
ACTION:DISPLAY
DESCRIPTION:Practice: Night Furies vs. Samurai's
END:VALARM
END:VEVENT
BEGIN:VEVENT
UID:provo-73658636-20260502T090000@quickscores.com
DTSTAMP:20260423T133600Z
DTSTART;TZID=America/Denver:20260502T090000
DURATION:PT1H0M0S
SUMMARY:Sky Slayers vs. Samurai's
DESCRIPTION:1st Grade Boys West - Provo Parks and Recreation
LOCATION:Sunset View Park Field #1
CATEGORIES:QuickScores, Soccer - Youth Game
TRANSP:OPAQUE
BEGIN:VALARM
TRIGGER:-PT2H
ACTION:DISPLAY
DESCRIPTION:Sky Slayers vs. Samurai's
END:VALARM
END:VEVENT
BEGIN:VEVENT
UID:provo-73661010-20260505T173000@quickscores.com
DTSTAMP:20260423T133600Z
DTSTART;TZID=America/Denver:20260505T173000
DURATION:PT1H0M0S
SUMMARY:Practice: Night Furies vs. Samurai's
DESCRIPTION:1st Grade Boys West - Provo Parks and Recreation
LOCATION:Sunset View Park Field #1
CATEGORIES:QuickScores, Soccer - Youth Game
TRANSP:OPAQUE
BEGIN:VALARM
TRIGGER:-PT2H
ACTION:DISPLAY
DESCRIPTION:Practice: Night Furies vs. Samurai's
END:VALARM
END:VEVENT
BEGIN:VEVENT
UID:provo-73658642-20260509T100000@quickscores.com
DTSTAMP:20260423T133600Z
DTSTART;TZID=America/Denver:20260509T100000
DURATION:PT1H0M0S
SUMMARY:Samurai's vs. Mavericks
DESCRIPTION:1st Grade Boys West - Provo Parks and Recreation
LOCATION:Sunset View Park Field #1
CATEGORIES:QuickScores, Soccer - Youth Game
TRANSP:OPAQUE
BEGIN:VALARM
TRIGGER:-PT2H
ACTION:DISPLAY
DESCRIPTION:Samurai's vs. Mavericks
END:VALARM
END:VEVENT
BEGIN:VEVENT
UID:provo-73661014-20260512T163000@quickscores.com
DTSTAMP:20260423T133600Z
DTSTART;TZID=America/Denver:20260512T163000
DURATION:PT1H0M0S
SUMMARY:Practice: Night Furies vs. Samurai's
DESCRIPTION:1st Grade Boys West - Provo Parks and Recreation
LOCATION:Sunset View Park Field #1
CATEGORIES:QuickScores, Soccer - Youth Game
TRANSP:OPAQUE
BEGIN:VALARM
TRIGGER:-PT2H
ACTION:DISPLAY
DESCRIPTION:Practice: Night Furies vs. Samurai's
END:VALARM
END:VEVENT
BEGIN:VEVENT
UID:provo-73658648-20260516T130000@quickscores.com
DTSTAMP:20260423T133600Z
DTSTART;TZID=America/Denver:20260516T130000
DURATION:PT1H0M0S
SUMMARY:Samurai's vs. Vikings
DESCRIPTION:1st Grade Boys West - Provo Parks and Recreation
LOCATION:Sunset View Park Field #1
CATEGORIES:QuickScores, Soccer - Youth Game
TRANSP:OPAQUE
BEGIN:VALARM
TRIGGER:-PT2H
ACTION:DISPLAY
DESCRIPTION:Samurai's vs. Vikings
END:VALARM
END:VEVENT
END:VCALENDAR
