BEGIN:VCALENDAR
VERSION:2.0
PRODID:-//QuickScores.com//BQ Dynamic iCal Creator//EN
METHOD:PUBLISH
X-WR-CALNAME:Megaminds - 1st Grade Boys West - Spring 2026
X-WR-CALDESC:QuickScores game calendar
X-PUBLISHED-TTL:PT24H
REFRESH-INTERVAL;VALUE=DURATION:PT24H
CALSCALE:GREGORIAN
BEGIN:VTIMEZONE
TZID:America/Denver
X-LIC-LOCATION:America/Denver
BEGIN:DAYLIGHT
TZNAME:MDT
TZOFFSETFROM:-0700
TZOFFSETTO:-0600
DTSTART:19700308T020000
RRULE:FREQ=YEARLY;BYMONTH=3;BYDAY=2SU
END:DAYLIGHT
BEGIN:STANDARD
TZNAME:MST
TZOFFSETFROM:-0600
TZOFFSETTO:-0700
DTSTART:19701101T020000
RRULE:FREQ=YEARLY;BYMONTH=11;BYDAY=1SU
END:STANDARD
END:VTIMEZONE
BEGIN:VEVENT
UID:provo-73660985-20260331T173000@quickscores.com
DTSTAMP:20260422T081900Z
DTSTART;TZID=America/Denver:20260331T173000
DURATION:PT1H0M0S
SUMMARY:Practice: Knights vs. Megaminds
DESCRIPTION:1st Grade Boys West - Provo Parks and Recreation
LOCATION:Sunset View Park Field #1
CATEGORIES:QuickScores, Soccer - Youth Game
TRANSP:OPAQUE
BEGIN:VALARM
TRIGGER:-PT2H
ACTION:DISPLAY
DESCRIPTION:Practice: Knights vs. Megaminds
END:VALARM
END:VEVENT
BEGIN:VEVENT
UID:provo-73658616-20260411T120000@quickscores.com
DTSTAMP:20260422T081900Z
DTSTART;TZID=America/Denver:20260411T120000
DURATION:PT1H0M0S
SUMMARY:Megaminds vs. Knights
DESCRIPTION:1st Grade Boys West - Provo Parks and Recreation
LOCATION:Sunset View Park Field #1
CATEGORIES:QuickScores, Soccer - Youth Game
TRANSP:OPAQUE
BEGIN:VALARM
TRIGGER:-PT2H
ACTION:DISPLAY
DESCRIPTION:Megaminds vs. Knights
END:VALARM
END:VEVENT
BEGIN:VEVENT
UID:provo-73658625-20260416T173000@quickscores.com
DTSTAMP:20260422T081900Z
DTSTART;TZID=America/Denver:20260416T173000
DURATION:PT1H0M0S
SUMMARY:Sky Slayers vs. Megaminds
DESCRIPTION:Weeknight Games, No Practice --- 1st Grade Boys West - Provo Parks and Recreation
LOCATION:Sunset View Park Field #1
CATEGORIES:QuickScores, Soccer - Youth Game
TRANSP:OPAQUE
BEGIN:VALARM
TRIGGER:-PT2H
ACTION:DISPLAY
DESCRIPTION:Sky Slayers vs. Megaminds
END:VALARM
END:VEVENT
BEGIN:VEVENT
UID:provo-73658620-20260418T120000@quickscores.com
DTSTAMP:20260422T081900Z
DTSTART;TZID=America/Denver:20260418T120000
DURATION:PT1H0M0S
SUMMARY:Samurai's vs. Megaminds
DESCRIPTION:1st Grade Boys West - Provo Parks and Recreation
LOCATION:Sunset View Park Field #1
CATEGORIES:QuickScores, Soccer - Youth Game
TRANSP:OPAQUE
BEGIN:VALARM
TRIGGER:-PT2H
ACTION:DISPLAY
DESCRIPTION:Samurai's vs. Megaminds
END:VALARM
END:VEVENT
BEGIN:VEVENT
UID:provo-73660999-20260421T163000@quickscores.com
DTSTAMP:20260422T081900Z
DTSTART;TZID=America/Denver:20260421T163000
DURATION:PT1H0M0S
SUMMARY:Practice: Knights vs. Megaminds
DESCRIPTION:1st Grade Boys West - Provo Parks and Recreation
LOCATION:Sunset View Park Field #1
CATEGORIES:QuickScores, Soccer - Youth Game
TRANSP:OPAQUE
BEGIN:VALARM
TRIGGER:-PT2H
ACTION:DISPLAY
DESCRIPTION:Practice: Knights vs. Megaminds
END:VALARM
END:VEVENT
BEGIN:VEVENT
UID:provo-73658632-20260425T120000@quickscores.com
DTSTAMP:20260422T081900Z
DTSTART;TZID=America/Denver:20260425T120000
DURATION:PT1H0M0S
SUMMARY:Megaminds vs. Transformers
DESCRIPTION:1st Grade Boys West - Provo Parks and Recreation
LOCATION:Sunset View Park Field #1
CATEGORIES:QuickScores, Soccer - Youth Game
TRANSP:OPAQUE
BEGIN:VALARM
TRIGGER:-PT2H
ACTION:DISPLAY
DESCRIPTION:Megaminds vs. Transformers
END:VALARM
END:VEVENT
BEGIN:VEVENT
UID:provo-73661005-20260428T173000@quickscores.com
DTSTAMP:20260422T081900Z
DTSTART;TZID=America/Denver:20260428T173000
DURATION:PT1H0M0S
SUMMARY:Practice: Knights vs. Megaminds
DESCRIPTION:1st Grade Boys West - Provo Parks and Recreation
LOCATION:Sunset View Park Field #1
CATEGORIES:QuickScores, Soccer - Youth Game
TRANSP:OPAQUE
BEGIN:VALARM
TRIGGER:-PT2H
ACTION:DISPLAY
DESCRIPTION:Practice: Knights vs. Megaminds
END:VALARM
END:VEVENT
BEGIN:VEVENT
UID:provo-73658635-20260502T110000@quickscores.com
DTSTAMP:20260422T081900Z
DTSTART;TZID=America/Denver:20260502T110000
DURATION:PT1H0M0S
SUMMARY:Megaminds vs. Vikings
DESCRIPTION:1st Grade Boys West - Provo Parks and Recreation
LOCATION:Sunset View Park Field #1
CATEGORIES:QuickScores, Soccer - Youth Game
TRANSP:OPAQUE
BEGIN:VALARM
TRIGGER:-PT2H
ACTION:DISPLAY
DESCRIPTION:Megaminds vs. Vikings
END:VALARM
END:VEVENT
BEGIN:VEVENT
UID:provo-73661011-20260505T183000@quickscores.com
DTSTAMP:20260422T081900Z
DTSTART;TZID=America/Denver:20260505T183000
DURATION:PT1H0M0S
SUMMARY:Practice: Knights vs. Megaminds
DESCRIPTION:1st Grade Boys West - Provo Parks and Recreation
LOCATION:Sunset View Park Field #1
CATEGORIES:QuickScores, Soccer - Youth Game
TRANSP:OPAQUE
BEGIN:VALARM
TRIGGER:-PT2H
ACTION:DISPLAY
DESCRIPTION:Practice: Knights vs. Megaminds
END:VALARM
END:VEVENT
BEGIN:VEVENT
UID:provo-73658640-20260509T090000@quickscores.com
DTSTAMP:20260422T081900Z
DTSTART;TZID=America/Denver:20260509T090000
DURATION:PT1H0M0S
SUMMARY:Shark Slayers vs. Megaminds
DESCRIPTION:1st Grade Boys West - Provo Parks and Recreation
LOCATION:Sunset View Park Field #1
CATEGORIES:QuickScores, Soccer - Youth Game
TRANSP:OPAQUE
BEGIN:VALARM
TRIGGER:-PT2H
ACTION:DISPLAY
DESCRIPTION:Shark Slayers vs. Megaminds
END:VALARM
END:VEVENT
BEGIN:VEVENT
UID:provo-73661015-20260512T173000@quickscores.com
DTSTAMP:20260422T081900Z
DTSTART;TZID=America/Denver:20260512T173000
DURATION:PT1H0M0S
SUMMARY:Practice: Knights vs. Megaminds
DESCRIPTION:1st Grade Boys West - Provo Parks and Recreation
LOCATION:Sunset View Park Field #1
CATEGORIES:QuickScores, Soccer - Youth Game
TRANSP:OPAQUE
BEGIN:VALARM
TRIGGER:-PT2H
ACTION:DISPLAY
DESCRIPTION:Practice: Knights vs. Megaminds
END:VALARM
END:VEVENT
BEGIN:VEVENT
UID:provo-73658647-20260516T110000@quickscores.com
DTSTAMP:20260422T081900Z
DTSTART;TZID=America/Denver:20260516T110000
DURATION:PT1H0M0S
SUMMARY:Megaminds vs. Stallions
DESCRIPTION:1st Grade Boys West - Provo Parks and Recreation
LOCATION:Sunset View Park Field #1
CATEGORIES:QuickScores, Soccer - Youth Game
TRANSP:OPAQUE
BEGIN:VALARM
TRIGGER:-PT2H
ACTION:DISPLAY
DESCRIPTION:Megaminds vs. Stallions
END:VALARM
END:VEVENT
END:VCALENDAR
