BEGIN:VCALENDAR
VERSION:2.0
PRODID:-//QuickScores.com//BQ Dynamic iCal Creator//EN
METHOD:PUBLISH
X-WR-CALNAME:Mandalorians - 1st Grade Boys East - Spring 2026
X-WR-CALDESC:QuickScores game calendar
X-PUBLISHED-TTL:PT24H
REFRESH-INTERVAL;VALUE=DURATION:PT24H
CALSCALE:GREGORIAN
BEGIN:VTIMEZONE
TZID:America/Denver
X-LIC-LOCATION:America/Denver
BEGIN:DAYLIGHT
TZNAME:MDT
TZOFFSETFROM:-0700
TZOFFSETTO:-0600
DTSTART:19700308T020000
RRULE:FREQ=YEARLY;BYMONTH=3;BYDAY=2SU
END:DAYLIGHT
BEGIN:STANDARD
TZNAME:MST
TZOFFSETFROM:-0600
TZOFFSETTO:-0700
DTSTART:19701101T020000
RRULE:FREQ=YEARLY;BYMONTH=11;BYDAY=1SU
END:STANDARD
END:VTIMEZONE
BEGIN:VEVENT
UID:provo-73660683-20260402T173000@quickscores.com
DTSTAMP:20260420T193400Z
DTSTART;TZID=America/Denver:20260402T173000
DURATION:PT1H0M0S
SUMMARY:Practice: Mandalorians vs. Monsters
DESCRIPTION:1st Grade Boys East - Provo Parks and Recreation
LOCATION:Sertoma Park Field #1
CATEGORIES:QuickScores, Soccer - Youth Game
TRANSP:OPAQUE
BEGIN:VALARM
TRIGGER:-PT2H
ACTION:DISPLAY
DESCRIPTION:Practice: Mandalorians vs. Monsters
END:VALARM
END:VEVENT
BEGIN:VEVENT
UID:provo-73658259-20260411T090000@quickscores.com
DTSTAMP:20260420T193400Z
DTSTART;TZID=America/Denver:20260411T090000
DURATION:PT1H0M0S
SUMMARY:Mandalorians vs. Lightyears
DESCRIPTION:1st Grade Boys East - Provo Parks and Recreation
LOCATION:Sertoma Park Field #1
CATEGORIES:QuickScores, Soccer - Youth Game
TRANSP:OPAQUE
BEGIN:VALARM
TRIGGER:-PT2H
ACTION:DISPLAY
DESCRIPTION:Mandalorians vs. Lightyears
END:VALARM
END:VEVENT
BEGIN:VEVENT
UID:provo-73658270-20260414T163000@quickscores.com
DTSTAMP:20260420T193400Z
DTSTART;TZID=America/Denver:20260414T163000
DURATION:PT1H0M0S
SUMMARY:Stormtroopers vs. Mandalorians
DESCRIPTION:Weeknight Games, No Practice --- 1st Grade Boys East - Provo Parks and Recreation
LOCATION:Sertoma Park Field #1
CATEGORIES:QuickScores, Soccer - Youth Game
TRANSP:OPAQUE
BEGIN:VALARM
TRIGGER:-PT2H
ACTION:DISPLAY
DESCRIPTION:Stormtroopers vs. Mandalorians
END:VALARM
END:VEVENT
BEGIN:VEVENT
UID:provo-73658265-20260418T110000@quickscores.com
DTSTAMP:20260420T193400Z
DTSTART;TZID=America/Denver:20260418T110000
DURATION:PT1H0M0S
SUMMARY:Cowboys vs. Mandalorians
DESCRIPTION:1st Grade Boys East - Provo Parks and Recreation
LOCATION:Sertoma Park Field #1
CATEGORIES:QuickScores, Soccer - Youth Game
TRANSP:OPAQUE
BEGIN:VALARM
TRIGGER:-PT2H
ACTION:DISPLAY
DESCRIPTION:Cowboys vs. Mandalorians
END:VALARM
END:VEVENT
BEGIN:VEVENT
UID:provo-73660823-20260423T173000@quickscores.com
DTSTAMP:20260420T193400Z
DTSTART;TZID=America/Denver:20260423T173000
DURATION:PT1H0M0S
SUMMARY:Practice: Mandalorians vs. Monsters
DESCRIPTION:1st Grade Boys East - Provo Parks and Recreation
LOCATION:Sertoma Park Field #1
CATEGORIES:QuickScores, Soccer - Youth Game
TRANSP:OPAQUE
BEGIN:VALARM
TRIGGER:-PT2H
ACTION:DISPLAY
DESCRIPTION:Practice: Mandalorians vs. Monsters
END:VALARM
END:VEVENT
BEGIN:VEVENT
UID:provo-73658276-20260425T130000@quickscores.com
DTSTAMP:20260420T193400Z
DTSTART;TZID=America/Denver:20260425T130000
DURATION:PT1H0M0S
SUMMARY:Lightning vs. Mandalorians
DESCRIPTION:1st Grade Boys East - Provo Parks and Recreation
LOCATION:Sertoma Park Field #1
CATEGORIES:QuickScores, Soccer - Youth Game
TRANSP:OPAQUE
BEGIN:VALARM
TRIGGER:-PT2H
ACTION:DISPLAY
DESCRIPTION:Lightning vs. Mandalorians
END:VALARM
END:VEVENT
BEGIN:VEVENT
UID:provo-73660828-20260430T173000@quickscores.com
DTSTAMP:20260420T193400Z
DTSTART;TZID=America/Denver:20260430T173000
DURATION:PT1H0M0S
SUMMARY:Practice: Mandalorians vs. Monsters
DESCRIPTION:1st Grade Boys East - Provo Parks and Recreation
LOCATION:Sertoma Park Field #1
CATEGORIES:QuickScores, Soccer - Youth Game
TRANSP:OPAQUE
BEGIN:VALARM
TRIGGER:-PT2H
ACTION:DISPLAY
DESCRIPTION:Practice: Mandalorians vs. Monsters
END:VALARM
END:VEVENT
BEGIN:VEVENT
UID:provo-73658281-20260502T100000@quickscores.com
DTSTAMP:20260420T193400Z
DTSTART;TZID=America/Denver:20260502T100000
DURATION:PT1H0M0S
SUMMARY:Mandalorians vs. Avengers
DESCRIPTION:1st Grade Boys East - Provo Parks and Recreation
LOCATION:Sertoma Park Field #1
CATEGORIES:QuickScores, Soccer - Youth Game
TRANSP:OPAQUE
BEGIN:VALARM
TRIGGER:-PT2H
ACTION:DISPLAY
DESCRIPTION:Mandalorians vs. Avengers
END:VALARM
END:VEVENT
BEGIN:VEVENT
UID:provo-73660833-20260507T173000@quickscores.com
DTSTAMP:20260420T193400Z
DTSTART;TZID=America/Denver:20260507T173000
DURATION:PT1H0M0S
SUMMARY:Practice: Mandalorians vs. Monsters
DESCRIPTION:1st Grade Boys East - Provo Parks and Recreation
LOCATION:Sertoma Park Field #1
CATEGORIES:QuickScores, Soccer - Youth Game
TRANSP:OPAQUE
BEGIN:VALARM
TRIGGER:-PT2H
ACTION:DISPLAY
DESCRIPTION:Practice: Mandalorians vs. Monsters
END:VALARM
END:VEVENT
BEGIN:VEVENT
UID:provo-73658287-20260509T120000@quickscores.com
DTSTAMP:20260420T193400Z
DTSTART;TZID=America/Denver:20260509T120000
DURATION:PT1H0M0S
SUMMARY:Bolts vs. Mandalorians
DESCRIPTION:1st Grade Boys East - Provo Parks and Recreation
LOCATION:Sertoma Park Field #1
CATEGORIES:QuickScores, Soccer - Youth Game
TRANSP:OPAQUE
BEGIN:VALARM
TRIGGER:-PT2H
ACTION:DISPLAY
DESCRIPTION:Bolts vs. Mandalorians
END:VALARM
END:VEVENT
BEGIN:VEVENT
UID:provo-73660838-20260514T173000@quickscores.com
DTSTAMP:20260420T193400Z
DTSTART;TZID=America/Denver:20260514T173000
DURATION:PT1H0M0S
SUMMARY:Practice: Mandalorians vs. Monsters
DESCRIPTION:1st Grade Boys East - Provo Parks and Recreation
LOCATION:Sertoma Park Field #1
CATEGORIES:QuickScores, Soccer - Youth Game
TRANSP:OPAQUE
BEGIN:VALARM
TRIGGER:-PT2H
ACTION:DISPLAY
DESCRIPTION:Practice: Mandalorians vs. Monsters
END:VALARM
END:VEVENT
BEGIN:VEVENT
UID:provo-73658292-20260516T120000@quickscores.com
DTSTAMP:20260420T193400Z
DTSTART;TZID=America/Denver:20260516T120000
DURATION:PT1H0M0S
SUMMARY:Mandalorians vs. Jedis
DESCRIPTION:1st Grade Boys East - Provo Parks and Recreation
LOCATION:Sertoma Park Field #1
CATEGORIES:QuickScores, Soccer - Youth Game
TRANSP:OPAQUE
BEGIN:VALARM
TRIGGER:-PT2H
ACTION:DISPLAY
DESCRIPTION:Mandalorians vs. Jedis
END:VALARM
END:VEVENT
END:VCALENDAR
