BEGIN:VCALENDAR
VERSION:2.0
PRODID:-//QuickScores.com//BQ Dynamic iCal Creator//EN
METHOD:PUBLISH
X-WR-CALNAME:Lightning - 1st Grade Boys East - Spring 2026
X-WR-CALDESC:QuickScores game calendar
X-PUBLISHED-TTL:PT24H
REFRESH-INTERVAL;VALUE=DURATION:PT24H
CALSCALE:GREGORIAN
BEGIN:VTIMEZONE
TZID:America/Denver
X-LIC-LOCATION:America/Denver
BEGIN:DAYLIGHT
TZNAME:MDT
TZOFFSETFROM:-0700
TZOFFSETTO:-0600
DTSTART:19700308T020000
RRULE:FREQ=YEARLY;BYMONTH=3;BYDAY=2SU
END:DAYLIGHT
BEGIN:STANDARD
TZNAME:MST
TZOFFSETFROM:-0600
TZOFFSETTO:-0700
DTSTART:19701101T020000
RRULE:FREQ=YEARLY;BYMONTH=11;BYDAY=1SU
END:STANDARD
END:VTIMEZONE
BEGIN:VEVENT
UID:provo-73660648-20260331T173000@quickscores.com
DTSTAMP:20260420T113800Z
DTSTART;TZID=America/Denver:20260331T173000
DURATION:PT1H0M0S
SUMMARY:Practice: Cowboys vs. Lightning
DESCRIPTION:Both Practice Slots Available --- 1st Grade Boys East - Provo Parks and Recreation
LOCATION:Sertoma Park Field #1
CATEGORIES:QuickScores, Soccer - Youth Game
TRANSP:OPAQUE
BEGIN:VALARM
TRIGGER:-PT2H
ACTION:DISPLAY
DESCRIPTION:Practice: Cowboys vs. Lightning
END:VALARM
END:VEVENT
BEGIN:VEVENT
UID:provo-73658263-20260411T100000@quickscores.com
DTSTAMP:20260420T113800Z
DTSTART;TZID=America/Denver:20260411T100000
DURATION:PT1H0M0S
SUMMARY:Avengers vs. Lightning
DESCRIPTION:1st Grade Boys East - Provo Parks and Recreation
LOCATION:Sertoma Park Field #1
CATEGORIES:QuickScores, Soccer - Youth Game
TRANSP:OPAQUE
BEGIN:VALARM
TRIGGER:-PT2H
ACTION:DISPLAY
DESCRIPTION:Avengers vs. Lightning
END:VALARM
END:VEVENT
BEGIN:VEVENT
UID:provo-73658273-20260414T173000@quickscores.com
DTSTAMP:20260420T113800Z
DTSTART;TZID=America/Denver:20260414T173000
DURATION:PT1H0M0S
SUMMARY:Jedis vs. Lightning
DESCRIPTION:Weeknight Games, No Practice --- 1st Grade Boys East - Provo Parks and Recreation
LOCATION:Sertoma Park Field #1
CATEGORIES:QuickScores, Soccer - Youth Game
TRANSP:OPAQUE
BEGIN:VALARM
TRIGGER:-PT2H
ACTION:DISPLAY
DESCRIPTION:Jedis vs. Lightning
END:VALARM
END:VEVENT
BEGIN:VEVENT
UID:provo-73658268-20260418T130000@quickscores.com
DTSTAMP:20260420T113800Z
DTSTART;TZID=America/Denver:20260418T130000
DURATION:PT1H0M0S
SUMMARY:Lightning vs. Stormtroopers
DESCRIPTION:1st Grade Boys East - Provo Parks and Recreation
LOCATION:Sertoma Park Field #1
CATEGORIES:QuickScores, Soccer - Youth Game
TRANSP:OPAQUE
BEGIN:VALARM
TRIGGER:-PT2H
ACTION:DISPLAY
DESCRIPTION:Lightning vs. Stormtroopers
END:VALARM
END:VEVENT
BEGIN:VEVENT
UID:provo-73658276-20260425T130000@quickscores.com
DTSTAMP:20260420T113800Z
DTSTART;TZID=America/Denver:20260425T130000
DURATION:PT1H0M0S
SUMMARY:Lightning vs. Mandalorians
DESCRIPTION:1st Grade Boys East - Provo Parks and Recreation
LOCATION:Sertoma Park Field #1
CATEGORIES:QuickScores, Soccer - Youth Game
TRANSP:OPAQUE
BEGIN:VALARM
TRIGGER:-PT2H
ACTION:DISPLAY
DESCRIPTION:Lightning vs. Mandalorians
END:VALARM
END:VEVENT
BEGIN:VEVENT
UID:provo-73658282-20260502T120000@quickscores.com
DTSTAMP:20260420T113800Z
DTSTART;TZID=America/Denver:20260502T120000
DURATION:PT1H0M0S
SUMMARY:Lost Boys vs. Lightning
DESCRIPTION:1st Grade Boys East - Provo Parks and Recreation
LOCATION:Sertoma Park Field #1
CATEGORIES:QuickScores, Soccer - Youth Game
TRANSP:OPAQUE
BEGIN:VALARM
TRIGGER:-PT2H
ACTION:DISPLAY
DESCRIPTION:Lost Boys vs. Lightning
END:VALARM
END:VEVENT
BEGIN:VEVENT
UID:provo-73658284-20260509T100000@quickscores.com
DTSTAMP:20260420T113800Z
DTSTART;TZID=America/Denver:20260509T100000
DURATION:PT1H0M0S
SUMMARY:Lightning vs. Cowboys
DESCRIPTION:1st Grade Boys East - Provo Parks and Recreation
LOCATION:Sertoma Park Field #1
CATEGORIES:QuickScores, Soccer - Youth Game
TRANSP:OPAQUE
BEGIN:VALARM
TRIGGER:-PT2H
ACTION:DISPLAY
DESCRIPTION:Lightning vs. Cowboys
END:VALARM
END:VEVENT
BEGIN:VEVENT
UID:provo-73658291-20260516T110000@quickscores.com
DTSTAMP:20260420T113800Z
DTSTART;TZID=America/Denver:20260516T110000
DURATION:PT1H0M0S
SUMMARY:Lightning vs. Monsters
DESCRIPTION:1st Grade Boys East - Provo Parks and Recreation
LOCATION:Sertoma Park Field #1
CATEGORIES:QuickScores, Soccer - Youth Game
TRANSP:OPAQUE
BEGIN:VALARM
TRIGGER:-PT2H
ACTION:DISPLAY
DESCRIPTION:Lightning vs. Monsters
END:VALARM
END:VEVENT
END:VCALENDAR
