BEGIN:VCALENDAR
VERSION:2.0
PRODID:-//QuickScores.com//BQ Dynamic iCal Creator//EN
METHOD:PUBLISH
X-WR-CALNAME:Sharks - Kindergarten West - Spring 2026
X-WR-CALDESC:QuickScores game calendar
X-PUBLISHED-TTL:PT24H
REFRESH-INTERVAL;VALUE=DURATION:PT24H
CALSCALE:GREGORIAN
BEGIN:VTIMEZONE
TZID:America/Denver
X-LIC-LOCATION:America/Denver
BEGIN:DAYLIGHT
TZNAME:MDT
TZOFFSETFROM:-0700
TZOFFSETTO:-0600
DTSTART:19700308T020000
RRULE:FREQ=YEARLY;BYMONTH=3;BYDAY=2SU
END:DAYLIGHT
BEGIN:STANDARD
TZNAME:MST
TZOFFSETFROM:-0600
TZOFFSETTO:-0700
DTSTART:19701101T020000
RRULE:FREQ=YEARLY;BYMONTH=11;BYDAY=1SU
END:STANDARD
END:VTIMEZONE
BEGIN:VEVENT
UID:provo-73658202-20260402T170000@quickscores.com
DTSTAMP:20260420T223500Z
DTSTART;TZID=America/Denver:20260402T170000
DURATION:PT1H0M0S
SUMMARY:Sharks vs. Raptors
DESCRIPTION:Kindergarten West - Provo Parks and Recreation
LOCATION:Fort Utah Park-4
CATEGORIES:QuickScores, Soccer - Youth Game
TRANSP:OPAQUE
BEGIN:VALARM
TRIGGER:-PT2H
ACTION:DISPLAY
DESCRIPTION:Sharks vs. Raptors
END:VALARM
END:VEVENT
BEGIN:VEVENT
UID:provo-73658209-20260411T103000@quickscores.com
DTSTAMP:20260420T223500Z
DTSTART;TZID=America/Denver:20260411T103000
DURATION:PT1H0M0S
SUMMARY:Pumas vs. Sharks
DESCRIPTION:Kindergarten West - Provo Parks and Recreation
LOCATION:Fort Utah Park-3
CATEGORIES:QuickScores, Soccer - Youth Game
TRANSP:OPAQUE
BEGIN:VALARM
TRIGGER:-PT2H
ACTION:DISPLAY
DESCRIPTION:Pumas vs. Sharks
END:VALARM
END:VEVENT
BEGIN:VEVENT
UID:provo-73658214-20260418T103000@quickscores.com
DTSTAMP:20260420T223500Z
DTSTART;TZID=America/Denver:20260418T103000
DURATION:PT1H0M0S
SUMMARY:Seahorses vs. Sharks
DESCRIPTION:Kindergarten West - Provo Parks and Recreation
LOCATION:Fort Utah Park-4
CATEGORIES:QuickScores, Soccer - Youth Game
TRANSP:OPAQUE
BEGIN:VALARM
TRIGGER:-PT2H
ACTION:DISPLAY
DESCRIPTION:Seahorses vs. Sharks
END:VALARM
END:VEVENT
BEGIN:VEVENT
UID:provo-73658224-20260425T093000@quickscores.com
DTSTAMP:20260420T223500Z
DTSTART;TZID=America/Denver:20260425T093000
DURATION:PT1H0M0S
SUMMARY:Sharks vs. Raccoons
DESCRIPTION:Kindergarten West - Provo Parks and Recreation
LOCATION:Fort Utah Park-4
CATEGORIES:QuickScores, Soccer - Youth Game
TRANSP:OPAQUE
BEGIN:VALARM
TRIGGER:-PT2H
ACTION:DISPLAY
DESCRIPTION:Sharks vs. Raccoons
END:VALARM
END:VEVENT
BEGIN:VEVENT
UID:provo-73658230-20260502T103000@quickscores.com
DTSTAMP:20260420T223500Z
DTSTART;TZID=America/Denver:20260502T103000
DURATION:PT1H0M0S
SUMMARY:Spiders vs. Sharks
DESCRIPTION:Kindergarten West - Provo Parks and Recreation
LOCATION:Fort Utah Park-4
CATEGORIES:QuickScores, Soccer - Youth Game
TRANSP:OPAQUE
BEGIN:VALARM
TRIGGER:-PT2H
ACTION:DISPLAY
DESCRIPTION:Spiders vs. Sharks
END:VALARM
END:VEVENT
BEGIN:VEVENT
UID:provo-73658239-20260509T123000@quickscores.com
DTSTAMP:20260420T223500Z
DTSTART;TZID=America/Denver:20260509T123000
DURATION:PT1H0M0S
SUMMARY:Coyotes vs. Sharks
DESCRIPTION:Kindergarten West - Provo Parks and Recreation
LOCATION:Fort Utah Park-3
CATEGORIES:QuickScores, Soccer - Youth Game
TRANSP:OPAQUE
BEGIN:VALARM
TRIGGER:-PT2H
ACTION:DISPLAY
DESCRIPTION:Coyotes vs. Sharks
END:VALARM
END:VEVENT
BEGIN:VEVENT
UID:provo-73658244-20260516T123000@quickscores.com
DTSTAMP:20260420T223500Z
DTSTART;TZID=America/Denver:20260516T123000
DURATION:PT1H0M0S
SUMMARY:Sharks vs. Lobsters
DESCRIPTION:Kindergarten West - Provo Parks and Recreation
LOCATION:Fort Utah Park-4
CATEGORIES:QuickScores, Soccer - Youth Game
TRANSP:OPAQUE
BEGIN:VALARM
TRIGGER:-PT2H
ACTION:DISPLAY
DESCRIPTION:Sharks vs. Lobsters
END:VALARM
END:VEVENT
END:VCALENDAR
