BEGIN:VCALENDAR
VERSION:2.0
PRODID:-//QuickScores.com//BQ Dynamic iCal Creator//EN
METHOD:PUBLISH
X-WR-CALNAME:Raccoons - Kindergarten West - Spring 2026
X-WR-CALDESC:QuickScores game calendar
X-PUBLISHED-TTL:PT24H
REFRESH-INTERVAL;VALUE=DURATION:PT24H
CALSCALE:GREGORIAN
BEGIN:VTIMEZONE
TZID:America/Denver
X-LIC-LOCATION:America/Denver
BEGIN:DAYLIGHT
TZNAME:MDT
TZOFFSETFROM:-0700
TZOFFSETTO:-0600
DTSTART:19700308T020000
RRULE:FREQ=YEARLY;BYMONTH=3;BYDAY=2SU
END:DAYLIGHT
BEGIN:STANDARD
TZNAME:MST
TZOFFSETFROM:-0600
TZOFFSETTO:-0700
DTSTART:19701101T020000
RRULE:FREQ=YEARLY;BYMONTH=11;BYDAY=1SU
END:STANDARD
END:VTIMEZONE
BEGIN:VEVENT
UID:provo-73658205-20260402T180000@quickscores.com
DTSTAMP:20260421T015300Z
DTSTART;TZID=America/Denver:20260402T180000
DURATION:PT1H0M0S
SUMMARY:Raccoons vs. Lobsters
DESCRIPTION:Kindergarten West - Provo Parks and Recreation
LOCATION:Fort Utah Park-1
CATEGORIES:QuickScores, Soccer - Youth Game
TRANSP:OPAQUE
BEGIN:VALARM
TRIGGER:-PT2H
ACTION:DISPLAY
DESCRIPTION:Raccoons vs. Lobsters
END:VALARM
END:VEVENT
BEGIN:VEVENT
UID:provo-73658211-20260411T113000@quickscores.com
DTSTAMP:20260421T015300Z
DTSTART;TZID=America/Denver:20260411T113000
DURATION:PT1H0M0S
SUMMARY:Raccoons vs. Spiders
DESCRIPTION:Kindergarten West - Provo Parks and Recreation
LOCATION:Fort Utah Park-4
CATEGORIES:QuickScores, Soccer - Youth Game
TRANSP:OPAQUE
BEGIN:VALARM
TRIGGER:-PT2H
ACTION:DISPLAY
DESCRIPTION:Raccoons vs. Spiders
END:VALARM
END:VEVENT
BEGIN:VEVENT
UID:provo-73658220-20260418T103000@quickscores.com
DTSTAMP:20260421T015300Z
DTSTART;TZID=America/Denver:20260418T103000
DURATION:PT1H0M0S
SUMMARY:Raccoons vs. Mustangs
DESCRIPTION:Kindergarten West - Provo Parks and Recreation
LOCATION:Fort Utah Park-3
CATEGORIES:QuickScores, Soccer - Youth Game
TRANSP:OPAQUE
BEGIN:VALARM
TRIGGER:-PT2H
ACTION:DISPLAY
DESCRIPTION:Raccoons vs. Mustangs
END:VALARM
END:VEVENT
BEGIN:VEVENT
UID:provo-73658224-20260425T093000@quickscores.com
DTSTAMP:20260421T015300Z
DTSTART;TZID=America/Denver:20260425T093000
DURATION:PT1H0M0S
SUMMARY:Sharks vs. Raccoons
DESCRIPTION:Kindergarten West - Provo Parks and Recreation
LOCATION:Fort Utah Park-4
CATEGORIES:QuickScores, Soccer - Youth Game
TRANSP:OPAQUE
BEGIN:VALARM
TRIGGER:-PT2H
ACTION:DISPLAY
DESCRIPTION:Sharks vs. Raccoons
END:VALARM
END:VEVENT
BEGIN:VEVENT
UID:provo-73658234-20260502T123000@quickscores.com
DTSTAMP:20260421T015300Z
DTSTART;TZID=America/Denver:20260502T123000
DURATION:PT1H0M0S
SUMMARY:Space Rangers vs. Raccoons
DESCRIPTION:Kindergarten West - Provo Parks and Recreation
LOCATION:Fort Utah Park-4
CATEGORIES:QuickScores, Soccer - Youth Game
TRANSP:OPAQUE
BEGIN:VALARM
TRIGGER:-PT2H
ACTION:DISPLAY
DESCRIPTION:Space Rangers vs. Raccoons
END:VALARM
END:VEVENT
BEGIN:VEVENT
UID:provo-73658238-20260509T093000@quickscores.com
DTSTAMP:20260421T015300Z
DTSTART;TZID=America/Denver:20260509T093000
DURATION:PT1H0M0S
SUMMARY:Raccoons vs. Raptors
DESCRIPTION:Kindergarten West - Provo Parks and Recreation
LOCATION:Fort Utah Park-4
CATEGORIES:QuickScores, Soccer - Youth Game
TRANSP:OPAQUE
BEGIN:VALARM
TRIGGER:-PT2H
ACTION:DISPLAY
DESCRIPTION:Raccoons vs. Raptors
END:VALARM
END:VEVENT
BEGIN:VEVENT
UID:provo-73658247-20260516T123000@quickscores.com
DTSTAMP:20260421T015300Z
DTSTART;TZID=America/Denver:20260516T123000
DURATION:PT1H0M0S
SUMMARY:Dragonflies vs. Raccoons
DESCRIPTION:Kindergarten West - Provo Parks and Recreation
LOCATION:Fort Utah Park-3
CATEGORIES:QuickScores, Soccer - Youth Game
TRANSP:OPAQUE
BEGIN:VALARM
TRIGGER:-PT2H
ACTION:DISPLAY
DESCRIPTION:Dragonflies vs. Raccoons
END:VALARM
END:VEVENT
END:VCALENDAR
