BEGIN:VCALENDAR
VERSION:2.0
PRODID:-//QuickScores.com//BQ Dynamic iCal Creator//EN
METHOD:PUBLISH
X-WR-CALNAME:Squirrels - Pre-k West - Spring 2026
X-WR-CALDESC:QuickScores game calendar
X-PUBLISHED-TTL:PT24H
REFRESH-INTERVAL;VALUE=DURATION:PT24H
CALSCALE:GREGORIAN
BEGIN:VTIMEZONE
TZID:America/Denver
X-LIC-LOCATION:America/Denver
BEGIN:DAYLIGHT
TZNAME:MDT
TZOFFSETFROM:-0700
TZOFFSETTO:-0600
DTSTART:19700308T020000
RRULE:FREQ=YEARLY;BYMONTH=3;BYDAY=2SU
END:DAYLIGHT
BEGIN:STANDARD
TZNAME:MST
TZOFFSETFROM:-0600
TZOFFSETTO:-0700
DTSTART:19701101T020000
RRULE:FREQ=YEARLY;BYMONTH=11;BYDAY=1SU
END:STANDARD
END:VTIMEZONE
BEGIN:VEVENT
UID:provo-73657653-20260331T183000@quickscores.com
DTSTAMP:20260422T174600Z
DTSTART;TZID=America/Denver:20260331T183000
DURATION:PT1H0M0S
SUMMARY:Squirrels vs. Bears
DESCRIPTION:Pre-k West - Provo Parks and Recreation
LOCATION:Fort Utah Park-1
CATEGORIES:QuickScores, Soccer - Youth Game
TRANSP:OPAQUE
BEGIN:VALARM
TRIGGER:-PT2H
ACTION:DISPLAY
DESCRIPTION:Squirrels vs. Bears
END:VALARM
END:VEVENT
BEGIN:VEVENT
UID:provo-73657663-20260411T090000@quickscores.com
DTSTAMP:20260422T174600Z
DTSTART;TZID=America/Denver:20260411T090000
DURATION:PT1H0M0S
SUMMARY:Squirrels vs. Pandas
DESCRIPTION:Pre-k West - Provo Parks and Recreation
LOCATION:Fort Utah Park-1
CATEGORIES:QuickScores, Soccer - Youth Game
TRANSP:OPAQUE
BEGIN:VALARM
TRIGGER:-PT2H
ACTION:DISPLAY
DESCRIPTION:Squirrels vs. Pandas
END:VALARM
END:VEVENT
BEGIN:VEVENT
UID:provo-73657670-20260418T093000@quickscores.com
DTSTAMP:20260422T174600Z
DTSTART;TZID=America/Denver:20260418T093000
DURATION:PT1H0M0S
SUMMARY:Squirrels vs. Panthers
DESCRIPTION:Pre-k West - Provo Parks and Recreation
LOCATION:Fort Utah Park-3
CATEGORIES:QuickScores, Soccer - Youth Game
TRANSP:OPAQUE
BEGIN:VALARM
TRIGGER:-PT2H
ACTION:DISPLAY
DESCRIPTION:Squirrels vs. Panthers
END:VALARM
END:VEVENT
BEGIN:VEVENT
UID:provo-73657682-20260425T090000@quickscores.com
DTSTAMP:20260422T174600Z
DTSTART;TZID=America/Denver:20260425T090000
DURATION:PT1H0M0S
SUMMARY:Hawks vs. Squirrels
DESCRIPTION:Pre-k West - Provo Parks and Recreation
LOCATION:Fort Utah Park-2
CATEGORIES:QuickScores, Soccer - Youth Game
TRANSP:OPAQUE
BEGIN:VALARM
TRIGGER:-PT2H
ACTION:DISPLAY
DESCRIPTION:Hawks vs. Squirrels
END:VALARM
END:VEVENT
BEGIN:VEVENT
UID:provo-73657687-20260502T120000@quickscores.com
DTSTAMP:20260422T174600Z
DTSTART;TZID=America/Denver:20260502T120000
DURATION:PT1H0M0S
SUMMARY:Cougars vs. Squirrels
DESCRIPTION:Pre-k West - Provo Parks and Recreation
LOCATION:Fort Utah Park-1
CATEGORIES:QuickScores, Soccer - Youth Game
TRANSP:OPAQUE
BEGIN:VALARM
TRIGGER:-PT2H
ACTION:DISPLAY
DESCRIPTION:Cougars vs. Squirrels
END:VALARM
END:VEVENT
BEGIN:VEVENT
UID:provo-73657698-20260509T120000@quickscores.com
DTSTAMP:20260422T174600Z
DTSTART;TZID=America/Denver:20260509T120000
DURATION:PT1H0M0S
SUMMARY:Dragons vs. Squirrels
DESCRIPTION:Pre-k West - Provo Parks and Recreation
LOCATION:Fort Utah Park-1
CATEGORIES:QuickScores, Soccer - Youth Game
TRANSP:OPAQUE
BEGIN:VALARM
TRIGGER:-PT2H
ACTION:DISPLAY
DESCRIPTION:Dragons vs. Squirrels
END:VALARM
END:VEVENT
BEGIN:VEVENT
UID:provo-73657704-20260516T100000@quickscores.com
DTSTAMP:20260422T174600Z
DTSTART;TZID=America/Denver:20260516T100000
DURATION:PT1H0M0S
SUMMARY:Snakes vs. Squirrels
DESCRIPTION:Pre-k West - Provo Parks and Recreation
LOCATION:Fort Utah Park-1
CATEGORIES:QuickScores, Soccer - Youth Game
TRANSP:OPAQUE
BEGIN:VALARM
TRIGGER:-PT2H
ACTION:DISPLAY
DESCRIPTION:Snakes vs. Squirrels
END:VALARM
END:VEVENT
END:VCALENDAR
