BEGIN:VCALENDAR
VERSION:2.0
PRODID:-//QuickScores.com//BQ Dynamic iCal Creator//EN
METHOD:PUBLISH
X-WR-CALNAME:Panthers - Pre-k West - Spring 2026
X-WR-CALDESC:QuickScores game calendar
X-PUBLISHED-TTL:PT24H
REFRESH-INTERVAL;VALUE=DURATION:PT24H
CALSCALE:GREGORIAN
BEGIN:VTIMEZONE
TZID:America/Denver
X-LIC-LOCATION:America/Denver
BEGIN:DAYLIGHT
TZNAME:MDT
TZOFFSETFROM:-0700
TZOFFSETTO:-0600
DTSTART:19700308T020000
RRULE:FREQ=YEARLY;BYMONTH=3;BYDAY=2SU
END:DAYLIGHT
BEGIN:STANDARD
TZNAME:MST
TZOFFSETFROM:-0600
TZOFFSETTO:-0700
DTSTART:19701101T020000
RRULE:FREQ=YEARLY;BYMONTH=11;BYDAY=1SU
END:STANDARD
END:VTIMEZONE
BEGIN:VEVENT
UID:provo-73657651-20260331T180000@quickscores.com
DTSTAMP:20260425T130600Z
DTSTART;TZID=America/Denver:20260331T180000
DURATION:PT1H0M0S
SUMMARY:Panthers vs. Penguins
DESCRIPTION:Pre-k West - Provo Parks and Recreation
LOCATION:Fort Utah Park-4
CATEGORIES:QuickScores, Soccer - Youth Game
TRANSP:OPAQUE
BEGIN:VALARM
TRIGGER:-PT2H
ACTION:DISPLAY
DESCRIPTION:Panthers vs. Penguins
END:VALARM
END:VEVENT
BEGIN:VEVENT
UID:provo-73657664-20260411T093000@quickscores.com
DTSTAMP:20260425T130600Z
DTSTART;TZID=America/Denver:20260411T093000
DURATION:PT1H0M0S
SUMMARY:Cheetas vs. Panthers
DESCRIPTION:Pre-k West - Provo Parks and Recreation
LOCATION:Fort Utah Park-3
CATEGORIES:QuickScores, Soccer - Youth Game
TRANSP:OPAQUE
BEGIN:VALARM
TRIGGER:-PT2H
ACTION:DISPLAY
DESCRIPTION:Cheetas vs. Panthers
END:VALARM
END:VEVENT
BEGIN:VEVENT
UID:provo-73657670-20260418T093000@quickscores.com
DTSTAMP:20260425T130600Z
DTSTART;TZID=America/Denver:20260418T093000
DURATION:PT1H0M0S
SUMMARY:Squirrels vs. Panthers
DESCRIPTION:Pre-k West - Provo Parks and Recreation
LOCATION:Fort Utah Park-3
CATEGORIES:QuickScores, Soccer - Youth Game
TRANSP:OPAQUE
BEGIN:VALARM
TRIGGER:-PT2H
ACTION:DISPLAY
DESCRIPTION:Squirrels vs. Panthers
END:VALARM
END:VEVENT
BEGIN:VEVENT
UID:provo-73657676-20260425T090000@quickscores.com
DTSTAMP:20260425T130600Z
DTSTART;TZID=America/Denver:20260425T090000
DURATION:PT1H0M0S
SUMMARY:Panthers vs. Snakes
DESCRIPTION:Pre-k West - Provo Parks and Recreation
LOCATION:Fort Utah Park-1
CATEGORIES:QuickScores, Soccer - Youth Game
TRANSP:OPAQUE
BEGIN:VALARM
TRIGGER:-PT2H
ACTION:DISPLAY
DESCRIPTION:Panthers vs. Snakes
END:VALARM
END:VEVENT
BEGIN:VEVENT
UID:provo-73657689-20260502T120000@quickscores.com
DTSTAMP:20260425T130600Z
DTSTART;TZID=America/Denver:20260502T120000
DURATION:PT1H0M0S
SUMMARY:Rabbits vs. Panthers
DESCRIPTION:Pre-k West - Provo Parks and Recreation
LOCATION:Fort Utah Park-2
CATEGORIES:QuickScores, Soccer - Youth Game
TRANSP:OPAQUE
BEGIN:VALARM
TRIGGER:-PT2H
ACTION:DISPLAY
DESCRIPTION:Rabbits vs. Panthers
END:VALARM
END:VEVENT
BEGIN:VEVENT
UID:provo-73657693-20260509T100000@quickscores.com
DTSTAMP:20260425T130600Z
DTSTART;TZID=America/Denver:20260509T100000
DURATION:PT1H0M0S
SUMMARY:Cougars vs. Panthers
DESCRIPTION:Pre-k West - Provo Parks and Recreation
LOCATION:Fort Utah Park-2
CATEGORIES:QuickScores, Soccer - Youth Game
TRANSP:OPAQUE
BEGIN:VALARM
TRIGGER:-PT2H
ACTION:DISPLAY
DESCRIPTION:Cougars vs. Panthers
END:VALARM
END:VEVENT
BEGIN:VEVENT
UID:provo-73657708-20260516T110000@quickscores.com
DTSTAMP:20260425T130600Z
DTSTART;TZID=America/Denver:20260516T110000
DURATION:PT1H0M0S
SUMMARY:Panthers vs. Monkeys
DESCRIPTION:Pre-k West - Provo Parks and Recreation
LOCATION:Fort Utah Park-2
CATEGORIES:QuickScores, Soccer - Youth Game
TRANSP:OPAQUE
BEGIN:VALARM
TRIGGER:-PT2H
ACTION:DISPLAY
DESCRIPTION:Panthers vs. Monkeys
END:VALARM
END:VEVENT
END:VCALENDAR
