BEGIN:VCALENDAR
VERSION:2.0
PRODID:-//QuickScores.com//BQ Dynamic iCal Creator//EN
METHOD:PUBLISH
X-WR-CALNAME:Pandas - Pre-k West - Spring 2026
X-WR-CALDESC:QuickScores game calendar
X-PUBLISHED-TTL:PT24H
REFRESH-INTERVAL;VALUE=DURATION:PT24H
CALSCALE:GREGORIAN
BEGIN:VTIMEZONE
TZID:America/Denver
X-LIC-LOCATION:America/Denver
BEGIN:DAYLIGHT
TZNAME:MDT
TZOFFSETFROM:-0700
TZOFFSETTO:-0600
DTSTART:19700308T020000
RRULE:FREQ=YEARLY;BYMONTH=3;BYDAY=2SU
END:DAYLIGHT
BEGIN:STANDARD
TZNAME:MST
TZOFFSETFROM:-0600
TZOFFSETTO:-0700
DTSTART:19701101T020000
RRULE:FREQ=YEARLY;BYMONTH=11;BYDAY=1SU
END:STANDARD
END:VTIMEZONE
BEGIN:VEVENT
UID:provo-73657655-20260331T163000@quickscores.com
DTSTAMP:20260422T210500Z
DTSTART;TZID=America/Denver:20260331T163000
DURATION:PT1H0M0S
SUMMARY:Pandas vs. Rabbits
DESCRIPTION:Pre-k West - Provo Parks and Recreation
LOCATION:Fort Utah Park-1
CATEGORIES:QuickScores, Soccer - Youth Game
TRANSP:OPAQUE
BEGIN:VALARM
TRIGGER:-PT2H
ACTION:DISPLAY
DESCRIPTION:Pandas vs. Rabbits
END:VALARM
END:VEVENT
BEGIN:VEVENT
UID:provo-73657663-20260411T090000@quickscores.com
DTSTAMP:20260422T210500Z
DTSTART;TZID=America/Denver:20260411T090000
DURATION:PT1H0M0S
SUMMARY:Squirrels vs. Pandas
DESCRIPTION:Pre-k West - Provo Parks and Recreation
LOCATION:Fort Utah Park-1
CATEGORIES:QuickScores, Soccer - Youth Game
TRANSP:OPAQUE
BEGIN:VALARM
TRIGGER:-PT2H
ACTION:DISPLAY
DESCRIPTION:Squirrels vs. Pandas
END:VALARM
END:VEVENT
BEGIN:VEVENT
UID:provo-73657665-20260418T120000@quickscores.com
DTSTAMP:20260422T210500Z
DTSTART;TZID=America/Denver:20260418T120000
DURATION:PT1H0M0S
SUMMARY:Monkeys vs. Pandas
DESCRIPTION:Pre-k West - Provo Parks and Recreation
LOCATION:Fort Utah Park-2
CATEGORIES:QuickScores, Soccer - Youth Game
TRANSP:OPAQUE
BEGIN:VALARM
TRIGGER:-PT2H
ACTION:DISPLAY
DESCRIPTION:Monkeys vs. Pandas
END:VALARM
END:VEVENT
BEGIN:VEVENT
UID:provo-73657674-20260425T110000@quickscores.com
DTSTAMP:20260422T210500Z
DTSTART;TZID=America/Denver:20260425T110000
DURATION:PT1H0M0S
SUMMARY:Pandas vs. Penguins
DESCRIPTION:Pre-k West - Provo Parks and Recreation
LOCATION:Fort Utah Park-2
CATEGORIES:QuickScores, Soccer - Youth Game
TRANSP:OPAQUE
BEGIN:VALARM
TRIGGER:-PT2H
ACTION:DISPLAY
DESCRIPTION:Pandas vs. Penguins
END:VALARM
END:VEVENT
BEGIN:VEVENT
UID:provo-73657690-20260502T110000@quickscores.com
DTSTAMP:20260422T210500Z
DTSTART;TZID=America/Denver:20260502T110000
DURATION:PT1H0M0S
SUMMARY:Eagles vs. Pandas
DESCRIPTION:Pre-k West - Provo Parks and Recreation
LOCATION:Fort Utah Park-2
CATEGORIES:QuickScores, Soccer - Youth Game
TRANSP:OPAQUE
BEGIN:VALARM
TRIGGER:-PT2H
ACTION:DISPLAY
DESCRIPTION:Eagles vs. Pandas
END:VALARM
END:VEVENT
BEGIN:VEVENT
UID:provo-73657697-20260509T120000@quickscores.com
DTSTAMP:20260422T210500Z
DTSTART;TZID=America/Denver:20260509T120000
DURATION:PT1H0M0S
SUMMARY:Cheetas vs. Pandas
DESCRIPTION:Pre-k West - Provo Parks and Recreation
LOCATION:Fort Utah Park-2
CATEGORIES:QuickScores, Soccer - Youth Game
TRANSP:OPAQUE
BEGIN:VALARM
TRIGGER:-PT2H
ACTION:DISPLAY
DESCRIPTION:Cheetas vs. Pandas
END:VALARM
END:VEVENT
BEGIN:VEVENT
UID:provo-73657707-20260516T090000@quickscores.com
DTSTAMP:20260422T210500Z
DTSTART;TZID=America/Denver:20260516T090000
DURATION:PT1H0M0S
SUMMARY:Pandas vs. Ducks
DESCRIPTION:Pre-k West - Provo Parks and Recreation
LOCATION:Fort Utah Park-2
CATEGORIES:QuickScores, Soccer - Youth Game
TRANSP:OPAQUE
BEGIN:VALARM
TRIGGER:-PT2H
ACTION:DISPLAY
DESCRIPTION:Pandas vs. Ducks
END:VALARM
END:VEVENT
END:VCALENDAR
