BEGIN:VCALENDAR
VERSION:2.0
PRODID:-//QuickScores.com//BQ Dynamic iCal Creator//EN
METHOD:PUBLISH
X-WR-CALNAME:Cheetas - Pre-k West - Spring 2026
X-WR-CALDESC:QuickScores game calendar
X-PUBLISHED-TTL:PT24H
REFRESH-INTERVAL;VALUE=DURATION:PT24H
CALSCALE:GREGORIAN
BEGIN:VTIMEZONE
TZID:America/Denver
X-LIC-LOCATION:America/Denver
BEGIN:DAYLIGHT
TZNAME:MDT
TZOFFSETFROM:-0700
TZOFFSETTO:-0600
DTSTART:19700308T020000
RRULE:FREQ=YEARLY;BYMONTH=3;BYDAY=2SU
END:DAYLIGHT
BEGIN:STANDARD
TZNAME:MST
TZOFFSETFROM:-0600
TZOFFSETTO:-0700
DTSTART:19701101T020000
RRULE:FREQ=YEARLY;BYMONTH=11;BYDAY=1SU
END:STANDARD
END:VTIMEZONE
BEGIN:VEVENT
UID:provo-73657649-20260331T173000@quickscores.com
DTSTAMP:20260422T135900Z
DTSTART;TZID=America/Denver:20260331T173000
DURATION:PT1H0M0S
SUMMARY:Cheetas vs. Cougars
DESCRIPTION:Pre-k West - Provo Parks and Recreation
LOCATION:Fort Utah Park-1
CATEGORIES:QuickScores, Soccer - Youth Game
TRANSP:OPAQUE
BEGIN:VALARM
TRIGGER:-PT2H
ACTION:DISPLAY
DESCRIPTION:Cheetas vs. Cougars
END:VALARM
END:VEVENT
BEGIN:VEVENT
UID:provo-73657664-20260411T093000@quickscores.com
DTSTAMP:20260422T135900Z
DTSTART;TZID=America/Denver:20260411T093000
DURATION:PT1H0M0S
SUMMARY:Cheetas vs. Panthers
DESCRIPTION:Pre-k West - Provo Parks and Recreation
LOCATION:Fort Utah Park-3
CATEGORIES:QuickScores, Soccer - Youth Game
TRANSP:OPAQUE
BEGIN:VALARM
TRIGGER:-PT2H
ACTION:DISPLAY
DESCRIPTION:Cheetas vs. Panthers
END:VALARM
END:VEVENT
BEGIN:VEVENT
UID:provo-73657666-20260418T100000@quickscores.com
DTSTAMP:20260422T135900Z
DTSTART;TZID=America/Denver:20260418T100000
DURATION:PT1H0M0S
SUMMARY:Snakes vs. Cheetas
DESCRIPTION:Pre-k West - Provo Parks and Recreation
LOCATION:Fort Utah Park-2
CATEGORIES:QuickScores, Soccer - Youth Game
TRANSP:OPAQUE
BEGIN:VALARM
TRIGGER:-PT2H
ACTION:DISPLAY
DESCRIPTION:Snakes vs. Cheetas
END:VALARM
END:VEVENT
BEGIN:VEVENT
UID:provo-73657678-20260425T093000@quickscores.com
DTSTAMP:20260422T135900Z
DTSTART;TZID=America/Denver:20260425T093000
DURATION:PT1H0M0S
SUMMARY:Bears vs. Cheetas
DESCRIPTION:Pre-k West - Provo Parks and Recreation
LOCATION:Fort Utah Park-3
CATEGORIES:QuickScores, Soccer - Youth Game
TRANSP:OPAQUE
BEGIN:VALARM
TRIGGER:-PT2H
ACTION:DISPLAY
DESCRIPTION:Bears vs. Cheetas
END:VALARM
END:VEVENT
BEGIN:VEVENT
UID:provo-73657686-20260502T110000@quickscores.com
DTSTAMP:20260422T135900Z
DTSTART;TZID=America/Denver:20260502T110000
DURATION:PT1H0M0S
SUMMARY:Goats vs. Cheetas
DESCRIPTION:Pre-k West - Provo Parks and Recreation
LOCATION:Fort Utah Park-1
CATEGORIES:QuickScores, Soccer - Youth Game
TRANSP:OPAQUE
BEGIN:VALARM
TRIGGER:-PT2H
ACTION:DISPLAY
DESCRIPTION:Goats vs. Cheetas
END:VALARM
END:VEVENT
BEGIN:VEVENT
UID:provo-73657697-20260509T120000@quickscores.com
DTSTAMP:20260422T135900Z
DTSTART;TZID=America/Denver:20260509T120000
DURATION:PT1H0M0S
SUMMARY:Cheetas vs. Pandas
DESCRIPTION:Pre-k West - Provo Parks and Recreation
LOCATION:Fort Utah Park-2
CATEGORIES:QuickScores, Soccer - Youth Game
TRANSP:OPAQUE
BEGIN:VALARM
TRIGGER:-PT2H
ACTION:DISPLAY
DESCRIPTION:Cheetas vs. Pandas
END:VALARM
END:VEVENT
BEGIN:VEVENT
UID:provo-73657702-20260516T120000@quickscores.com
DTSTAMP:20260422T135900Z
DTSTART;TZID=America/Denver:20260516T120000
DURATION:PT1H0M0S
SUMMARY:Cheetas vs. Penguins
DESCRIPTION:Pre-k West - Provo Parks and Recreation
LOCATION:Fort Utah Park-1
CATEGORIES:QuickScores, Soccer - Youth Game
TRANSP:OPAQUE
BEGIN:VALARM
TRIGGER:-PT2H
ACTION:DISPLAY
DESCRIPTION:Cheetas vs. Penguins
END:VALARM
END:VEVENT
END:VCALENDAR
