BEGIN:VCALENDAR
VERSION:2.0
PRODID:-//QuickScores.com//BQ Dynamic iCal Creator//EN
METHOD:PUBLISH
X-WR-CALNAME:Zebras - Pre-k West - Spring 2026
X-WR-CALDESC:QuickScores game calendar
X-PUBLISHED-TTL:PT24H
REFRESH-INTERVAL;VALUE=DURATION:PT24H
CALSCALE:GREGORIAN
BEGIN:VTIMEZONE
TZID:America/Denver
X-LIC-LOCATION:America/Denver
BEGIN:DAYLIGHT
TZNAME:MDT
TZOFFSETFROM:-0700
TZOFFSETTO:-0600
DTSTART:19700308T020000
RRULE:FREQ=YEARLY;BYMONTH=3;BYDAY=2SU
END:DAYLIGHT
BEGIN:STANDARD
TZNAME:MST
TZOFFSETFROM:-0600
TZOFFSETTO:-0700
DTSTART:19701101T020000
RRULE:FREQ=YEARLY;BYMONTH=11;BYDAY=1SU
END:STANDARD
END:VTIMEZONE
BEGIN:VEVENT
UID:provo-73657648-20260331T170000@quickscores.com
DTSTAMP:20260422T204600Z
DTSTART;TZID=America/Denver:20260331T170000
DURATION:PT1H0M0S
SUMMARY:Lions vs. Zebras
DESCRIPTION:Pre-k West - Provo Parks and Recreation
LOCATION:Fort Utah Park-2
CATEGORIES:QuickScores, Soccer - Youth Game
TRANSP:OPAQUE
BEGIN:VALARM
TRIGGER:-PT2H
ACTION:DISPLAY
DESCRIPTION:Lions vs. Zebras
END:VALARM
END:VEVENT
BEGIN:VEVENT
UID:provo-73657658-20260411T100000@quickscores.com
DTSTAMP:20260422T204600Z
DTSTART;TZID=America/Denver:20260411T100000
DURATION:PT1H0M0S
SUMMARY:Zebras vs. Ducks
DESCRIPTION:Pre-k West - Provo Parks and Recreation
LOCATION:Fort Utah Park-1
CATEGORIES:QuickScores, Soccer - Youth Game
TRANSP:OPAQUE
BEGIN:VALARM
TRIGGER:-PT2H
ACTION:DISPLAY
DESCRIPTION:Zebras vs. Ducks
END:VALARM
END:VEVENT
BEGIN:VEVENT
UID:provo-73657671-20260418T110000@quickscores.com
DTSTAMP:20260422T204600Z
DTSTART;TZID=America/Denver:20260418T110000
DURATION:PT1H0M0S
SUMMARY:Goats vs. Zebras
DESCRIPTION:Pre-k West - Provo Parks and Recreation
LOCATION:Fort Utah Park-1
CATEGORIES:QuickScores, Soccer - Youth Game
TRANSP:OPAQUE
BEGIN:VALARM
TRIGGER:-PT2H
ACTION:DISPLAY
DESCRIPTION:Goats vs. Zebras
END:VALARM
END:VEVENT
BEGIN:VEVENT
UID:provo-73657677-20260425T120000@quickscores.com
DTSTAMP:20260422T204600Z
DTSTART;TZID=America/Denver:20260425T120000
DURATION:PT1H0M0S
SUMMARY:Eagles vs. Zebras
DESCRIPTION:Pre-k West - Provo Parks and Recreation
LOCATION:Fort Utah Park-1
CATEGORIES:QuickScores, Soccer - Youth Game
TRANSP:OPAQUE
BEGIN:VALARM
TRIGGER:-PT2H
ACTION:DISPLAY
DESCRIPTION:Eagles vs. Zebras
END:VALARM
END:VEVENT
BEGIN:VEVENT
UID:provo-73657684-20260502T090000@quickscores.com
DTSTAMP:20260422T204600Z
DTSTART;TZID=America/Denver:20260502T090000
DURATION:PT1H0M0S
SUMMARY:Zebras vs. Tigers
DESCRIPTION:Pre-k West - Provo Parks and Recreation
LOCATION:Fort Utah Park-2
CATEGORIES:QuickScores, Soccer - Youth Game
TRANSP:OPAQUE
BEGIN:VALARM
TRIGGER:-PT2H
ACTION:DISPLAY
DESCRIPTION:Zebras vs. Tigers
END:VALARM
END:VEVENT
BEGIN:VEVENT
UID:provo-73657696-20260509T090000@quickscores.com
DTSTAMP:20260422T204600Z
DTSTART;TZID=America/Denver:20260509T090000
DURATION:PT1H0M0S
SUMMARY:Zebras vs. Monkeys
DESCRIPTION:Pre-k West - Provo Parks and Recreation
LOCATION:Fort Utah Park-1
CATEGORIES:QuickScores, Soccer - Youth Game
TRANSP:OPAQUE
BEGIN:VALARM
TRIGGER:-PT2H
ACTION:DISPLAY
DESCRIPTION:Zebras vs. Monkeys
END:VALARM
END:VEVENT
BEGIN:VEVENT
UID:provo-73657701-20260516T090000@quickscores.com
DTSTAMP:20260422T204600Z
DTSTART;TZID=America/Denver:20260516T090000
DURATION:PT1H0M0S
SUMMARY:Zebras vs. Dragons
DESCRIPTION:Pre-k West - Provo Parks and Recreation
LOCATION:Fort Utah Park-1
CATEGORIES:QuickScores, Soccer - Youth Game
TRANSP:OPAQUE
BEGIN:VALARM
TRIGGER:-PT2H
ACTION:DISPLAY
DESCRIPTION:Zebras vs. Dragons
END:VALARM
END:VEVENT
END:VCALENDAR
