BEGIN:VCALENDAR
VERSION:2.0
PRODID:-//QuickScores.com//BQ Dynamic iCal Creator//EN
METHOD:PUBLISH
X-WR-CALNAME:Panthers - Youth Volleyball 3-4 Grade Boys - Spring 2026
X-WR-CALDESC:QuickScores game calendar
X-PUBLISHED-TTL:PT24H
REFRESH-INTERVAL;VALUE=DURATION:PT24H
CALSCALE:GREGORIAN
BEGIN:VTIMEZONE
TZID:America/Denver
X-LIC-LOCATION:America/Denver
BEGIN:DAYLIGHT
TZNAME:MDT
TZOFFSETFROM:-0700
TZOFFSETTO:-0600
DTSTART:19700308T020000
RRULE:FREQ=YEARLY;BYMONTH=3;BYDAY=2SU
END:DAYLIGHT
BEGIN:STANDARD
TZNAME:MST
TZOFFSETFROM:-0600
TZOFFSETTO:-0700
DTSTART:19701101T020000
RRULE:FREQ=YEARLY;BYMONTH=11;BYDAY=1SU
END:STANDARD
END:VTIMEZONE
BEGIN:VEVENT
UID:provo-73054334-20260305T170000@quickscores.com
DTSTAMP:20260421T220900Z
DTSTART;TZID=America/Denver:20260305T170000
DURATION:PT0H45M0S
SUMMARY:Panthers vs. Jaguars
DESCRIPTION:Youth Volleyball 3-4 Grade Boys - Provo Parks and Recreation
LOCATION:Shoreline Court 1
CATEGORIES:QuickScores, Volleyball - Youth Game
TRANSP:OPAQUE
BEGIN:VALARM
TRIGGER:-PT2H
ACTION:DISPLAY
DESCRIPTION:Panthers vs. Jaguars
END:VALARM
END:VEVENT
BEGIN:VEVENT
UID:provo-73054335-20260305T174500@quickscores.com
DTSTAMP:20260421T220900Z
DTSTART;TZID=America/Denver:20260305T174500
DURATION:PT0H45M0S
SUMMARY:Lions vs. Panthers
DESCRIPTION:Youth Volleyball 3-4 Grade Boys - Provo Parks and Recreation
LOCATION:Shoreline Court 1
CATEGORIES:QuickScores, Volleyball - Youth Game
TRANSP:OPAQUE
BEGIN:VALARM
TRIGGER:-PT2H
ACTION:DISPLAY
DESCRIPTION:Lions vs. Panthers
END:VALARM
END:VEVENT
BEGIN:VEVENT
UID:provo-73054337-20260312T170000@quickscores.com
DTSTAMP:20260421T220900Z
DTSTART;TZID=America/Denver:20260312T170000
DURATION:PT0H45M0S
SUMMARY:Jaguars vs. Panthers
DESCRIPTION:Youth Volleyball 3-4 Grade Boys - Provo Parks and Recreation
LOCATION:Shoreline Court 2
CATEGORIES:QuickScores, Volleyball - Youth Game
TRANSP:OPAQUE
BEGIN:VALARM
TRIGGER:-PT2H
ACTION:DISPLAY
DESCRIPTION:Jaguars vs. Panthers
END:VALARM
END:VEVENT
BEGIN:VEVENT
UID:provo-73054339-20260312T174500@quickscores.com
DTSTAMP:20260421T220900Z
DTSTART;TZID=America/Denver:20260312T174500
DURATION:PT0H45M0S
SUMMARY:Cougars vs. Panthers
DESCRIPTION:Youth Volleyball 3-4 Grade Boys - Provo Parks and Recreation
LOCATION:Shoreline Court 2
CATEGORIES:QuickScores, Volleyball - Youth Game
TRANSP:OPAQUE
BEGIN:VALARM
TRIGGER:-PT2H
ACTION:DISPLAY
DESCRIPTION:Cougars vs. Panthers
END:VALARM
END:VEVENT
BEGIN:VEVENT
UID:provo-73054341-20260319T170000@quickscores.com
DTSTAMP:20260421T220900Z
DTSTART;TZID=America/Denver:20260319T170000
DURATION:PT0H45M0S
SUMMARY:Panthers vs. Lions
DESCRIPTION:Youth Volleyball 3-4 Grade Boys - Provo Parks and Recreation
LOCATION:Shoreline Court 1
CATEGORIES:QuickScores, Volleyball - Youth Game
TRANSP:OPAQUE
BEGIN:VALARM
TRIGGER:-PT2H
ACTION:DISPLAY
DESCRIPTION:Panthers vs. Lions
END:VALARM
END:VEVENT
BEGIN:VEVENT
UID:provo-73054343-20260319T174500@quickscores.com
DTSTAMP:20260421T220900Z
DTSTART;TZID=America/Denver:20260319T174500
DURATION:PT0H45M0S
SUMMARY:Panthers vs. Cougars
DESCRIPTION:Youth Volleyball 3-4 Grade Boys - Provo Parks and Recreation
LOCATION:Shoreline Court 1
CATEGORIES:QuickScores, Volleyball - Youth Game
TRANSP:OPAQUE
BEGIN:VALARM
TRIGGER:-PT2H
ACTION:DISPLAY
DESCRIPTION:Panthers vs. Cougars
END:VALARM
END:VEVENT
BEGIN:VEVENT
UID:provo-73054346-20260326T170000@quickscores.com
DTSTAMP:20260421T220900Z
DTSTART;TZID=America/Denver:20260326T170000
DURATION:PT0H45M0S
SUMMARY:Panthers vs. Jaguars
DESCRIPTION:Youth Volleyball 3-4 Grade Boys - Provo Parks and Recreation
LOCATION:Shoreline Court 2
CATEGORIES:QuickScores, Volleyball - Youth Game
TRANSP:OPAQUE
BEGIN:VALARM
TRIGGER:-PT2H
ACTION:DISPLAY
DESCRIPTION:Panthers vs. Jaguars
END:VALARM
END:VEVENT
BEGIN:VEVENT
UID:provo-73054347-20260326T174500@quickscores.com
DTSTAMP:20260421T220900Z
DTSTART;TZID=America/Denver:20260326T174500
DURATION:PT0H45M0S
SUMMARY:Lions vs. Panthers
DESCRIPTION:Youth Volleyball 3-4 Grade Boys - Provo Parks and Recreation
LOCATION:Shoreline Court 2
CATEGORIES:QuickScores, Volleyball - Youth Game
TRANSP:OPAQUE
BEGIN:VALARM
TRIGGER:-PT2H
ACTION:DISPLAY
DESCRIPTION:Lions vs. Panthers
END:VALARM
END:VEVENT
BEGIN:VEVENT
UID:provo-73283744-20260402T170000@quickscores.com
DTSTAMP:20260421T220900Z
DTSTART;TZID=America/Denver:20260402T170000
DURATION:PT0H45M0S
SUMMARY:[1] Panthers vs. [4] Jaguars
DESCRIPTION:Youth Volleyball 3-4 Grade Boys - Provo Parks and Recreation
LOCATION:Provo Recreation Center Classic Court
CATEGORIES:QuickScores, Volleyball - Youth Game
TRANSP:OPAQUE
BEGIN:VALARM
TRIGGER:-PT2H
ACTION:DISPLAY
DESCRIPTION:[1] Panthers vs. [4] Jaguars
END:VALARM
END:VEVENT
BEGIN:VEVENT
UID:provo-73283746-20260402T174500@quickscores.com
DTSTAMP:20260421T220900Z
DTSTART;TZID=America/Denver:20260402T174500
DURATION:PT0H45M0S
SUMMARY:[1] Panthers vs. [2] Lions
DESCRIPTION:Youth Volleyball 3-4 Grade Boys - Provo Parks and Recreation
LOCATION:Provo Recreation Center Classic Court
CATEGORIES:QuickScores, Volleyball - Youth Game
TRANSP:OPAQUE
BEGIN:VALARM
TRIGGER:-PT2H
ACTION:DISPLAY
DESCRIPTION:[1] Panthers vs. [2] Lions
END:VALARM
END:VEVENT
END:VCALENDAR
