BEGIN:VCALENDAR
VERSION:2.0
PRODID:-//QuickScores.com//BQ Dynamic iCal Creator//EN
METHOD:PUBLISH
X-WR-CALNAME:TEAM 04 - SCHILLERSTROM (PURPLE) - 7 & 8 Coed South - Spring 2026
X-WR-CALDESC:QuickScores game calendar
X-PUBLISHED-TTL:PT24H
REFRESH-INTERVAL;VALUE=DURATION:PT24H
CALSCALE:GREGORIAN
BEGIN:VTIMEZONE
TZID:America/Phoenix
X-LIC-LOCATION:America/Phoenix
BEGIN:STANDARD
TZNAME:MST
TZOFFSETFROM:-0700
TZOFFSETTO:-0700
DTSTART:19700101T000000
END:STANDARD
END:VTIMEZONE
BEGIN:VEVENT
UID:peoriaaz-72547086-20260227T173000@quickscores.com
DTSTAMP:20260424T025100Z
DTSTART;TZID=America/Phoenix:20260227T173000
DURATION:PT1H0M0S
SUMMARY:TEAM 04 - SCHILLERSTROM (PURPLE) vs. TEAM 03 - MATTHEWS (SILVER)
DESCRIPTION:7 & 8 Coed South - City of Peoria Sports
LOCATION:Rio Vista Flag Football Field 2
CATEGORIES:QuickScores, Flag Football - Youth Game
TRANSP:OPAQUE
BEGIN:VALARM
TRIGGER:-PT2H
ACTION:DISPLAY
DESCRIPTION:TEAM 04 - SCHILLERSTROM (PURPLE) vs. TEAM 03 - MATTHEWS (SILVER)
END:VALARM
END:VEVENT
BEGIN:VEVENT
UID:peoriaaz-72547088-20260306T173000@quickscores.com
DTSTAMP:20260424T025100Z
DTSTART;TZID=America/Phoenix:20260306T173000
DURATION:PT1H0M0S
SUMMARY:TEAM 04 - SCHILLERSTROM (PURPLE) vs. TEAM 02 - DUARTE (NEON YELLOW)
DESCRIPTION:7 & 8 Coed South - City of Peoria Sports
LOCATION:Rio Vista Flag Football Field 2
CATEGORIES:QuickScores, Flag Football - Youth Game
TRANSP:OPAQUE
BEGIN:VALARM
TRIGGER:-PT2H
ACTION:DISPLAY
DESCRIPTION:TEAM 04 - SCHILLERSTROM (PURPLE) vs. TEAM 02 - DUARTE (NEON YELLOW)
END:VALARM
END:VEVENT
BEGIN:VEVENT
UID:peoriaaz-72547090-20260313T173000@quickscores.com
DTSTAMP:20260424T025100Z
DTSTART;TZID=America/Phoenix:20260313T173000
DURATION:PT1H0M0S
SUMMARY:TEAM 04 - SCHILLERSTROM (PURPLE) vs. TEAM 01 - BOYCE (BLACK)
DESCRIPTION:7 & 8 Coed South - City of Peoria Sports
LOCATION:Rio Vista Flag Football Field 2
CATEGORIES:QuickScores, Flag Football - Youth Game
TRANSP:OPAQUE
BEGIN:VALARM
TRIGGER:-PT2H
ACTION:DISPLAY
DESCRIPTION:TEAM 04 - SCHILLERSTROM (PURPLE) vs. TEAM 01 - BOYCE (BLACK)
END:VALARM
END:VEVENT
BEGIN:VEVENT
UID:peoriaaz-72547092-20260320T183000@quickscores.com
DTSTAMP:20260424T025100Z
DTSTART;TZID=America/Phoenix:20260320T183000
DURATION:PT1H0M0S
SUMMARY:TEAM 03 - MATTHEWS (SILVER) vs. TEAM 04 - SCHILLERSTROM (PURPLE)
DESCRIPTION:7 & 8 Coed South - City of Peoria Sports
LOCATION:Rio Vista Flag Football Field 1
CATEGORIES:QuickScores, Flag Football - Youth Game
TRANSP:OPAQUE
BEGIN:VALARM
TRIGGER:-PT2H
ACTION:DISPLAY
DESCRIPTION:TEAM 03 - MATTHEWS (SILVER) vs. TEAM 04 - SCHILLERSTROM (PURPLE)
END:VALARM
END:VEVENT
BEGIN:VEVENT
UID:peoriaaz-72547094-20260327T183000@quickscores.com
DTSTAMP:20260424T025100Z
DTSTART;TZID=America/Phoenix:20260327T183000
DURATION:PT1H0M0S
SUMMARY:TEAM 02 - DUARTE (NEON YELLOW) vs. TEAM 04 - SCHILLERSTROM (PURPLE)
DESCRIPTION:7 & 8 Coed South - City of Peoria Sports
LOCATION:Rio Vista Flag Football Field 1
CATEGORIES:QuickScores, Flag Football - Youth Game
TRANSP:OPAQUE
BEGIN:VALARM
TRIGGER:-PT2H
ACTION:DISPLAY
DESCRIPTION:TEAM 02 - DUARTE (NEON YELLOW) vs. TEAM 04 - SCHILLERSTROM (PURPLE)
END:VALARM
END:VEVENT
BEGIN:VEVENT
UID:peoriaaz-72547096-20260403T183000@quickscores.com
DTSTAMP:20260424T025100Z
DTSTART;TZID=America/Phoenix:20260403T183000
DURATION:PT1H0M0S
SUMMARY:TEAM 01 - BOYCE (BLACK) vs. TEAM 04 - SCHILLERSTROM (PURPLE)
DESCRIPTION:7 & 8 Coed South - City of Peoria Sports
LOCATION:Rio Vista Flag Football Field 1
CATEGORIES:QuickScores, Flag Football - Youth Game
TRANSP:OPAQUE
BEGIN:VALARM
TRIGGER:-PT2H
ACTION:DISPLAY
DESCRIPTION:TEAM 01 - BOYCE (BLACK) vs. TEAM 04 - SCHILLERSTROM (PURPLE)
END:VALARM
END:VEVENT
END:VCALENDAR
