BEGIN:VCALENDAR
VERSION:2.0
PRODID:-//QuickScores.com//BQ Dynamic iCal Creator//EN
METHOD:PUBLISH
X-WR-CALNAME:Ladies on the Loose + 3 strays - Wed 8:30 Am Sp26 - Spring 2026
X-WR-CALDESC:QuickScores game calendar
X-PUBLISHED-TTL:PT24H
REFRESH-INTERVAL;VALUE=DURATION:PT24H
CALSCALE:GREGORIAN
BEGIN:VTIMEZONE
TZID:America/Phoenix
X-LIC-LOCATION:America/Phoenix
BEGIN:STANDARD
TZNAME:MST
TZOFFSETFROM:-0700
TZOFFSETTO:-0700
DTSTART:19700101T000000
END:STANDARD
END:VTIMEZONE
BEGIN:VEVENT
UID:pebblecreekbocce-73704341-20260325T083000@quickscores.com
DTSTAMP:20260423T124100Z
DTSTART;TZID=America/Phoenix:20260325T083000
DURATION:PT3H0M0S
SUMMARY:Ladies on the Loose + 3 strays vs. USA Bocce
DESCRIPTION:Wed 8:30 Am Sp26 - PebbleCreek Bocce
LOCATION:Court 2
CATEGORIES:QuickScores, Bocce Game
TRANSP:OPAQUE
BEGIN:VALARM
TRIGGER:-PT2H
ACTION:DISPLAY
DESCRIPTION:Ladies on the Loose + 3 strays vs. USA Bocce
END:VALARM
END:VEVENT
BEGIN:VEVENT
UID:pebblecreekbocce-73704350-20260401T083000@quickscores.com
DTSTAMP:20260423T124100Z
DTSTART;TZID=America/Phoenix:20260401T083000
DURATION:PT3H0M0S
SUMMARY:M-T Nesters vs. Ladies on the Loose + 3 strays
DESCRIPTION:Wed 8:30 Am Sp26 - PebbleCreek Bocce
LOCATION:Court 3
CATEGORIES:QuickScores, Bocce Game
TRANSP:OPAQUE
BEGIN:VALARM
TRIGGER:-PT2H
ACTION:DISPLAY
DESCRIPTION:M-T Nesters vs. Ladies on the Loose + 3 strays
END:VALARM
END:VEVENT
BEGIN:VEVENT
UID:pebblecreekbocce-73704356-20260408T083000@quickscores.com
DTSTAMP:20260423T124100Z
DTSTART;TZID=America/Phoenix:20260408T083000
DURATION:PT3H0M0S
SUMMARY:Court Jesters vs. Ladies on the Loose + 3 strays
DESCRIPTION:Wed 8:30 Am Sp26 - PebbleCreek Bocce
LOCATION:Court 8
CATEGORIES:QuickScores, Bocce Game
TRANSP:OPAQUE
BEGIN:VALARM
TRIGGER:-PT2H
ACTION:DISPLAY
DESCRIPTION:Court Jesters vs. Ladies on the Loose + 3 strays
END:VALARM
END:VEVENT
BEGIN:VEVENT
UID:pebblecreekbocce-73704366-20260415T083000@quickscores.com
DTSTAMP:20260423T124100Z
DTSTART;TZID=America/Phoenix:20260415T083000
DURATION:PT3H0M0S
SUMMARY:Ladies on the Loose + 3 strays vs. Bocce Brigade
DESCRIPTION:Wed 8:30 Am Sp26 - PebbleCreek Bocce
LOCATION:Court 7
CATEGORIES:QuickScores, Bocce Game
TRANSP:OPAQUE
BEGIN:VALARM
TRIGGER:-PT2H
ACTION:DISPLAY
DESCRIPTION:Ladies on the Loose + 3 strays vs. Bocce Brigade
END:VALARM
END:VEVENT
BEGIN:VEVENT
UID:pebblecreekbocce-73704371-20260422T083000@quickscores.com
DTSTAMP:20260423T124100Z
DTSTART;TZID=America/Phoenix:20260422T083000
DURATION:PT3H0M0S
SUMMARY:The Lawn Rangers vs. Ladies on the Loose + 3 strays
DESCRIPTION:Wed 8:30 Am Sp26 - PebbleCreek Bocce
LOCATION:Court 5
CATEGORIES:QuickScores, Bocce Game
TRANSP:OPAQUE
BEGIN:VALARM
TRIGGER:-PT2H
ACTION:DISPLAY
DESCRIPTION:The Lawn Rangers vs. Ladies on the Loose + 3 strays
END:VALARM
END:VEVENT
BEGIN:VEVENT
UID:pebblecreekbocce-73704381-20260429T083000@quickscores.com
DTSTAMP:20260423T124100Z
DTSTART;TZID=America/Phoenix:20260429T083000
DURATION:PT3H0M0S
SUMMARY:Ladies on the Loose + 3 strays vs. Misfits
DESCRIPTION:Wed 8:30 Am Sp26 - PebbleCreek Bocce
LOCATION:Court 7
CATEGORIES:QuickScores, Bocce Game
TRANSP:OPAQUE
BEGIN:VALARM
TRIGGER:-PT2H
ACTION:DISPLAY
DESCRIPTION:Ladies on the Loose + 3 strays vs. Misfits
END:VALARM
END:VEVENT
BEGIN:VEVENT
UID:pebblecreekbocce-73704386-20260506T083000@quickscores.com
DTSTAMP:20260423T124100Z
DTSTART;TZID=America/Phoenix:20260506T083000
DURATION:PT3H0M0S
SUMMARY:Bada Bing vs. Ladies on the Loose + 3 strays
DESCRIPTION:Wed 8:30 Am Sp26 - PebbleCreek Bocce
LOCATION:Court 4
CATEGORIES:QuickScores, Bocce Game
TRANSP:OPAQUE
BEGIN:VALARM
TRIGGER:-PT2H
ACTION:DISPLAY
DESCRIPTION:Bada Bing vs. Ladies on the Loose + 3 strays
END:VALARM
END:VEVENT
BEGIN:VEVENT
UID:pebblecreekbocce-73704396-20260513T083000@quickscores.com
DTSTAMP:20260423T124100Z
DTSTART;TZID=America/Phoenix:20260513T083000
DURATION:PT3H0M0S
SUMMARY:Ladies on the Loose + 3 strays vs. Heaven'z 11
DESCRIPTION:Wed 8:30 Am Sp26 - PebbleCreek Bocce
LOCATION:Court 6
CATEGORIES:QuickScores, Bocce Game
TRANSP:OPAQUE
BEGIN:VALARM
TRIGGER:-PT2H
ACTION:DISPLAY
DESCRIPTION:Ladies on the Loose + 3 strays vs. Heaven'z 11
END:VALARM
END:VEVENT
END:VCALENDAR
