BEGIN:VCALENDAR
VERSION:2.0
PRODID:-//QuickScores.com//BQ Dynamic iCal Creator//EN
METHOD:PUBLISH
X-WR-CALNAME:UNC - Fall Volleyball 7th-8th Grade - Fall 2025
X-WR-CALDESC:QuickScores game calendar
X-PUBLISHED-TTL:PT24H
REFRESH-INTERVAL;VALUE=DURATION:PT24H
CALSCALE:GREGORIAN
BEGIN:VTIMEZONE
TZID:America/Chicago
X-LIC-LOCATION:America/Chicago
BEGIN:DAYLIGHT
TZNAME:CDT
TZOFFSETFROM:-0600
TZOFFSETTO:-0500
DTSTART:19700308T020000
RRULE:FREQ=YEARLY;BYMONTH=3;BYDAY=2SU
END:DAYLIGHT
BEGIN:STANDARD
TZNAME:CST
TZOFFSETFROM:-0500
TZOFFSETTO:-0600
DTSTART:19701101T020000
RRULE:FREQ=YEARLY;BYMONTH=11;BYDAY=1SU
END:STANDARD
END:VTIMEZONE
BEGIN:VEVENT
UID:palatine-71498901-20251103T193000@quickscores.com
DTSTAMP:20260425T175500Z
DTSTART;TZID=America/Chicago:20251103T193000
DURATION:PT1H0M0S
SUMMARY:Practice: UNC
DESCRIPTION:Fall Volleyball 7th-8th Grade - Palatine Park District
LOCATION:Falcon Park Volleyball 3
CATEGORIES:QuickScores, Volleyball Youth Game
TRANSP:OPAQUE
BEGIN:VALARM
TRIGGER:-PT2H
ACTION:DISPLAY
DESCRIPTION:Practice: UNC
END:VALARM
END:VEVENT
BEGIN:VEVENT
UID:palatine-71465991-20251108T110000@quickscores.com
DTSTAMP:20260425T175500Z
DTSTART;TZID=America/Chicago:20251108T110000
DURATION:PT1H0M0S
SUMMARY:Boston College vs. UNC
DESCRIPTION:Fall Volleyball 7th-8th Grade - Palatine Park District
LOCATION:Falcon Park Volleyball 1
CATEGORIES:QuickScores, Volleyball Youth Game
TRANSP:OPAQUE
BEGIN:VALARM
TRIGGER:-PT2H
ACTION:DISPLAY
DESCRIPTION:Boston College vs. UNC
END:VALARM
END:VEVENT
BEGIN:VEVENT
UID:palatine-71498902-20251110T193000@quickscores.com
DTSTAMP:20260425T175500Z
DTSTART;TZID=America/Chicago:20251110T193000
DURATION:PT1H0M0S
SUMMARY:Practice: UNC
DESCRIPTION:Fall Volleyball 7th-8th Grade - Palatine Park District
LOCATION:Falcon Park Volleyball 3
CATEGORIES:QuickScores, Volleyball Youth Game
TRANSP:OPAQUE
BEGIN:VALARM
TRIGGER:-PT2H
ACTION:DISPLAY
DESCRIPTION:Practice: UNC
END:VALARM
END:VEVENT
BEGIN:VEVENT
UID:palatine-71465995-20251115T110000@quickscores.com
DTSTAMP:20260425T175500Z
DTSTART;TZID=America/Chicago:20251115T110000
DURATION:PT1H0M0S
SUMMARY:Clemson vs. UNC
DESCRIPTION:Fall Volleyball 7th-8th Grade - Palatine Park District
LOCATION:Falcon Park Volleyball 3
CATEGORIES:QuickScores, Volleyball Youth Game
TRANSP:OPAQUE
BEGIN:VALARM
TRIGGER:-PT2H
ACTION:DISPLAY
DESCRIPTION:Clemson vs. UNC
END:VALARM
END:VEVENT
BEGIN:VEVENT
UID:palatine-71498903-20251117T193000@quickscores.com
DTSTAMP:20260425T175500Z
DTSTART;TZID=America/Chicago:20251117T193000
DURATION:PT1H0M0S
SUMMARY:Practice: UNC
DESCRIPTION:Fall Volleyball 7th-8th Grade - Palatine Park District
LOCATION:Falcon Park Volleyball 3
CATEGORIES:QuickScores, Volleyball Youth Game
TRANSP:OPAQUE
BEGIN:VALARM
TRIGGER:-PT2H
ACTION:DISPLAY
DESCRIPTION:Practice: UNC
END:VALARM
END:VEVENT
BEGIN:VEVENT
UID:palatine-71465996-20251122T110000@quickscores.com
DTSTAMP:20260425T175500Z
DTSTART;TZID=America/Chicago:20251122T110000
DURATION:PT1H0M0S
SUMMARY:UNC vs. Duke
DESCRIPTION:Fall Volleyball 7th-8th Grade - Palatine Park District
LOCATION:Falcon Park Volleyball 2
CATEGORIES:QuickScores, Volleyball Youth Game
TRANSP:OPAQUE
BEGIN:VALARM
TRIGGER:-PT2H
ACTION:DISPLAY
DESCRIPTION:UNC vs. Duke
END:VALARM
END:VEVENT
BEGIN:VEVENT
UID:palatine-71498905-20251201T193000@quickscores.com
DTSTAMP:20260425T175500Z
DTSTART;TZID=America/Chicago:20251201T193000
DURATION:PT1H0M0S
SUMMARY:Practice: UNC
DESCRIPTION:Fall Volleyball 7th-8th Grade - Palatine Park District
LOCATION:Falcon Park Volleyball 3
CATEGORIES:QuickScores, Volleyball Youth Game
TRANSP:OPAQUE
BEGIN:VALARM
TRIGGER:-PT2H
ACTION:DISPLAY
DESCRIPTION:Practice: UNC
END:VALARM
END:VEVENT
BEGIN:VEVENT
UID:palatine-71466001-20251206T110000@quickscores.com
DTSTAMP:20260425T175500Z
DTSTART;TZID=America/Chicago:20251206T110000
DURATION:PT1H0M0S
SUMMARY:Georgia Tech vs. UNC
DESCRIPTION:Fall Volleyball 7th-8th Grade - Palatine Park District
LOCATION:Falcon Park Volleyball 3
CATEGORIES:QuickScores, Volleyball Youth Game
TRANSP:OPAQUE
BEGIN:VALARM
TRIGGER:-PT2H
ACTION:DISPLAY
DESCRIPTION:Georgia Tech vs. UNC
END:VALARM
END:VEVENT
BEGIN:VEVENT
UID:palatine-71498906-20251208T193000@quickscores.com
DTSTAMP:20260425T175500Z
DTSTART;TZID=America/Chicago:20251208T193000
DURATION:PT1H0M0S
SUMMARY:Practice: UNC
DESCRIPTION:Fall Volleyball 7th-8th Grade - Palatine Park District
LOCATION:Falcon Park Volleyball 3
CATEGORIES:QuickScores, Volleyball Youth Game
TRANSP:OPAQUE
BEGIN:VALARM
TRIGGER:-PT2H
ACTION:DISPLAY
DESCRIPTION:Practice: UNC
END:VALARM
END:VEVENT
BEGIN:VEVENT
UID:palatine-71466003-20251213T110000@quickscores.com
DTSTAMP:20260425T175500Z
DTSTART;TZID=America/Chicago:20251213T110000
DURATION:PT1H0M0S
SUMMARY:UNC vs. Virginia
DESCRIPTION:Fall Volleyball 7th-8th Grade - Palatine Park District
LOCATION:Falcon Park Volleyball 2
CATEGORIES:QuickScores, Volleyball Youth Game
TRANSP:OPAQUE
BEGIN:VALARM
TRIGGER:-PT2H
ACTION:DISPLAY
DESCRIPTION:UNC vs. Virginia
END:VALARM
END:VEVENT
BEGIN:VEVENT
UID:palatine-71498907-20251215T193000@quickscores.com
DTSTAMP:20260425T175500Z
DTSTART;TZID=America/Chicago:20251215T193000
DURATION:PT1H0M0S
SUMMARY:Practice: UNC
DESCRIPTION:Fall Volleyball 7th-8th Grade - Palatine Park District
LOCATION:Falcon Park Volleyball 3
CATEGORIES:QuickScores, Volleyball Youth Game
TRANSP:OPAQUE
BEGIN:VALARM
TRIGGER:-PT2H
ACTION:DISPLAY
DESCRIPTION:Practice: UNC
END:VALARM
END:VEVENT
BEGIN:VEVENT
UID:palatine-71466006-20251220T110000@quickscores.com
DTSTAMP:20260425T175500Z
DTSTART;TZID=America/Chicago:20251220T110000
DURATION:PT1H0M0S
SUMMARY:UNC vs. Boston College
DESCRIPTION:Fall Volleyball 7th-8th Grade - Palatine Park District
LOCATION:Falcon Park Volleyball 1
CATEGORIES:QuickScores, Volleyball Youth Game
TRANSP:OPAQUE
BEGIN:VALARM
TRIGGER:-PT2H
ACTION:DISPLAY
DESCRIPTION:UNC vs. Boston College
END:VALARM
END:VEVENT
END:VCALENDAR
