BEGIN:VCALENDAR
VERSION:2.0
PRODID:-//QuickScores.com//BQ Dynamic iCal Creator//EN
METHOD:PUBLISH
X-WR-CALNAME:14U Pride - Donohue - 14u Pride - Spring 2025
X-WR-CALDESC:QuickScores game calendar
X-PUBLISHED-TTL:PT24H
REFRESH-INTERVAL;VALUE=DURATION:PT24H
CALSCALE:GREGORIAN
BEGIN:VTIMEZONE
TZID:America/Chicago
X-LIC-LOCATION:America/Chicago
BEGIN:DAYLIGHT
TZNAME:CDT
TZOFFSETFROM:-0600
TZOFFSETTO:-0500
DTSTART:19700308T020000
RRULE:FREQ=YEARLY;BYMONTH=3;BYDAY=2SU
END:DAYLIGHT
BEGIN:STANDARD
TZNAME:CST
TZOFFSETFROM:-0500
TZOFFSETTO:-0600
DTSTART:19701101T020000
RRULE:FREQ=YEARLY;BYMONTH=11;BYDAY=1SU
END:STANDARD
END:VTIMEZONE
BEGIN:VEVENT
UID:palatine-67670139-20250404T173000@quickscores.com
DTSTAMP:20260423T165200Z
DTSTART;TZID=America/Chicago:20250404T173000
DURATION:PT2H0M0S
SUMMARY:Practice: 14U Pride - Donohue
DESCRIPTION:14u Pride - Palatine Park District
LOCATION:Gbur Field D
CATEGORIES:QuickScores, PCBS Pride Game
TRANSP:OPAQUE
BEGIN:VALARM
TRIGGER:-PT2H
ACTION:DISPLAY
DESCRIPTION:Practice: 14U Pride - Donohue
END:VALARM
END:VEVENT
BEGIN:VEVENT
UID:palatine-67670143-20250406T120000@quickscores.com
DTSTAMP:20260423T165200Z
DTSTART;TZID=America/Chicago:20250406T120000
DURATION:PT2H0M0S
SUMMARY:Practice: 14U Pride - Donohue
DESCRIPTION:14u Pride - Palatine Park District
LOCATION:Maple Baseball Field
CATEGORIES:QuickScores, PCBS Pride Game
TRANSP:OPAQUE
BEGIN:VALARM
TRIGGER:-PT2H
ACTION:DISPLAY
DESCRIPTION:Practice: 14U Pride - Donohue
END:VALARM
END:VEVENT
BEGIN:VEVENT
UID:palatine-67670140-20250411T173000@quickscores.com
DTSTAMP:20260423T165200Z
DTSTART;TZID=America/Chicago:20250411T173000
DURATION:PT2H0M0S
SUMMARY:Practice: 14U Pride - Donohue
DESCRIPTION:14u Pride - Palatine Park District
LOCATION:Gbur Field D
CATEGORIES:QuickScores, PCBS Pride Game
TRANSP:OPAQUE
BEGIN:VALARM
TRIGGER:-PT2H
ACTION:DISPLAY
DESCRIPTION:Practice: 14U Pride - Donohue
END:VALARM
END:VEVENT
BEGIN:VEVENT
UID:palatine-67670144-20250413T120000@quickscores.com
DTSTAMP:20260423T165200Z
DTSTART;TZID=America/Chicago:20250413T120000
DURATION:PT2H0M0S
SUMMARY:Practice: 14U Pride - Donohue
DESCRIPTION:14u Pride - Palatine Park District
LOCATION:Maple Baseball Field
CATEGORIES:QuickScores, PCBS Pride Game
TRANSP:OPAQUE
BEGIN:VALARM
TRIGGER:-PT2H
ACTION:DISPLAY
DESCRIPTION:Practice: 14U Pride - Donohue
END:VALARM
END:VEVENT
BEGIN:VEVENT
UID:palatine-67670141-20250418T173000@quickscores.com
DTSTAMP:20260423T165200Z
DTSTART;TZID=America/Chicago:20250418T173000
DURATION:PT2H0M0S
SUMMARY:Practice: 14U Pride - Donohue
DESCRIPTION:14u Pride - Palatine Park District
LOCATION:Gbur Field D
CATEGORIES:QuickScores, PCBS Pride Game
TRANSP:OPAQUE
BEGIN:VALARM
TRIGGER:-PT2H
ACTION:DISPLAY
DESCRIPTION:Practice: 14U Pride - Donohue
END:VALARM
END:VEVENT
BEGIN:VEVENT
UID:palatine-67670142-20250425T173000@quickscores.com
DTSTAMP:20260423T165200Z
DTSTART;TZID=America/Chicago:20250425T173000
DURATION:PT2H0M0S
SUMMARY:Practice: 14U Pride - Donohue
DESCRIPTION:14u Pride - Palatine Park District
LOCATION:Gbur Field D
CATEGORIES:QuickScores, PCBS Pride Game
TRANSP:OPAQUE
BEGIN:VALARM
TRIGGER:-PT2H
ACTION:DISPLAY
DESCRIPTION:Practice: 14U Pride - Donohue
END:VALARM
END:VEVENT
BEGIN:VEVENT
UID:palatine-67670145-20250427T120000@quickscores.com
DTSTAMP:20260423T165200Z
DTSTART;TZID=America/Chicago:20250427T120000
DURATION:PT2H0M0S
SUMMARY:Practice: 14U Pride - Donohue
DESCRIPTION:14u Pride - Palatine Park District
LOCATION:Maple Baseball Field
CATEGORIES:QuickScores, PCBS Pride Game
TRANSP:OPAQUE
BEGIN:VALARM
TRIGGER:-PT2H
ACTION:DISPLAY
DESCRIPTION:Practice: 14U Pride - Donohue
END:VALARM
END:VEVENT
BEGIN:VEVENT
UID:palatine-67670146-20250509T193000@quickscores.com
DTSTAMP:20260423T165200Z
DTSTART;TZID=America/Chicago:20250509T193000
DURATION:PT2H0M0S
SUMMARY:14U Pride - Donohue vs. 14U Pride Opponent
DESCRIPTION:14u Pride - Palatine Park District
LOCATION:Gbur Field D
CATEGORIES:QuickScores, PCBS Pride Game
TRANSP:OPAQUE
BEGIN:VALARM
TRIGGER:-PT2H
ACTION:DISPLAY
DESCRIPTION:14U Pride - Donohue vs. 14U Pride Opponent
END:VALARM
END:VEVENT
BEGIN:VEVENT
UID:palatine-67670147-20250516T173000@quickscores.com
DTSTAMP:20260423T165200Z
DTSTART;TZID=America/Chicago:20250516T173000
DURATION:PT2H0M0S
SUMMARY:14U Pride - Donohue vs. 14U Pride Opponent
DESCRIPTION:14u Pride - Palatine Park District
LOCATION:Maple Baseball Field
CATEGORIES:QuickScores, PCBS Pride Game
TRANSP:OPAQUE
BEGIN:VALARM
TRIGGER:-PT2H
ACTION:DISPLAY
DESCRIPTION:14U Pride - Donohue vs. 14U Pride Opponent
END:VALARM
END:VEVENT
BEGIN:VEVENT
UID:palatine-67670148-20250518T090000@quickscores.com
DTSTAMP:20260423T165200Z
DTSTART;TZID=America/Chicago:20250518T090000
DURATION:PT2H0M0S
SUMMARY:14U Pride - Donohue vs. 14U Pride Opponent
DESCRIPTION:14u Pride - Palatine Park District
LOCATION:Maple Baseball Field
CATEGORIES:QuickScores, PCBS Pride Game
TRANSP:OPAQUE
BEGIN:VALARM
TRIGGER:-PT2H
ACTION:DISPLAY
DESCRIPTION:14U Pride - Donohue vs. 14U Pride Opponent
END:VALARM
END:VEVENT
BEGIN:VEVENT
UID:palatine-67670149-20250601T100000@quickscores.com
DTSTAMP:20260423T165200Z
DTSTART;TZID=America/Chicago:20250601T100000
DURATION:PT2H0M0S
SUMMARY:14U Pride - Donohue vs. 14U Pride Opponent
DESCRIPTION:14u Pride - Palatine Park District
LOCATION:Gbur Field E
CATEGORIES:QuickScores, PCBS Pride Game
TRANSP:OPAQUE
BEGIN:VALARM
TRIGGER:-PT2H
ACTION:DISPLAY
DESCRIPTION:14U Pride - Donohue vs. 14U Pride Opponent
END:VALARM
END:VEVENT
BEGIN:VEVENT
UID:palatine-67670151-20250620T173000@quickscores.com
DTSTAMP:20260423T165200Z
DTSTART;TZID=America/Chicago:20250620T173000
DURATION:PT2H0M0S
SUMMARY:Practice: 14U Pride - Donohue
DESCRIPTION:14u Pride - Palatine Park District
LOCATION:Maple Baseball Field
CATEGORIES:QuickScores, PCBS Pride Game
TRANSP:OPAQUE
BEGIN:VALARM
TRIGGER:-PT2H
ACTION:DISPLAY
DESCRIPTION:Practice: 14U Pride - Donohue
END:VALARM
END:VEVENT
BEGIN:VEVENT
UID:palatine-67670152-20250622T120000@quickscores.com
DTSTAMP:20260423T165200Z
DTSTART;TZID=America/Chicago:20250622T120000
DURATION:PT2H0M0S
SUMMARY:Practice: 14U Pride - Donohue
DESCRIPTION:14u Pride - Palatine Park District
LOCATION:Gbur Field E
CATEGORIES:QuickScores, PCBS Pride Game
TRANSP:OPAQUE
BEGIN:VALARM
TRIGGER:-PT2H
ACTION:DISPLAY
DESCRIPTION:Practice: 14U Pride - Donohue
END:VALARM
END:VEVENT
BEGIN:VEVENT
UID:palatine-69368272-20250629T120000@quickscores.com
DTSTAMP:20260423T165200Z
DTSTART;TZID=America/Chicago:20250629T120000
DURATION:PT2H0M0S
SUMMARY:Practice: 14U Pride - Donohue
DESCRIPTION:14u Pride - Palatine Park District
LOCATION:Gbur Field E
CATEGORIES:QuickScores, PCBS Pride Game
TRANSP:OPAQUE
BEGIN:VALARM
TRIGGER:-PT2H
ACTION:DISPLAY
DESCRIPTION:Practice: 14U Pride - Donohue
END:VALARM
END:VEVENT
BEGIN:VEVENT
UID:palatine-67670153-20250706T120000@quickscores.com
DTSTAMP:20260423T165200Z
DTSTART;TZID=America/Chicago:20250706T120000
DURATION:PT2H0M0S
SUMMARY:Practice: 14U Pride - Donohue
DESCRIPTION:14u Pride - Palatine Park District
LOCATION:Gbur Field E
CATEGORIES:QuickScores, PCBS Pride Game
TRANSP:OPAQUE
BEGIN:VALARM
TRIGGER:-PT2H
ACTION:DISPLAY
DESCRIPTION:Practice: 14U Pride - Donohue
END:VALARM
END:VEVENT
BEGIN:VEVENT
UID:palatine-69748350-20250711T160000@quickscores.com
DTSTAMP:20260423T165200Z
DTSTART;TZID=America/Chicago:20250711T160000
DURATION:PT2H0M0S
SUMMARY:Practice: 14U Pride - Donohue
DESCRIPTION:14u Pride - Palatine Park District
LOCATION:Gbur Batting Cage - South
CATEGORIES:QuickScores, PCBS Pride Game
TRANSP:OPAQUE
BEGIN:VALARM
TRIGGER:-PT2H
ACTION:DISPLAY
DESCRIPTION:Practice: 14U Pride - Donohue
END:VALARM
END:VEVENT
BEGIN:VEVENT
UID:palatine-69748464-20250711T160000@quickscores.com
DTSTAMP:20260423T165200Z
DTSTART;TZID=America/Chicago:20250711T160000
DURATION:PT2H0M0S
SUMMARY:Practice: 14U Pride - Donohue
DESCRIPTION:14u Pride - Palatine Park District
LOCATION:Gbur Batting Cage - North
CATEGORIES:QuickScores, PCBS Pride Game
TRANSP:OPAQUE
BEGIN:VALARM
TRIGGER:-PT2H
ACTION:DISPLAY
DESCRIPTION:Practice: 14U Pride - Donohue
END:VALARM
END:VEVENT
END:VCALENDAR
