BEGIN:VCALENDAR
VERSION:2.0
PRODID:-//QuickScores.com//BQ Dynamic iCal Creator//EN
METHOD:PUBLISH
X-WR-CALNAME:MC Trojans - 13u Comp Baseball American League 2026 - Spring 2026
X-WR-CALDESC:QuickScores game calendar
X-PUBLISHED-TTL:PT24H
REFRESH-INTERVAL;VALUE=DURATION:PT24H
CALSCALE:GREGORIAN
BEGIN:VTIMEZONE
TZID:America/Denver
X-LIC-LOCATION:America/Denver
BEGIN:DAYLIGHT
TZNAME:MDT
TZOFFSETFROM:-0700
TZOFFSETTO:-0600
DTSTART:19700308T020000
RRULE:FREQ=YEARLY;BYMONTH=3;BYDAY=2SU
END:DAYLIGHT
BEGIN:STANDARD
TZNAME:MST
TZOFFSETFROM:-0600
TZOFFSETTO:-0700
DTSTART:19701101T020000
RRULE:FREQ=YEARLY;BYMONTH=11;BYDAY=1SU
END:STANDARD
END:VTIMEZONE
BEGIN:VEVENT
UID:ogdencity-71846733-20260316T173000@quickscores.com
DTSTAMP:20260425T170200Z
DTSTART;TZID=America/Denver:20260316T173000
DURATION:PT2H0M0S
SUMMARY:MC Trojans vs. The Lot
DESCRIPTION:13u Comp Baseball American League 2026 - Ogden City Recreation
LOCATION:Serge Simmons Field  (No Metal Spikes or Seeds)
CATEGORIES:QuickScores, Baseball - Travel Game
TRANSP:OPAQUE
BEGIN:VALARM
TRIGGER:-PT2H
ACTION:DISPLAY
DESCRIPTION:MC Trojans vs. The Lot
END:VALARM
END:VEVENT
BEGIN:VEVENT
UID:ogdencity-71846730-20260316T194500@quickscores.com
DTSTAMP:20260425T170200Z
DTSTART;TZID=America/Denver:20260316T194500
DURATION:PT2H0M0S
SUMMARY:MC Trojans vs. Condors Baseball
DESCRIPTION:13u Comp Baseball American League 2026 - Ogden City Recreation
LOCATION:Lindquist Field
CATEGORIES:QuickScores, Baseball - Travel Game
TRANSP:OPAQUE
BEGIN:VALARM
TRIGGER:-PT2H
ACTION:DISPLAY
DESCRIPTION:MC Trojans vs. Condors Baseball
END:VALARM
END:VEVENT
BEGIN:VEVENT
UID:ogdencity-71846722-20260323T173000@quickscores.com
DTSTAMP:20260425T170200Z
DTSTART;TZID=America/Denver:20260323T173000
DURATION:PT2H0M0S
SUMMARY:Layton Legends vs. MC Trojans
DESCRIPTION:13u Comp Baseball American League 2026 - Ogden City Recreation
LOCATION:4th Street Park: Field 3
CATEGORIES:QuickScores, Baseball - Travel Game
TRANSP:OPAQUE
BEGIN:VALARM
TRIGGER:-PT2H
ACTION:DISPLAY
DESCRIPTION:Layton Legends vs. MC Trojans
END:VALARM
END:VEVENT
BEGIN:VEVENT
UID:ogdencity-71846727-20260323T194500@quickscores.com
DTSTAMP:20260425T170200Z
DTSTART;TZID=America/Denver:20260323T194500
DURATION:PT2H0M0S
SUMMARY:Clinton Storm Baseball vs. MC Trojans
DESCRIPTION:13u Comp Baseball American League 2026 - Ogden City Recreation
LOCATION:4th Street Park: Field 1
CATEGORIES:QuickScores, Baseball - Travel Game
TRANSP:OPAQUE
BEGIN:VALARM
TRIGGER:-PT2H
ACTION:DISPLAY
DESCRIPTION:Clinton Storm Baseball vs. MC Trojans
END:VALARM
END:VEVENT
BEGIN:VEVENT
UID:ogdencity-71846742-20260413T173000@quickscores.com
DTSTAMP:20260425T170200Z
DTSTART;TZID=America/Denver:20260413T173000
DURATION:PT2H0M0S
SUMMARY:MC Trojans vs. HotShots
DESCRIPTION:13u Comp Baseball American League 2026 - Ogden City Recreation
LOCATION:Serge Simmons Field  (No Metal Spikes or Seeds)
CATEGORIES:QuickScores, Baseball - Travel Game
TRANSP:OPAQUE
BEGIN:VALARM
TRIGGER:-PT2H
ACTION:DISPLAY
DESCRIPTION:MC Trojans vs. HotShots
END:VALARM
END:VEVENT
BEGIN:VEVENT
UID:ogdencity-71846744-20260413T194500@quickscores.com
DTSTAMP:20260425T170200Z
DTSTART;TZID=America/Denver:20260413T194500
DURATION:PT2H0M0S
SUMMARY:Regulators vs. MC Trojans
DESCRIPTION:13u Comp Baseball American League 2026 - Ogden City Recreation
LOCATION:Marv Casteel Field (No Metal Spikes or Seeds)
CATEGORIES:QuickScores, Baseball - Travel Game
TRANSP:OPAQUE
BEGIN:VALARM
TRIGGER:-PT2H
ACTION:DISPLAY
DESCRIPTION:Regulators vs. MC Trojans
END:VALARM
END:VEVENT
BEGIN:VEVENT
UID:ogdencity-71846718-20260420T173000@quickscores.com
DTSTAMP:20260425T170200Z
DTSTART;TZID=America/Denver:20260420T173000
DURATION:PT2H0M0S
SUMMARY:MC Trojans vs. The Lot
DESCRIPTION:13u Comp Baseball American League 2026 - Ogden City Recreation
LOCATION:Serge Simmons Field  (No Metal Spikes or Seeds)
CATEGORIES:QuickScores, Baseball - Travel Game
TRANSP:OPAQUE
BEGIN:VALARM
TRIGGER:-PT2H
ACTION:DISPLAY
DESCRIPTION:MC Trojans vs. The Lot
END:VALARM
END:VEVENT
BEGIN:VEVENT
UID:ogdencity-71846719-20260420T194500@quickscores.com
DTSTAMP:20260425T170200Z
DTSTART;TZID=America/Denver:20260420T194500
DURATION:PT2H0M0S
SUMMARY:MC Trojans vs. Condors Baseball
DESCRIPTION:13u Comp Baseball American League 2026 - Ogden City Recreation
LOCATION:Serge Simmons Field  (No Metal Spikes or Seeds)
CATEGORIES:QuickScores, Baseball - Travel Game
TRANSP:OPAQUE
BEGIN:VALARM
TRIGGER:-PT2H
ACTION:DISPLAY
DESCRIPTION:MC Trojans vs. Condors Baseball
END:VALARM
END:VEVENT
BEGIN:VEVENT
UID:ogdencity-71846710-20260427T173000@quickscores.com
DTSTAMP:20260425T170200Z
DTSTART;TZID=America/Denver:20260427T173000
DURATION:PT2H0M0S
SUMMARY:Regulators vs. MC Trojans
DESCRIPTION:13u Comp Baseball American League 2026 - Ogden City Recreation
LOCATION:4th Street Park: Field 3
CATEGORIES:QuickScores, Baseball - Travel Game
TRANSP:OPAQUE
BEGIN:VALARM
TRIGGER:-PT2H
ACTION:DISPLAY
DESCRIPTION:Regulators vs. MC Trojans
END:VALARM
END:VEVENT
BEGIN:VEVENT
UID:ogdencity-71846714-20260427T194500@quickscores.com
DTSTAMP:20260425T170200Z
DTSTART;TZID=America/Denver:20260427T194500
DURATION:PT2H0M0S
SUMMARY:Clinton Storm Baseball vs. MC Trojans
DESCRIPTION:13u Comp Baseball American League 2026 - Ogden City Recreation
LOCATION:4th Street Park: Field 1
CATEGORIES:QuickScores, Baseball - Travel Game
TRANSP:OPAQUE
BEGIN:VALARM
TRIGGER:-PT2H
ACTION:DISPLAY
DESCRIPTION:Clinton Storm Baseball vs. MC Trojans
END:VALARM
END:VEVENT
END:VCALENDAR
