BEGIN:VCALENDAR
VERSION:2.0
PRODID:-//QuickScores.com//BQ Dynamic iCal Creator//EN
METHOD:PUBLISH
X-WR-CALNAME:3 ALL DAY WARRIORS - 6u Coed - Winter 2025-2026
X-WR-CALDESC:QuickScores game calendar
X-PUBLISHED-TTL:PT24H
REFRESH-INTERVAL;VALUE=DURATION:PT24H
CALSCALE:GREGORIAN
BEGIN:VTIMEZONE
TZID:America/Chicago
X-LIC-LOCATION:America/Chicago
BEGIN:DAYLIGHT
TZNAME:CDT
TZOFFSETFROM:-0600
TZOFFSETTO:-0500
DTSTART:19700308T020000
RRULE:FREQ=YEARLY;BYMONTH=3;BYDAY=2SU
END:DAYLIGHT
BEGIN:STANDARD
TZNAME:CST
TZOFFSETFROM:-0500
TZOFFSETTO:-0600
DTSTART:19701101T020000
RRULE:FREQ=YEARLY;BYMONTH=11;BYDAY=1SU
END:STANDARD
END:VTIMEZONE
BEGIN:VEVENT
UID:ntba-72710823-20260117T110000@quickscores.com
DTSTAMP:20260425T085800Z
DTSTART;TZID=America/Chicago:20260117T110000
DURATION:PT1H0M0S
SUMMARY:3 ALL DAY WARRIORS vs. TEXAS BUCCANEERS
DESCRIPTION:6u Coed - North Texas Basketball Association<br>Serving Cedar Hill, DeSoto, & Waxahachie
LOCATION:BESSIE COLEMAN MIDDLE SCHOOL #2
CATEGORIES:QuickScores, Basketball - Youth Game
TRANSP:OPAQUE
BEGIN:VALARM
TRIGGER:-PT2H
ACTION:DISPLAY
DESCRIPTION:3 ALL DAY WARRIORS vs. TEXAS BUCCANEERS
END:VALARM
END:VEVENT
BEGIN:VEVENT
UID:ntba-72708935-20260131T120000@quickscores.com
DTSTAMP:20260425T085800Z
DTSTART;TZID=America/Chicago:20260131T120000
DURATION:PT1H0M0S
SUMMARY:3 ALL DAY WARRIORS vs. CH WOLVES
DESCRIPTION:6u Coed - North Texas Basketball Association<br>Serving Cedar Hill, DeSoto, & Waxahachie
LOCATION:BESSIE COLEMAN MIDDLE SCHOOL #2
CATEGORIES:QuickScores, Basketball - Youth Game
TRANSP:OPAQUE
BEGIN:VALARM
TRIGGER:-PT2H
ACTION:DISPLAY
DESCRIPTION:3 ALL DAY WARRIORS vs. CH WOLVES
END:VALARM
END:VEVENT
BEGIN:VEVENT
UID:ntba-72709649-20260207T090000@quickscores.com
DTSTAMP:20260425T085800Z
DTSTART;TZID=America/Chicago:20260207T090000
DURATION:PT1H0M0S
SUMMARY:TEXAS TARHEELS vs. 3 ALL DAY WARRIORS
DESCRIPTION:6u Coed - North Texas Basketball Association<br>Serving Cedar Hill, DeSoto, & Waxahachie
LOCATION:BESSIE COLEMAN MIDDLE SCHOOL #2
CATEGORIES:QuickScores, Basketball - Youth Game
TRANSP:OPAQUE
BEGIN:VALARM
TRIGGER:-PT2H
ACTION:DISPLAY
DESCRIPTION:TEXAS TARHEELS vs. 3 ALL DAY WARRIORS
END:VALARM
END:VEVENT
BEGIN:VEVENT
UID:ntba-72709651-20260214T110000@quickscores.com
DTSTAMP:20260425T085800Z
DTSTART;TZID=America/Chicago:20260214T110000
DURATION:PT1H0M0S
SUMMARY:3 ALL DAY WARRIORS vs. TEXAS BUCCANEERS
DESCRIPTION:6u Coed - North Texas Basketball Association<br>Serving Cedar Hill, DeSoto, & Waxahachie
LOCATION:BESSIE COLEMAN MIDDLE SCHOOL #2
CATEGORIES:QuickScores, Basketball - Youth Game
TRANSP:OPAQUE
BEGIN:VALARM
TRIGGER:-PT2H
ACTION:DISPLAY
DESCRIPTION:3 ALL DAY WARRIORS vs. TEXAS BUCCANEERS
END:VALARM
END:VEVENT
BEGIN:VEVENT
UID:ntba-72774263-20260221T130000@quickscores.com
DTSTAMP:20260425T085800Z
DTSTART;TZID=America/Chicago:20260221T130000
DURATION:PT1H0M0S
SUMMARY:Desoto/Duncanville/WAXAHACHIE vs. 3 ALL DAY WARRIORS
DESCRIPTION:Desoto Process Elite --- 6u Coed - North Texas Basketball Association<br>Serving Cedar Hill, DeSoto, & Waxahachie
LOCATION:DESOTO REC CENTER GYM 2
CATEGORIES:QuickScores, Basketball - Youth Game
TRANSP:OPAQUE
BEGIN:VALARM
TRIGGER:-PT2H
ACTION:DISPLAY
DESCRIPTION:Desoto/Duncanville/WAXAHACHIE vs. 3 ALL DAY WARRIORS
END:VALARM
END:VEVENT
BEGIN:VEVENT
UID:ntba-73110743-20260228T110000@quickscores.com
DTSTAMP:20260425T085800Z
DTSTART;TZID=America/Chicago:20260228T110000
DURATION:PT1H0M0S
SUMMARY:TEXAS TARHEELS vs. 3 ALL DAY WARRIORS
DESCRIPTION:6u Coed - North Texas Basketball Association<br>Serving Cedar Hill, DeSoto, & Waxahachie
LOCATION:BESSIE COLEMAN MIDDLE SCHOOL #2
CATEGORIES:QuickScores, Basketball - Youth Game
TRANSP:OPAQUE
BEGIN:VALARM
TRIGGER:-PT2H
ACTION:DISPLAY
DESCRIPTION:TEXAS TARHEELS vs. 3 ALL DAY WARRIORS
END:VALARM
END:VEVENT
BEGIN:VEVENT
UID:ntba-73110742-20260228T120000@quickscores.com
DTSTAMP:20260425T085800Z
DTSTART;TZID=America/Chicago:20260228T120000
DURATION:PT1H0M0S
SUMMARY:CH WOLVES vs. 3 ALL DAY WARRIORS
DESCRIPTION:6u Coed - North Texas Basketball Association<br>Serving Cedar Hill, DeSoto, & Waxahachie
LOCATION:BESSIE COLEMAN MIDDLE SCHOOL #2
CATEGORIES:QuickScores, Basketball - Youth Game
TRANSP:OPAQUE
BEGIN:VALARM
TRIGGER:-PT2H
ACTION:DISPLAY
DESCRIPTION:CH WOLVES vs. 3 ALL DAY WARRIORS
END:VALARM
END:VEVENT
END:VCALENDAR
