BEGIN:VCALENDAR
VERSION:2.0
PRODID:-//QuickScores.com//BQ Dynamic iCal Creator//EN
METHOD:PUBLISH
X-WR-CALNAME:Dream - 2nd Grade Girls - Winter 2025-2026
X-WR-CALDESC:QuickScores game calendar
X-PUBLISHED-TTL:PT24H
REFRESH-INTERVAL;VALUE=DURATION:PT24H
CALSCALE:GREGORIAN
BEGIN:VTIMEZONE
TZID:America/Chicago
X-LIC-LOCATION:America/Chicago
BEGIN:DAYLIGHT
TZNAME:CDT
TZOFFSETFROM:-0600
TZOFFSETTO:-0500
DTSTART:19700308T020000
RRULE:FREQ=YEARLY;BYMONTH=3;BYDAY=2SU
END:DAYLIGHT
BEGIN:STANDARD
TZNAME:CST
TZOFFSETFROM:-0500
TZOFFSETTO:-0600
DTSTART:19701101T020000
RRULE:FREQ=YEARLY;BYMONTH=11;BYDAY=1SU
END:STANDARD
END:VTIMEZONE
BEGIN:VEVENT
UID:northbrook-72157734-20260110T120000@quickscores.com
DTSTAMP:20260425T205500Z
DTSTART;TZID=America/Chicago:20260110T120000
DURATION:PT0H30M0S
SUMMARY:Practice: Sky vs. Dream
DESCRIPTION:Practice --- 2nd Grade Girls - Northbrook Park District
LOCATION:GBN #1
CATEGORIES:QuickScores, Basketball - Youth Game
TRANSP:OPAQUE
BEGIN:VALARM
TRIGGER:-PT2H
ACTION:DISPLAY
DESCRIPTION:Practice: Sky vs. Dream
END:VALARM
END:VEVENT
BEGIN:VEVENT
UID:northbrook-72157736-20260117T100000@quickscores.com
DTSTAMP:20260425T205500Z
DTSTART;TZID=America/Chicago:20260117T100000
DURATION:PT1H0M0S
SUMMARY:Wings vs. Dream
DESCRIPTION:2nd Grade Girls - Northbrook Park District
LOCATION:TPAC - East Court
CATEGORIES:QuickScores, Basketball - Youth Game
TRANSP:OPAQUE
BEGIN:VALARM
TRIGGER:-PT2H
ACTION:DISPLAY
DESCRIPTION:Wings vs. Dream
END:VALARM
END:VEVENT
BEGIN:VEVENT
UID:northbrook-72157739-20260124T143000@quickscores.com
DTSTAMP:20260425T205500Z
DTSTART;TZID=America/Chicago:20260124T143000
DURATION:PT1H0M0S
SUMMARY:Dream vs. Sun
DESCRIPTION:2nd Grade Girls - Northbrook Park District
LOCATION:GBN #1
CATEGORIES:QuickScores, Basketball - Youth Game
TRANSP:OPAQUE
BEGIN:VALARM
TRIGGER:-PT2H
ACTION:DISPLAY
DESCRIPTION:Dream vs. Sun
END:VALARM
END:VEVENT
BEGIN:VEVENT
UID:northbrook-72157740-20260131T153000@quickscores.com
DTSTAMP:20260425T205500Z
DTSTART;TZID=America/Chicago:20260131T153000
DURATION:PT1H0M0S
SUMMARY:Dream vs. Sky
DESCRIPTION:Picture Day --- 2nd Grade Girls - Northbrook Park District
LOCATION:GBN #1
CATEGORIES:QuickScores, Basketball - Youth Game
TRANSP:OPAQUE
BEGIN:VALARM
TRIGGER:-PT2H
ACTION:DISPLAY
DESCRIPTION:Dream vs. Sky
END:VALARM
END:VEVENT
BEGIN:VEVENT
UID:northbrook-72157743-20260207T153000@quickscores.com
DTSTAMP:20260425T205500Z
DTSTART;TZID=America/Chicago:20260207T153000
DURATION:PT1H0M0S
SUMMARY:Dream vs. Wings
DESCRIPTION:2nd Grade Girls - Northbrook Park District
LOCATION:GBN #2
CATEGORIES:QuickScores, Basketball - Youth Game
TRANSP:OPAQUE
BEGIN:VALARM
TRIGGER:-PT2H
ACTION:DISPLAY
DESCRIPTION:Dream vs. Wings
END:VALARM
END:VEVENT
BEGIN:VEVENT
UID:northbrook-72157745-20260214T153000@quickscores.com
DTSTAMP:20260425T205500Z
DTSTART;TZID=America/Chicago:20260214T153000
DURATION:PT1H0M0S
SUMMARY:Sun vs. Dream
DESCRIPTION:2nd Grade Girls - Northbrook Park District
LOCATION:GBN #1
CATEGORIES:QuickScores, Basketball - Youth Game
TRANSP:OPAQUE
BEGIN:VALARM
TRIGGER:-PT2H
ACTION:DISPLAY
DESCRIPTION:Sun vs. Dream
END:VALARM
END:VEVENT
BEGIN:VEVENT
UID:northbrook-72157746-20260221T153000@quickscores.com
DTSTAMP:20260425T205500Z
DTSTART;TZID=America/Chicago:20260221T153000
DURATION:PT1H0M0S
SUMMARY:Dream vs. Sky
DESCRIPTION:2nd Grade Girls - Northbrook Park District
LOCATION:GBN #1
CATEGORIES:QuickScores, Basketball - Youth Game
TRANSP:OPAQUE
BEGIN:VALARM
TRIGGER:-PT2H
ACTION:DISPLAY
DESCRIPTION:Dream vs. Sky
END:VALARM
END:VEVENT
BEGIN:VEVENT
UID:northbrook-72157749-20260228T153000@quickscores.com
DTSTAMP:20260425T205500Z
DTSTART;TZID=America/Chicago:20260228T153000
DURATION:PT1H0M0S
SUMMARY:Wings vs. Dream
DESCRIPTION:2nd Grade Girls - Northbrook Park District
LOCATION:GBN #1
CATEGORIES:QuickScores, Basketball - Youth Game
TRANSP:OPAQUE
BEGIN:VALARM
TRIGGER:-PT2H
ACTION:DISPLAY
DESCRIPTION:Wings vs. Dream
END:VALARM
END:VEVENT
END:VCALENDAR
