BEGIN:VCALENDAR
VERSION:2.0
PRODID:-//QuickScores.com//BQ Dynamic iCal Creator//EN
METHOD:PUBLISH
X-WR-CALNAME:Cheetahs - 2nd Grade Girls - Fall 2025
X-WR-CALDESC:QuickScores game calendar
X-PUBLISHED-TTL:PT24H
REFRESH-INTERVAL;VALUE=DURATION:PT24H
CALSCALE:GREGORIAN
BEGIN:VTIMEZONE
TZID:America/Chicago
X-LIC-LOCATION:America/Chicago
BEGIN:DAYLIGHT
TZNAME:CDT
TZOFFSETFROM:-0600
TZOFFSETTO:-0500
DTSTART:19700308T020000
RRULE:FREQ=YEARLY;BYMONTH=3;BYDAY=2SU
END:DAYLIGHT
BEGIN:STANDARD
TZNAME:CST
TZOFFSETFROM:-0500
TZOFFSETTO:-0600
DTSTART:19701101T020000
RRULE:FREQ=YEARLY;BYMONTH=11;BYDAY=1SU
END:STANDARD
END:VTIMEZONE
BEGIN:VEVENT
UID:northbrook-71349350-20251101T123000@quickscores.com
DTSTAMP:20260421T194200Z
DTSTART;TZID=America/Chicago:20251101T123000
DURATION:PT0H30M0S
SUMMARY:Practice: Cheetahs
DESCRIPTION:Practice Only --- 2nd Grade Girls - Northbrook Park District
LOCATION:GBN #1
CATEGORIES:QuickScores, Basketball - Youth Game
TRANSP:OPAQUE
BEGIN:VALARM
TRIGGER:-PT2H
ACTION:DISPLAY
DESCRIPTION:Practice: Cheetahs
END:VALARM
END:VEVENT
BEGIN:VEVENT
UID:northbrook-71349355-20251108T120000@quickscores.com
DTSTAMP:20260421T194200Z
DTSTART;TZID=America/Chicago:20251108T120000
DURATION:PT1H0M0S
SUMMARY:Jaguars vs. Cheetahs
DESCRIPTION:2nd Grade Girls - Northbrook Park District
LOCATION:GBN #1
CATEGORIES:QuickScores, Basketball - Youth Game
TRANSP:OPAQUE
BEGIN:VALARM
TRIGGER:-PT2H
ACTION:DISPLAY
DESCRIPTION:Jaguars vs. Cheetahs
END:VALARM
END:VEVENT
BEGIN:VEVENT
UID:northbrook-71349353-20251108T130000@quickscores.com
DTSTAMP:20260421T194200Z
DTSTART;TZID=America/Chicago:20251108T130000
DURATION:PT1H0M0S
SUMMARY:Cheetahs vs. Tigers
DESCRIPTION:2nd Grade Girls - Northbrook Park District
LOCATION:GBN #1
CATEGORIES:QuickScores, Basketball - Youth Game
TRANSP:OPAQUE
BEGIN:VALARM
TRIGGER:-PT2H
ACTION:DISPLAY
DESCRIPTION:Cheetahs vs. Tigers
END:VALARM
END:VEVENT
BEGIN:VEVENT
UID:northbrook-71349358-20251115T150000@quickscores.com
DTSTAMP:20260421T194200Z
DTSTART;TZID=America/Chicago:20251115T150000
DURATION:PT1H0M0S
SUMMARY:Cheetahs vs. Jaguars
DESCRIPTION:2nd Grade Girls - Northbrook Park District
LOCATION:GBN #1
CATEGORIES:QuickScores, Basketball - Youth Game
TRANSP:OPAQUE
BEGIN:VALARM
TRIGGER:-PT2H
ACTION:DISPLAY
DESCRIPTION:Cheetahs vs. Jaguars
END:VALARM
END:VEVENT
BEGIN:VEVENT
UID:northbrook-71349360-20251122T120000@quickscores.com
DTSTAMP:20260421T194200Z
DTSTART;TZID=America/Chicago:20251122T120000
DURATION:PT1H0M0S
SUMMARY:Cheetahs vs. Cougars
DESCRIPTION:2nd Grade Girls - Northbrook Park District
LOCATION:GBN #1
CATEGORIES:QuickScores, Basketball - Youth Game
TRANSP:OPAQUE
BEGIN:VALARM
TRIGGER:-PT2H
ACTION:DISPLAY
DESCRIPTION:Cheetahs vs. Cougars
END:VALARM
END:VEVENT
BEGIN:VEVENT
UID:northbrook-71349362-20251213T140000@quickscores.com
DTSTAMP:20260421T194200Z
DTSTART;TZID=America/Chicago:20251213T140000
DURATION:PT1H0M0S
SUMMARY:Lions vs. Cheetahs
DESCRIPTION:2nd Grade Girls - Northbrook Park District
LOCATION:GBN #1
CATEGORIES:QuickScores, Basketball - Youth Game
TRANSP:OPAQUE
BEGIN:VALARM
TRIGGER:-PT2H
ACTION:DISPLAY
DESCRIPTION:Lions vs. Cheetahs
END:VALARM
END:VEVENT
END:VCALENDAR
