BEGIN:VCALENDAR
VERSION:2.0
PRODID:-//QuickScores.com//BQ Dynamic iCal Creator//EN
METHOD:PUBLISH
X-WR-CALNAME:VH Novel Club - Wednesday C 40+ - Spring 2025
X-WR-CALDESC:QuickScores game calendar
X-PUBLISHED-TTL:PT24H
REFRESH-INTERVAL;VALUE=DURATION:PT24H
CALSCALE:GREGORIAN
BEGIN:VTIMEZONE
TZID:America/Chicago
X-LIC-LOCATION:America/Chicago
BEGIN:DAYLIGHT
TZNAME:CDT
TZOFFSETFROM:-0600
TZOFFSETTO:-0500
DTSTART:19700308T020000
RRULE:FREQ=YEARLY;BYMONTH=3;BYDAY=2SU
END:DAYLIGHT
BEGIN:STANDARD
TZNAME:CST
TZOFFSETFROM:-0500
TZOFFSETTO:-0600
DTSTART:19701101T020000
RRULE:FREQ=YEARLY;BYMONTH=11;BYDAY=1SU
END:STANDARD
END:VTIMEZONE
BEGIN:VEVENT
UID:northbrook-68679871-20250514T183000@quickscores.com
DTSTAMP:20260420T133500Z
DTSTART;TZID=America/Chicago:20250514T183000
DURATION:PT1H0M0S
SUMMARY:VH Novel Club vs. Straight Outta Glencoe
DESCRIPTION:Wednesday C 40+ - Northbrook Park District
LOCATION:TPPF #26
CATEGORIES:QuickScores, Softball - Adult Game
TRANSP:OPAQUE
BEGIN:VALARM
TRIGGER:-PT2H
ACTION:DISPLAY
DESCRIPTION:VH Novel Club vs. Straight Outta Glencoe
END:VALARM
END:VEVENT
BEGIN:VEVENT
UID:northbrook-68679895-20250611T203000@quickscores.com
DTSTAMP:20260420T133500Z
DTSTART;TZID=America/Chicago:20250611T203000
DURATION:PT1H0M0S
SUMMARY:The Knolls vs. VH Novel Club
DESCRIPTION:Wednesday C 40+ - Northbrook Park District
LOCATION:TPPF #26
CATEGORIES:QuickScores, Softball - Adult Game
TRANSP:OPAQUE
BEGIN:VALARM
TRIGGER:-PT2H
ACTION:DISPLAY
DESCRIPTION:The Knolls vs. VH Novel Club
END:VALARM
END:VEVENT
BEGIN:VEVENT
UID:northbrook-68679910-20250625T193000@quickscores.com
DTSTAMP:20260420T133500Z
DTSTART;TZID=America/Chicago:20250625T193000
DURATION:PT1H0M0S
SUMMARY:Upper Deckers vs. VH Novel Club
DESCRIPTION:Wednesday C 40+ - Northbrook Park District
LOCATION:TPPF #26
CATEGORIES:QuickScores, Softball - Adult Game
TRANSP:OPAQUE
BEGIN:VALARM
TRIGGER:-PT2H
ACTION:DISPLAY
DESCRIPTION:Upper Deckers vs. VH Novel Club
END:VALARM
END:VEVENT
BEGIN:VEVENT
UID:northbrook-68679916-20250702T183000@quickscores.com
DTSTAMP:20260420T133500Z
DTSTART;TZID=America/Chicago:20250702T183000
DURATION:PT1H0M0S
SUMMARY:VH Novel Club vs. Wally Werld
DESCRIPTION:Wednesday C 40+ - Northbrook Park District
LOCATION:TPPF #27
CATEGORIES:QuickScores, Softball - Adult Game
TRANSP:OPAQUE
BEGIN:VALARM
TRIGGER:-PT2H
ACTION:DISPLAY
DESCRIPTION:VH Novel Club vs. Wally Werld
END:VALARM
END:VEVENT
BEGIN:VEVENT
UID:northbrook-68679921-20250702T193000@quickscores.com
DTSTAMP:20260420T133500Z
DTSTART;TZID=America/Chicago:20250702T193000
DURATION:PT1H0M0S
SUMMARY:Defensive Indifference vs. VH Novel Club
DESCRIPTION:Wednesday C 40+ - Northbrook Park District
LOCATION:TPPF #27
CATEGORIES:QuickScores, Softball - Adult Game
TRANSP:OPAQUE
BEGIN:VALARM
TRIGGER:-PT2H
ACTION:DISPLAY
DESCRIPTION:Defensive Indifference vs. VH Novel Club
END:VALARM
END:VEVENT
BEGIN:VEVENT
UID:northbrook-68679925-20250709T193000@quickscores.com
DTSTAMP:20260420T133500Z
DTSTART;TZID=America/Chicago:20250709T193000
DURATION:PT1H0M0S
SUMMARY:Disco Stu's vs. VH Novel Club
DESCRIPTION:Wednesday C 40+ - Northbrook Park District
LOCATION:TPPF #26
CATEGORIES:QuickScores, Softball - Adult Game
TRANSP:OPAQUE
BEGIN:VALARM
TRIGGER:-PT2H
ACTION:DISPLAY
DESCRIPTION:Disco Stu's vs. VH Novel Club
END:VALARM
END:VEVENT
BEGIN:VEVENT
UID:northbrook-68679930-20250709T203000@quickscores.com
DTSTAMP:20260420T133500Z
DTSTART;TZID=America/Chicago:20250709T203000
DURATION:PT1H0M0S
SUMMARY:G Unit vs. VH Novel Club
DESCRIPTION:Wednesday C 40+ - Northbrook Park District
LOCATION:TPPF #26
CATEGORIES:QuickScores, Softball - Adult Game
TRANSP:OPAQUE
BEGIN:VALARM
TRIGGER:-PT2H
ACTION:DISPLAY
DESCRIPTION:G Unit vs. VH Novel Club
END:VALARM
END:VEVENT
BEGIN:VEVENT
UID:northbrook-68679866-20250716T183000@quickscores.com
DTSTAMP:20260420T133500Z
DTSTART;TZID=America/Chicago:20250716T183000
DURATION:PT1H0M0S
SUMMARY:VH Novel Club vs. G Unit
DESCRIPTION:From 5/21 --- Wednesday C 40+ - Northbrook Park District
LOCATION:TPPF #27
CATEGORIES:QuickScores, Softball - Adult Game
TRANSP:OPAQUE
BEGIN:VALARM
TRIGGER:-PT2H
ACTION:DISPLAY
DESCRIPTION:VH Novel Club vs. G Unit
END:VALARM
END:VEVENT
BEGIN:VEVENT
UID:northbrook-68679880-20250723T183000@quickscores.com
DTSTAMP:20260420T133500Z
DTSTART;TZID=America/Chicago:20250723T183000
DURATION:PT1H0M0S
SUMMARY:Chuck's Pain Train Express vs. VH Novel Club
DESCRIPTION:From 5/28 --- Wednesday C 40+ - Northbrook Park District
LOCATION:TPPF #26
CATEGORIES:QuickScores, Softball - Adult Game
TRANSP:OPAQUE
BEGIN:VALARM
TRIGGER:-PT2H
ACTION:DISPLAY
DESCRIPTION:Chuck's Pain Train Express vs. VH Novel Club
END:VALARM
END:VEVENT
BEGIN:VEVENT
UID:northbrook-68679890-20250730T193000@quickscores.com
DTSTAMP:20260420T133500Z
DTSTART;TZID=America/Chicago:20250730T193000
DURATION:PT1H0M0S
SUMMARY:VH Novel Club vs. Hit It And Quit It
DESCRIPTION:From 6/4 --- Wednesday C 40+ - Northbrook Park District
LOCATION:TPPF #28
CATEGORIES:QuickScores, Softball - Adult Game
TRANSP:OPAQUE
BEGIN:VALARM
TRIGGER:-PT2H
ACTION:DISPLAY
DESCRIPTION:VH Novel Club vs. Hit It And Quit It
END:VALARM
END:VEVENT
BEGIN:VEVENT
UID:northbrook-68679886-20250730T203000@quickscores.com
DTSTAMP:20260420T133500Z
DTSTART;TZID=America/Chicago:20250730T203000
DURATION:PT1H0M0S
SUMMARY:VH Novel Club vs. Wreckoncilers
DESCRIPTION:From 6/4 --- Wednesday C 40+ - Northbrook Park District
LOCATION:TPPF #28
CATEGORIES:QuickScores, Softball - Adult Game
TRANSP:OPAQUE
BEGIN:VALARM
TRIGGER:-PT2H
ACTION:DISPLAY
DESCRIPTION:VH Novel Club vs. Wreckoncilers
END:VALARM
END:VEVENT
BEGIN:VEVENT
UID:northbrook-68679901-20250806T193000@quickscores.com
DTSTAMP:20260420T133500Z
DTSTART;TZID=America/Chicago:20250806T193000
DURATION:PT1H0M0S
SUMMARY:VH Novel Club vs. Crash Davis
DESCRIPTION:From 6/18 --- Wednesday C 40+ - Northbrook Park District
LOCATION:TPPF #27
CATEGORIES:QuickScores, Softball - Adult Game
TRANSP:OPAQUE
BEGIN:VALARM
TRIGGER:-PT2H
ACTION:DISPLAY
DESCRIPTION:VH Novel Club vs. Crash Davis
END:VALARM
END:VEVENT
BEGIN:VEVENT
UID:northbrook-68648921-20250813T203000@quickscores.com
DTSTAMP:20260420T133500Z
DTSTART;TZID=America/Chicago:20250813T203000
DURATION:PT1H0M0S
SUMMARY:[5] Defensive Indifference vs. [12] VH Novel Club
DESCRIPTION:Wednesday C 40+ - Northbrook Park District
LOCATION:TPPF #26
CATEGORIES:QuickScores, Softball - Adult Game
TRANSP:OPAQUE
BEGIN:VALARM
TRIGGER:-PT2H
ACTION:DISPLAY
DESCRIPTION:[5] Defensive Indifference vs. [12] VH Novel Club
END:VALARM
END:VEVENT
END:VCALENDAR
