BEGIN:VCALENDAR
VERSION:2.0
PRODID:-//QuickScores.com//BQ Dynamic iCal Creator//EN
METHOD:PUBLISH
X-WR-CALNAME:Defensive Indifference - Wednesday C 40+ - Spring 2025
X-WR-CALDESC:QuickScores game calendar
X-PUBLISHED-TTL:PT24H
REFRESH-INTERVAL;VALUE=DURATION:PT24H
CALSCALE:GREGORIAN
BEGIN:VTIMEZONE
TZID:America/Chicago
X-LIC-LOCATION:America/Chicago
BEGIN:DAYLIGHT
TZNAME:CDT
TZOFFSETFROM:-0600
TZOFFSETTO:-0500
DTSTART:19700308T020000
RRULE:FREQ=YEARLY;BYMONTH=3;BYDAY=2SU
END:DAYLIGHT
BEGIN:STANDARD
TZNAME:CST
TZOFFSETFROM:-0500
TZOFFSETTO:-0600
DTSTART:19701101T020000
RRULE:FREQ=YEARLY;BYMONTH=11;BYDAY=1SU
END:STANDARD
END:VTIMEZONE
BEGIN:VEVENT
UID:northbrook-68679872-20250514T183000@quickscores.com
DTSTAMP:20260420T163500Z
DTSTART;TZID=America/Chicago:20250514T183000
DURATION:PT1H0M0S
SUMMARY:G Unit vs. Defensive Indifference
DESCRIPTION:Wednesday C 40+ - Northbrook Park District
LOCATION:TPPF #28
CATEGORIES:QuickScores, Softball - Adult Game
TRANSP:OPAQUE
BEGIN:VALARM
TRIGGER:-PT2H
ACTION:DISPLAY
DESCRIPTION:G Unit vs. Defensive Indifference
END:VALARM
END:VEVENT
BEGIN:VEVENT
UID:northbrook-68679893-20250611T183000@quickscores.com
DTSTAMP:20260420T163500Z
DTSTART;TZID=America/Chicago:20250611T183000
DURATION:PT1H0M0S
SUMMARY:Upper Deckers vs. Defensive Indifference
DESCRIPTION:Wednesday C 40+ - Northbrook Park District
LOCATION:TPPF #26
CATEGORIES:QuickScores, Softball - Adult Game
TRANSP:OPAQUE
BEGIN:VALARM
TRIGGER:-PT2H
ACTION:DISPLAY
DESCRIPTION:Upper Deckers vs. Defensive Indifference
END:VALARM
END:VEVENT
BEGIN:VEVENT
UID:northbrook-68679908-20250625T183000@quickscores.com
DTSTAMP:20260420T163500Z
DTSTART;TZID=America/Chicago:20250625T183000
DURATION:PT1H0M0S
SUMMARY:Disco Stu's vs. Defensive Indifference
DESCRIPTION:Wednesday C 40+ - Northbrook Park District
LOCATION:TPPF #26
CATEGORIES:QuickScores, Softball - Adult Game
TRANSP:OPAQUE
BEGIN:VALARM
TRIGGER:-PT2H
ACTION:DISPLAY
DESCRIPTION:Disco Stu's vs. Defensive Indifference
END:VALARM
END:VEVENT
BEGIN:VEVENT
UID:northbrook-68679918-20250702T183000@quickscores.com
DTSTAMP:20260420T163500Z
DTSTART;TZID=America/Chicago:20250702T183000
DURATION:PT1H0M0S
SUMMARY:Defensive Indifference vs. Crash Davis
DESCRIPTION:Wednesday C 40+ - Northbrook Park District
LOCATION:TPPF #28
CATEGORIES:QuickScores, Softball - Adult Game
TRANSP:OPAQUE
BEGIN:VALARM
TRIGGER:-PT2H
ACTION:DISPLAY
DESCRIPTION:Defensive Indifference vs. Crash Davis
END:VALARM
END:VEVENT
BEGIN:VEVENT
UID:northbrook-68679921-20250702T193000@quickscores.com
DTSTAMP:20260420T163500Z
DTSTART;TZID=America/Chicago:20250702T193000
DURATION:PT1H0M0S
SUMMARY:Defensive Indifference vs. VH Novel Club
DESCRIPTION:Wednesday C 40+ - Northbrook Park District
LOCATION:TPPF #27
CATEGORIES:QuickScores, Softball - Adult Game
TRANSP:OPAQUE
BEGIN:VALARM
TRIGGER:-PT2H
ACTION:DISPLAY
DESCRIPTION:Defensive Indifference vs. VH Novel Club
END:VALARM
END:VEVENT
BEGIN:VEVENT
UID:northbrook-68679929-20250709T193000@quickscores.com
DTSTAMP:20260420T163500Z
DTSTART;TZID=America/Chicago:20250709T193000
DURATION:PT1H0M0S
SUMMARY:Defensive Indifference vs. Chuck's Pain Train Express
DESCRIPTION:Wednesday C 40+ - Northbrook Park District
LOCATION:TPPF #28
CATEGORIES:QuickScores, Softball - Adult Game
TRANSP:OPAQUE
BEGIN:VALARM
TRIGGER:-PT2H
ACTION:DISPLAY
DESCRIPTION:Defensive Indifference vs. Chuck's Pain Train Express
END:VALARM
END:VEVENT
BEGIN:VEVENT
UID:northbrook-68679923-20250709T203000@quickscores.com
DTSTAMP:20260420T163500Z
DTSTART;TZID=America/Chicago:20250709T203000
DURATION:PT1H0M0S
SUMMARY:Hit It And Quit It vs. Defensive Indifference
DESCRIPTION:Wednesday C 40+ - Northbrook Park District
LOCATION:TPPF #28
CATEGORIES:QuickScores, Softball - Adult Game
TRANSP:OPAQUE
BEGIN:VALARM
TRIGGER:-PT2H
ACTION:DISPLAY
DESCRIPTION:Hit It And Quit It vs. Defensive Indifference
END:VALARM
END:VEVENT
BEGIN:VEVENT
UID:northbrook-68679859-20250716T193000@quickscores.com
DTSTAMP:20260420T163500Z
DTSTART;TZID=America/Chicago:20250716T193000
DURATION:PT1H0M0S
SUMMARY:Wally Werld vs. Defensive Indifference
DESCRIPTION:From 5/21 --- Wednesday C 40+ - Northbrook Park District
LOCATION:TPPF #26
CATEGORIES:QuickScores, Softball - Adult Game
TRANSP:OPAQUE
BEGIN:VALARM
TRIGGER:-PT2H
ACTION:DISPLAY
DESCRIPTION:Wally Werld vs. Defensive Indifference
END:VALARM
END:VEVENT
BEGIN:VEVENT
UID:northbrook-68679865-20250716T203000@quickscores.com
DTSTAMP:20260420T163500Z
DTSTART;TZID=America/Chicago:20250716T203000
DURATION:PT1H0M0S
SUMMARY:Chuck's Pain Train Express vs. Defensive Indifference
DESCRIPTION:From 5/21 --- Wednesday C 40+ - Northbrook Park District
LOCATION:TPPF #26
CATEGORIES:QuickScores, Softball - Adult Game
TRANSP:OPAQUE
BEGIN:VALARM
TRIGGER:-PT2H
ACTION:DISPLAY
DESCRIPTION:Chuck's Pain Train Express vs. Defensive Indifference
END:VALARM
END:VEVENT
BEGIN:VEVENT
UID:northbrook-68679878-20250723T203000@quickscores.com
DTSTAMP:20260420T163500Z
DTSTART;TZID=America/Chicago:20250723T203000
DURATION:PT1H0M0S
SUMMARY:Defensive Indifference vs. The Knolls
DESCRIPTION:From 5/28 --- Wednesday C 40+ - Northbrook Park District
LOCATION:TPPF #28
CATEGORIES:QuickScores, Softball - Adult Game
TRANSP:OPAQUE
BEGIN:VALARM
TRIGGER:-PT2H
ACTION:DISPLAY
DESCRIPTION:Defensive Indifference vs. The Knolls
END:VALARM
END:VEVENT
BEGIN:VEVENT
UID:northbrook-68679903-20250806T193000@quickscores.com
DTSTAMP:20260420T163500Z
DTSTART;TZID=America/Chicago:20250806T193000
DURATION:PT1H0M0S
SUMMARY:Defensive Indifference vs. Wreckoncilers
DESCRIPTION:From 6/18 --- Wednesday C 40+ - Northbrook Park District
LOCATION:TPPF #28
CATEGORIES:QuickScores, Softball - Adult Game
TRANSP:OPAQUE
BEGIN:VALARM
TRIGGER:-PT2H
ACTION:DISPLAY
DESCRIPTION:Defensive Indifference vs. Wreckoncilers
END:VALARM
END:VEVENT
BEGIN:VEVENT
UID:northbrook-68679888-20250806T203000@quickscores.com
DTSTAMP:20260420T163500Z
DTSTART;TZID=America/Chicago:20250806T203000
DURATION:PT0H35M0S
SUMMARY:Defensive Indifference vs. Straight Outta Glencoe
DESCRIPTION:Defensive indifference 7 to 2 top of 3inng 35 minutes left in game --- Wednesday C 40+ - Northbrook Park District
LOCATION:TPPF #27
CATEGORIES:QuickScores, Softball - Adult Game
TRANSP:OPAQUE
BEGIN:VALARM
TRIGGER:-PT2H
ACTION:DISPLAY
DESCRIPTION:Defensive Indifference vs. Straight Outta Glencoe
END:VALARM
END:VEVENT
BEGIN:VEVENT
UID:northbrook-68648921-20250813T203000@quickscores.com
DTSTAMP:20260420T163500Z
DTSTART;TZID=America/Chicago:20250813T203000
DURATION:PT1H0M0S
SUMMARY:[5] Defensive Indifference vs. [12] VH Novel Club
DESCRIPTION:Wednesday C 40+ - Northbrook Park District
LOCATION:TPPF #26
CATEGORIES:QuickScores, Softball - Adult Game
TRANSP:OPAQUE
BEGIN:VALARM
TRIGGER:-PT2H
ACTION:DISPLAY
DESCRIPTION:[5] Defensive Indifference vs. [12] VH Novel Club
END:VALARM
END:VEVENT
BEGIN:VEVENT
UID:northbrook-68648927-20250813T213000@quickscores.com
DTSTAMP:20260420T163500Z
DTSTART;TZID=America/Chicago:20250813T213000
DURATION:PT1H0M0S
SUMMARY:[4] Wally Werld vs. [5] Defensive Indifference
DESCRIPTION:Wednesday C 40+ - Northbrook Park District
LOCATION:TPPF #26
CATEGORIES:QuickScores, Softball - Adult Game
TRANSP:OPAQUE
BEGIN:VALARM
TRIGGER:-PT2H
ACTION:DISPLAY
DESCRIPTION:[4] Wally Werld vs. [5] Defensive Indifference
END:VALARM
END:VEVENT
END:VCALENDAR
