BEGIN:VCALENDAR
VERSION:2.0
PRODID:-//QuickScores.com//BQ Dynamic iCal Creator//EN
METHOD:PUBLISH
X-WR-CALNAME:Disco Stu&#039;s - Wednesday C 40+ - Spring 2025
X-WR-CALDESC:QuickScores game calendar
X-PUBLISHED-TTL:PT24H
REFRESH-INTERVAL;VALUE=DURATION:PT24H
CALSCALE:GREGORIAN
BEGIN:VTIMEZONE
TZID:America/Chicago
X-LIC-LOCATION:America/Chicago
BEGIN:DAYLIGHT
TZNAME:CDT
TZOFFSETFROM:-0600
TZOFFSETTO:-0500
DTSTART:19700308T020000
RRULE:FREQ=YEARLY;BYMONTH=3;BYDAY=2SU
END:DAYLIGHT
BEGIN:STANDARD
TZNAME:CST
TZOFFSETFROM:-0500
TZOFFSETTO:-0600
DTSTART:19701101T020000
RRULE:FREQ=YEARLY;BYMONTH=11;BYDAY=1SU
END:STANDARD
END:VTIMEZONE
BEGIN:VEVENT
UID:northbrook-68679898-20250611T183000@quickscores.com
DTSTAMP:20260420T163400Z
DTSTART;TZID=America/Chicago:20250611T183000
DURATION:PT1H0M0S
SUMMARY:Disco Stu's vs. Wally Werld
DESCRIPTION:Wednesday C 40+ - Northbrook Park District
LOCATION:TPPF #28
CATEGORIES:QuickScores, Softball - Adult Game
TRANSP:OPAQUE
BEGIN:VALARM
TRIGGER:-PT2H
ACTION:DISPLAY
DESCRIPTION:Disco Stu's vs. Wally Werld
END:VALARM
END:VEVENT
BEGIN:VEVENT
UID:northbrook-68679891-20250611T193000@quickscores.com
DTSTAMP:20260420T163400Z
DTSTART;TZID=America/Chicago:20250611T193000
DURATION:PT1H0M0S
SUMMARY:Hit It And Quit It vs. Disco Stu's
DESCRIPTION:Wednesday C 40+ - Northbrook Park District
LOCATION:TPPF #28
CATEGORIES:QuickScores, Softball - Adult Game
TRANSP:OPAQUE
BEGIN:VALARM
TRIGGER:-PT2H
ACTION:DISPLAY
DESCRIPTION:Hit It And Quit It vs. Disco Stu's
END:VALARM
END:VEVENT
BEGIN:VEVENT
UID:northbrook-68679908-20250625T183000@quickscores.com
DTSTAMP:20260420T163400Z
DTSTART;TZID=America/Chicago:20250625T183000
DURATION:PT1H0M0S
SUMMARY:Disco Stu's vs. Defensive Indifference
DESCRIPTION:Wednesday C 40+ - Northbrook Park District
LOCATION:TPPF #26
CATEGORIES:QuickScores, Softball - Adult Game
TRANSP:OPAQUE
BEGIN:VALARM
TRIGGER:-PT2H
ACTION:DISPLAY
DESCRIPTION:Disco Stu's vs. Defensive Indifference
END:VALARM
END:VEVENT
BEGIN:VEVENT
UID:northbrook-68679920-20250702T183000@quickscores.com
DTSTAMP:20260420T163400Z
DTSTART;TZID=America/Chicago:20250702T183000
DURATION:PT1H0M0S
SUMMARY:Disco Stu's vs. Wreckoncilers
DESCRIPTION:Wednesday C 40+ - Northbrook Park District
LOCATION:TPPF #26
CATEGORIES:QuickScores, Softball - Adult Game
TRANSP:OPAQUE
BEGIN:VALARM
TRIGGER:-PT2H
ACTION:DISPLAY
DESCRIPTION:Disco Stu's vs. Wreckoncilers
END:VALARM
END:VEVENT
BEGIN:VEVENT
UID:northbrook-68679870-20250702T203000@quickscores.com
DTSTAMP:20260420T163400Z
DTSTART;TZID=America/Chicago:20250702T203000
DURATION:PT1H0M0S
SUMMARY:Chuck's Pain Train Express vs. Disco Stu's
DESCRIPTION:Rescheduled from 5/14 --- Wednesday C 40+ - Northbrook Park District
LOCATION:TPPF #27
CATEGORIES:QuickScores, Softball - Adult Game
TRANSP:OPAQUE
BEGIN:VALARM
TRIGGER:-PT2H
ACTION:DISPLAY
DESCRIPTION:Chuck's Pain Train Express vs. Disco Stu's
END:VALARM
END:VEVENT
BEGIN:VEVENT
UID:northbrook-68679925-20250709T193000@quickscores.com
DTSTAMP:20260420T163400Z
DTSTART;TZID=America/Chicago:20250709T193000
DURATION:PT1H0M0S
SUMMARY:Disco Stu's vs. VH Novel Club
DESCRIPTION:Wednesday C 40+ - Northbrook Park District
LOCATION:TPPF #26
CATEGORIES:QuickScores, Softball - Adult Game
TRANSP:OPAQUE
BEGIN:VALARM
TRIGGER:-PT2H
ACTION:DISPLAY
DESCRIPTION:Disco Stu's vs. VH Novel Club
END:VALARM
END:VEVENT
BEGIN:VEVENT
UID:northbrook-68679863-20250716T183000@quickscores.com
DTSTAMP:20260420T163400Z
DTSTART;TZID=America/Chicago:20250716T183000
DURATION:PT1H0M0S
SUMMARY:The Knolls vs. Disco Stu's
DESCRIPTION:From 5/21 --- Wednesday C 40+ - Northbrook Park District
LOCATION:TPPF #28
CATEGORIES:QuickScores, Softball - Adult Game
TRANSP:OPAQUE
BEGIN:VALARM
TRIGGER:-PT2H
ACTION:DISPLAY
DESCRIPTION:The Knolls vs. Disco Stu's
END:VALARM
END:VEVENT
BEGIN:VEVENT
UID:northbrook-68679860-20250716T193000@quickscores.com
DTSTAMP:20260420T163400Z
DTSTART;TZID=America/Chicago:20250716T193000
DURATION:PT1H0M0S
SUMMARY:Disco Stu's vs. Crash Davis
DESCRIPTION:From 5/21 --- Wednesday C 40+ - Northbrook Park District
LOCATION:TPPF #28
CATEGORIES:QuickScores, Softball - Adult Game
TRANSP:OPAQUE
BEGIN:VALARM
TRIGGER:-PT2H
ACTION:DISPLAY
DESCRIPTION:Disco Stu's vs. Crash Davis
END:VALARM
END:VEVENT
BEGIN:VEVENT
UID:northbrook-68679876-20250723T183000@quickscores.com
DTSTAMP:20260420T163400Z
DTSTART;TZID=America/Chicago:20250723T183000
DURATION:PT1H0M0S
SUMMARY:Upper Deckers vs. Disco Stu's
DESCRIPTION:From 5/28 --- Wednesday C 40+ - Northbrook Park District
LOCATION:TPPF #28
CATEGORIES:QuickScores, Softball - Adult Game
TRANSP:OPAQUE
BEGIN:VALARM
TRIGGER:-PT2H
ACTION:DISPLAY
DESCRIPTION:Upper Deckers vs. Disco Stu's
END:VALARM
END:VEVENT
BEGIN:VEVENT
UID:northbrook-68679881-20250723T193000@quickscores.com
DTSTAMP:20260420T163400Z
DTSTART;TZID=America/Chicago:20250723T193000
DURATION:PT1H0M0S
SUMMARY:Disco Stu's vs. The Knolls
DESCRIPTION:From 5/28 --- Wednesday C 40+ - Northbrook Park District
LOCATION:TPPF #28
CATEGORIES:QuickScores, Softball - Adult Game
TRANSP:OPAQUE
BEGIN:VALARM
TRIGGER:-PT2H
ACTION:DISPLAY
DESCRIPTION:Disco Stu's vs. The Knolls
END:VALARM
END:VEVENT
BEGIN:VEVENT
UID:northbrook-68679887-20250730T193000@quickscores.com
DTSTAMP:20260420T163400Z
DTSTART;TZID=America/Chicago:20250730T193000
DURATION:PT1H0M0S
SUMMARY:G Unit vs. Disco Stu's
DESCRIPTION:From 6/4 --- Wednesday C 40+ - Northbrook Park District
LOCATION:TPPF #27
CATEGORIES:QuickScores, Softball - Adult Game
TRANSP:OPAQUE
BEGIN:VALARM
TRIGGER:-PT2H
ACTION:DISPLAY
DESCRIPTION:G Unit vs. Disco Stu's
END:VALARM
END:VEVENT
BEGIN:VEVENT
UID:northbrook-68679904-20250806T210500@quickscores.com
DTSTAMP:20260420T163400Z
DTSTART;TZID=America/Chicago:20250806T210500
DURATION:PT1H0M0S
SUMMARY:Straight Outta Glencoe vs. Disco Stu's
DESCRIPTION:From 6/18 --- Wednesday C 40+ - Northbrook Park District
LOCATION:TPPF #28
CATEGORIES:QuickScores, Softball - Adult Game
TRANSP:OPAQUE
BEGIN:VALARM
TRIGGER:-PT2H
ACTION:DISPLAY
DESCRIPTION:Straight Outta Glencoe vs. Disco Stu's
END:VALARM
END:VEVENT
BEGIN:VEVENT
UID:northbrook-68648925-20250813T183000@quickscores.com
DTSTAMP:20260420T163400Z
DTSTART;TZID=America/Chicago:20250813T183000
DURATION:PT1H0M0S
SUMMARY:[6] Disco Stu's vs. [11] Wreckoncilers
DESCRIPTION:Wednesday C 40+ - Northbrook Park District
LOCATION:TPPF #27
CATEGORIES:QuickScores, Softball - Adult Game
TRANSP:OPAQUE
BEGIN:VALARM
TRIGGER:-PT2H
ACTION:DISPLAY
DESCRIPTION:[6] Disco Stu's vs. [11] Wreckoncilers
END:VALARM
END:VEVENT
BEGIN:VEVENT
UID:northbrook-68648929-20250813T193000@quickscores.com
DTSTAMP:20260420T163400Z
DTSTART;TZID=America/Chicago:20250813T193000
DURATION:PT1H0M0S
SUMMARY:[3] Hit It And Quit It vs. [6] Disco Stu's
DESCRIPTION:Wednesday C 40+ - Northbrook Park District
LOCATION:TPPF #27
CATEGORIES:QuickScores, Softball - Adult Game
TRANSP:OPAQUE
BEGIN:VALARM
TRIGGER:-PT2H
ACTION:DISPLAY
DESCRIPTION:[3] Hit It And Quit It vs. [6] Disco Stu's
END:VALARM
END:VEVENT
BEGIN:VEVENT
UID:northbrook-68648931-20250820T183000@quickscores.com
DTSTAMP:20260420T163400Z
DTSTART;TZID=America/Chicago:20250820T183000
DURATION:PT1H0M0S
SUMMARY:[2] Upper Deckers vs. [6] Disco Stu's
DESCRIPTION:Wednesday C 40+ - Northbrook Park District
LOCATION:TPPF #28
CATEGORIES:QuickScores, Softball - Adult Game
TRANSP:OPAQUE
BEGIN:VALARM
TRIGGER:-PT2H
ACTION:DISPLAY
DESCRIPTION:[2] Upper Deckers vs. [6] Disco Stu's
END:VALARM
END:VEVENT
BEGIN:VEVENT
UID:northbrook-68648932-20250820T193000@quickscores.com
DTSTAMP:20260420T163400Z
DTSTART;TZID=America/Chicago:20250820T193000
DURATION:PT1H0M0S
SUMMARY:[4] Wally Werld vs. [6] Disco Stu's
DESCRIPTION:Wednesday C 40+ - Northbrook Park District
LOCATION:TPPF #26
CATEGORIES:QuickScores, Softball - Adult Game
TRANSP:OPAQUE
BEGIN:VALARM
TRIGGER:-PT2H
ACTION:DISPLAY
DESCRIPTION:[4] Wally Werld vs. [6] Disco Stu's
END:VALARM
END:VEVENT
END:VCALENDAR
